#------------------------------------------------------------------------------
#$Date: 2022-09-25 21:10:12 +0200 (dom 25 de sep de 2022) $
#$Revision: 278158 $
#$URL: svn://www.crystallography.net/cod/cif/1/01/07/1010782.cif $
#------------------------------------------------------------------------------
#
# This file is available in the Crystallography Open Database (COD),
# http://www.crystallography.net/
#
# All data on this site have been placed in the public domain by the
# contributors.
#
data_1010782
loop_
_publ_author_name
'Hassel, O'
_publ_section_title
;
Ueber die Existenz einer streng strukturtheoretisch nicht erlaubten
Isomorphie hoehersymmetrischer Kristalle von Hexammin Pentamminaquo-
und Tetrammindiaquo-Komplexen
;
_journal_coden_ASTM              NOGTAO
_journal_name_full               'Norsk Geologisk Tidsskrift'
_journal_page_first              32
_journal_page_last               38
_journal_volume                  10
_journal_year                    1928
_chemical_formula_structural     'Co (N H3)6 Co (C N)6'
_chemical_formula_sum            'Co2 H18 N12'
_chemical_name_systematic        'Hexamminecobalt(III) hexacyanocobaltate'
_cod_original_formula_sum        'H18 Co2 N12'
_cod_database_code               1010782
loop_
_atom_site_label
_atom_site_fract_x
_atom_site_fract_y
_atom_site_fract_z
? ? ? ?
