#------------------------------------------------------------------------------
#$Date: 2014-07-11 16:35:18 +0200 (vie 11 de jul de 2014) $
#$Revision: 120071 $
#$URL: svn://www.crystallography.net/cod/cif/1/01/07/1010785.cif $
#------------------------------------------------------------------------------
#
# This file is available in the Crystallography Open Database (COD),
# http://www.crystallography.net/
#
# All data on this site have been placed in the public domain by the
# contributors.
#
data_1010785
_chemical_name_systematic          'Sodium iron hexacyanoferrate'
_chemical_formula_structural       'Fe Na Fe (C N)6'
_chemical_formula_sum              'Fe2 N6 Na'
_publ_section_title
;
Structures and formulae of the prussian blues and related compounds
;
loop_
_publ_author_name
  'Keggin, J F'
  'Miles, F D'
_journal_name_full                 'Nature (London)'
_journal_coden_ASTM                NATUAS
_journal_volume                    137
_journal_year                      1936
_journal_page_first                577
_journal_page_last                 578
_cell_length_a                     10.2
_cell_length_b                     10.2
_cell_length_c                     10.2
_cell_angle_alpha                  90
_cell_angle_beta                   90
_cell_angle_gamma                  90
_cell_volume                       1061.2
_cell_formula_units_Z              0
loop_
_atom_site_label
_atom_site_fract_x
_atom_site_fract_y
_atom_site_fract_z
? ? ? ?
_cod_database_code 1010785
_journal_paper_doi 10.1038/137577a0
