#------------------------------------------------------------------------------
#$Date: 2022-09-25 21:10:12 +0200 (dom 25 de sep de 2022) $
#$Revision: 278158 $
#$URL: svn://www.crystallography.net/cod/cif/1/01/08/1010829.cif $
#------------------------------------------------------------------------------
#
# This file is available in the Crystallography Open Database (COD),
# http://www.crystallography.net/
#
# All data on this site have been placed in the public domain by the
# contributors.
#
data_1010829
loop_
_publ_author_name
'Ferrari, A'
'Coghi, L'
_publ_section_title              'Cobaltinitriti dei metalli bivalenti.'
_journal_coden_ASTM              GCITA9
_journal_name_full               'Gazzetta Chimica Italiana'
_journal_page_first              3
_journal_page_last               10
_journal_volume                  69
_journal_year                    1939
_chemical_formula_structural     'Ba3 (Co (N O2)6)2 (H2 O)12'
_chemical_formula_sum            'Ba3 Co2 H24 N12 O36'
_chemical_name_systematic        'Barium hexanitrocobaltate dodecahydrate'
_cell_angle_alpha                90
_cell_angle_beta                 90
_cell_angle_gamma                90
_cell_formula_units_Z            1
_cell_length_a                   10.57
_cell_length_b                   10.57
_cell_length_c                   10.57
_cell_volume                     1180.9
_cod_original_formula_sum        'H24 Ba3 Co2 N12 O36'
_cod_database_code               1010829
loop_
_atom_site_label
_atom_site_fract_x
_atom_site_fract_y
_atom_site_fract_z
? ? ? ?
