#------------------------------------------------------------------------------
#$Date: 2017-10-13 01:32:00 +0200 (vie 13 de oct de 2017) $
#$Revision: 201954 $
#$URL: svn://www.crystallography.net/cod/cif/1/50/27/1502726.cif $
#------------------------------------------------------------------------------
#
# This file is available in the Crystallography Open Database (COD),
# http://www.crystallography.net/
#
# All data on this site have been placed in the public domain by the
# contributors.
#
data_1502726
loop_
_publ_author_name
'Ośmiałowski, Borys'
'Kolehmainen, Erkki'
'Dobosz, Robert'
'Gawinecki, Ryszard'
'Kauppinen, Reijo'
'Valkonen, Arto'
'Koivukorpi, Juha'
'Rissanen, Kari'
_publ_section_title
;
 Self-organization of 2-acylaminopyridines in the solid state and in
 solution.
;
_journal_issue                   38
_journal_name_full               'The journal of physical chemistry. A'
_journal_page_first              10421
_journal_page_last               10426
_journal_paper_doi               10.1021/jp1063116
_journal_volume                  114
_journal_year                    2010
_chemical_formula_moiety         'C9 H12 N2 O'
_chemical_formula_sum            'C9 H12 N2 O'
_chemical_formula_weight         164.21
_chemical_name_systematic
;
 ?
;
_space_group_IT_number           15
_symmetry_cell_setting           monoclinic
_symmetry_space_group_name_Hall  '-C 2yc'
_symmetry_space_group_name_H-M   'C 1 2/c 1'
_atom_sites_solution_hydrogens   geom
_atom_sites_solution_primary     direct
_atom_sites_solution_secondary   difmap
_audit_creation_method           SHELXL-97
_cell_angle_alpha                90.00
_cell_angle_beta                 90.861(4)
_cell_angle_gamma                90.00
_cell_formula_units_Z            8
_cell_length_a                   15.0714(10)
_cell_length_b                   9.4669(6)
_cell_length_c                   12.7208(9)
_cell_measurement_reflns_used    2290
_cell_measurement_temperature    123(2)
_cell_measurement_theta_max      28.283
_cell_measurement_theta_min      0.407
_cell_volume                     1814.8(2)
_computing_cell_refinement       'DENZO-SMN (Otwinowski & Minor, 1997)'
_computing_data_collection       'Collect (Bruker, 2008)'
_computing_data_reduction        DENZO-SMN
_computing_molecular_graphics
'ORTEP-3 (Farrugia, 1997); MERCURY (Macrae, et al., 2008)'
_computing_publication_material  SHELXL-97
_computing_structure_refinement  'SHELXL-97 (Sheldrick, 2008)'
_computing_structure_solution    'SIR-2004 (Burla, et al., 2005)'
_diffrn_ambient_temperature      123(2)
_diffrn_detector_area_resol_mean 9
_diffrn_measured_fraction_theta_full 0.999
_diffrn_measured_fraction_theta_max 0.999
_diffrn_measurement_device_type
'Bruker-Nonius Kappa CCD with APEXII detector'
_diffrn_measurement_method       'φ and ω scans'
_diffrn_radiation_monochromator  graphite
_diffrn_radiation_source         'fine-focus sealed tube'
_diffrn_radiation_type           MoK\a
_diffrn_radiation_wavelength     0.71073
_diffrn_reflns_av_R_equivalents  0.0393
_diffrn_reflns_av_sigmaI/netI    0.0511
_diffrn_reflns_limit_h_max       19
_diffrn_reflns_limit_h_min       -19
_diffrn_reflns_limit_k_max       10
_diffrn_reflns_limit_k_min       -12
_diffrn_reflns_limit_l_max       16
_diffrn_reflns_limit_l_min       -16
_diffrn_reflns_number            3691
_diffrn_reflns_theta_full        27.49
_diffrn_reflns_theta_max         27.49
_diffrn_reflns_theta_min         2.54
_exptl_absorpt_coefficient_mu    0.081
_exptl_absorpt_correction_type   none
_exptl_crystal_colour            colourless
_exptl_crystal_density_diffrn    1.202
_exptl_crystal_density_method    'not measured'
_exptl_crystal_description       block
_exptl_crystal_F_000             704
_exptl_crystal_size_max          0.22
_exptl_crystal_size_mid          0.16
_exptl_crystal_size_min          0.07
_refine_diff_density_max         0.230
_refine_diff_density_min         -0.200
_refine_diff_density_rms         0.045
_refine_ls_extinction_method     none
_refine_ls_goodness_of_fit_ref   1.068
_refine_ls_hydrogen_treatment    mixed
_refine_ls_matrix_type           full
_refine_ls_number_parameters     112
_refine_ls_number_reflns         2091
_refine_ls_number_restraints     1
_refine_ls_restrained_S_all      1.068
_refine_ls_R_factor_all          0.0911
_refine_ls_R_factor_gt           0.0592
_refine_ls_shift/su_max          0.000
_refine_ls_shift/su_mean         0.000
_refine_ls_structure_factor_coef Fsqd
_refine_ls_weighting_details
'calc w=1/[σ²(Fo²)+(0.0281P)²+2.5915P] where P=(Fo²+2Fc²)/3'
_refine_ls_weighting_scheme      calc
_refine_ls_wR_factor_gt          0.1087
_refine_ls_wR_factor_ref         0.1209
_reflns_number_gt                1496
_reflns_number_total             2091
_reflns_threshold_expression     >2σ(I)
_cod_data_source_file            jp1063116_si_006.cif
_cod_data_source_block           2-isomap
_cod_original_sg_symbol_H-M      C2/c
_cod_database_code               1502726
loop_
_symmetry_equiv_pos_as_xyz
'x, y, z'
'-x, y, -z+1/2'
'x+1/2, y+1/2, z'
'-x+1/2, y+1/2, -z+1/2'
'-x, -y, -z'
'x, -y, z-1/2'
'-x+1/2, -y+1/2, -z'
'x+1/2, -y+1/2, z-1/2'
loop_
_atom_site_label
_atom_site_type_symbol
_atom_site_fract_x
_atom_site_fract_y
_atom_site_fract_z
_atom_site_U_iso_or_equiv
_atom_site_adp_type
_atom_site_occupancy
_atom_site_symmetry_multiplicity
_atom_site_calc_flag
_atom_site_refinement_flags
O8 O 0.60929(9) 0.28628(15) 0.48929(11) 0.0355(4) Uani 1 1 d .
N1 N 0.61689(10) 0.02378(17) 0.22401(12) 0.0272(4) Uani 1 1 d .
N7 N 0.55683(10) 0.12548(17) 0.37015(13) 0.0261(4) Uani 1 1 d D
H7 H 0.5072(11) 0.084(2) 0.3459(16) 0.031 Uiso 1 1 d D
C2 C 0.63404(12) 0.09259(19) 0.31443(15) 0.0246(4) Uani 1 1 d .
C3 C 0.71946(12) 0.1236(2) 0.34969(15) 0.0273(4) Uani 1 1 d .
H3 H 0.7294 0.1728 0.4139 0.033 Uiso 1 1 calc R
C4 C 0.78960(13) 0.0808(2) 0.28866(16) 0.0298(5) Uani 1 1 d .
H4 H 0.8488 0.1020 0.3101 0.036 Uiso 1 1 calc R
C5 C 0.77376(13) 0.0073(2) 0.19658(16) 0.0306(5) Uani 1 1 d .
H5 H 0.8212 -0.0245 0.1543 0.037 Uiso 1 1 calc R
C6 C 0.68666(13) -0.0185(2) 0.16807(16) 0.0300(5) Uani 1 1 d .
H6 H 0.6754 -0.0694 0.1049 0.036 Uiso 1 1 calc R
C8 C 0.54787(13) 0.21592(19) 0.45290(14) 0.0248(4) Uani 1 1 d .
C9 C 0.45448(12) 0.2231(2) 0.49570(15) 0.0274(4) Uani 1 1 d .
H9 H 0.4258 0.1287 0.4858 0.033 Uiso 1 1 calc R
C10 C 0.45716(14) 0.2570(2) 0.61317(16) 0.0347(5) Uani 1 1 d .
H10A H 0.3965 0.2607 0.6397 0.052 Uiso 1 1 calc R
H10B H 0.4861 0.3486 0.6244 0.052 Uiso 1 1 calc R
H10C H 0.4906 0.1835 0.6507 0.052 Uiso 1 1 calc R
C11 C 0.39997(14) 0.3332(2) 0.43417(17) 0.0368(5) Uani 1 1 d .
H11A H 0.3396 0.3367 0.4617 0.055 Uiso 1 1 calc R
H11B H 0.3976 0.3070 0.3596 0.055 Uiso 1 1 calc R
H11C H 0.4279 0.4262 0.4419 0.055 Uiso 1 1 calc R
loop_
_atom_site_aniso_label
_atom_site_aniso_U_11
_atom_site_aniso_U_22
_atom_site_aniso_U_33
_atom_site_aniso_U_23
_atom_site_aniso_U_13
_atom_site_aniso_U_12
O8 0.0323(8) 0.0389(8) 0.0352(8) -0.0089(7) 0.0000(6) -0.0043(6)
N1 0.0255(8) 0.0291(8) 0.0271(9) -0.0026(7) 0.0007(7) -0.0002(7)
N7 0.0216(8) 0.0303(9) 0.0262(9) -0.0025(7) -0.0004(6) -0.0009(7)
C2 0.0245(9) 0.0237(9) 0.0256(10) 0.0028(7) 0.0016(8) 0.0007(7)
C3 0.0267(10) 0.0291(10) 0.0259(10) 0.0004(8) -0.0028(8) -0.0021(8)
C4 0.0227(9) 0.0303(10) 0.0364(12) 0.0035(9) -0.0020(8) -0.0005(8)
C5 0.0258(10) 0.0304(10) 0.0357(12) 0.0004(9) 0.0053(9) 0.0029(8)
C6 0.0294(11) 0.0316(10) 0.0291(11) -0.0039(8) 0.0030(8) 0.0019(8)
C8 0.0291(10) 0.0238(9) 0.0213(9) 0.0024(8) -0.0007(7) 0.0027(8)
C9 0.0274(10) 0.0278(10) 0.0268(10) 0.0005(8) 0.0012(8) 0.0022(8)
C10 0.0363(11) 0.0374(12) 0.0307(12) -0.0003(9) 0.0067(9) 0.0038(9)
C11 0.0351(12) 0.0376(12) 0.0376(12) 0.0001(10) -0.0024(9) 0.0090(9)
loop_
_atom_type_symbol
_atom_type_description
_atom_type_scat_dispersion_real
_atom_type_scat_dispersion_imag
_atom_type_scat_source
C C 0.0033 0.0016 'International Tables Vol C Tables 4.2.6.8 and 6.1.1.4'
H H 0.0000 0.0000 'International Tables Vol C Tables 4.2.6.8 and 6.1.1.4'
N N 0.0061 0.0033 'International Tables Vol C Tables 4.2.6.8 and 6.1.1.4'
O O 0.0106 0.0060 'International Tables Vol C Tables 4.2.6.8 and 6.1.1.4'
loop_
_geom_angle_atom_site_label_1
_geom_angle_atom_site_label_2
_geom_angle_atom_site_label_3
_geom_angle
C6 N1 C2 117.20(17)
C8 N7 C2 128.28(16)
C8 N7 H7 116.8(13)
C2 N7 H7 114.9(13)
N1 C2 C3 123.00(17)
N1 C2 N7 112.88(16)
C3 C2 N7 124.09(18)
C4 C3 C2 118.03(18)
C4 C3 H3 121.0
C2 C3 H3 121.0
C5 C4 C3 120.06(18)
C5 C4 H4 120.0
C3 C4 H4 120.0
C6 C5 C4 117.67(18)
C6 C5 H5 121.2
C4 C5 H5 121.2
N1 C6 C5 124.01(19)
N1 C6 H6 118.0
C5 C6 H6 118.0
O8 C8 N7 123.33(18)
O8 C8 C9 122.63(17)
N7 C8 C9 114.04(16)
C8 C9 C10 110.42(16)
C8 C9 C11 109.85(16)
C10 C9 C11 111.23(16)
C8 C9 H9 108.4
C10 C9 H9 108.4
C11 C9 H9 108.4
C9 C10 H10A 109.5
C9 C10 H10B 109.5
H10A C10 H10B 109.5
C9 C10 H10C 109.5
H10A C10 H10C 109.5
H10B C10 H10C 109.5
C9 C11 H11A 109.5
C9 C11 H11B 109.5
H11A C11 H11B 109.5
C9 C11 H11C 109.5
H11A C11 H11C 109.5
H11B C11 H11C 109.5
loop_
_geom_bond_atom_site_label_1
_geom_bond_atom_site_label_2
_geom_bond_distance
O8 C8 1.225(2)
N1 C6 1.340(2)
N1 C2 1.344(2)
N7 C8 1.365(2)
N7 C2 1.407(2)
N7 H7 0.896(15)
C2 C3 1.388(3)
C3 C4 1.382(3)
C3 H3 0.9500
C4 C5 1.380(3)
C4 H4 0.9500
C5 C6 1.378(3)
C5 H5 0.9500
C6 H6 0.9500
C8 C9 1.518(3)
C9 C10 1.528(3)
C9 C11 1.534(3)
C9 H9 1.0000
C10 H10A 0.9800
C10 H10B 0.9800
C10 H10C 0.9800
C11 H11A 0.9800
C11 H11B 0.9800
C11 H11C 0.9800
loop_
_geom_hbond_atom_site_label_D
_geom_hbond_atom_site_label_H
_geom_hbond_atom_site_label_A
_geom_hbond_distance_DH
_geom_hbond_distance_HA
_geom_hbond_distance_DA
_geom_hbond_angle_DHA
_geom_hbond_site_symmetry_A
N7 H7 N1 0.896(15) 2.136(16) 3.020(2) 168.9(19) 2_655
loop_
_geom_torsion_atom_site_label_1
_geom_torsion_atom_site_label_2
_geom_torsion_atom_site_label_3
_geom_torsion_atom_site_label_4
_geom_torsion
C6 N1 C2 C3 1.6(3)
C6 N1 C2 N7 -176.64(16)
C8 N7 C2 N1 -166.55(18)
C8 N7 C2 C3 15.3(3)
N1 C2 C3 C4 -0.3(3)
N7 C2 C3 C4 177.75(18)
C2 C3 C4 C5 -1.1(3)
C3 C4 C5 C6 1.1(3)
C2 N1 C6 C5 -1.6(3)
C4 C5 C6 N1 0.2(3)
C2 N7 C8 O8 1.9(3)
C2 N7 C8 C9 -178.63(17)
O8 C8 C9 C10 -30.4(3)
N7 C8 C9 C10 150.12(16)
O8 C8 C9 C11 92.6(2)
N7 C8 C9 C11 -86.8(2)
loop_
_cod_related_entry_id
_cod_related_entry_database
_cod_related_entry_code
1 ChemSpider 2849992
