#------------------------------------------------------------------------------
#$Date: 2018-09-27 06:13:35 +0200 (jue 27 de sep de 2018) $
#$Revision: 211196 $
#$URL: svn://www.crystallography.net/cod/cif/1/50/91/1509183.cif $
#------------------------------------------------------------------------------
#
# This file is available in the Crystallography Open Database (COD),
# http://www.crystallography.net/
#
# All data on this site have been placed in the public domain by the
# contributors.
#
data_1509183
loop_
_publ_author_name
'Methfessel, S.'
'Ihrig, H.'
_publ_section_title
;
 Martensitic transformation in CeAgₓIn₁₋ₓ and other lanthanide compounds
;
_journal_issue                   4
_journal_name_full               'Zeitschrift für Physik B'
_journal_page_first              381
_journal_page_last               383
_journal_paper_doi               10.1007/BF01351529
_journal_volume                  24
_journal_year                    1976
_chemical_formula_sum            'Ag Ce'
_space_group_IT_number           221
_symmetry_space_group_name_Hall  '-P 4 2 3'
_symmetry_space_group_name_H-M   'P m -3 m'
_cell_angle_alpha                90
_cell_angle_beta                 90
_cell_angle_gamma                90
_cell_formula_units_Z            1
_cell_length_a                   3.78
_cell_length_b                   3.78
_cell_length_c                   3.78
_cell_volume                     54.010
_citation_journal_id_ASTM        ZPBBDJ
_cod_data_source_file            silver1-2_145.cif
_cod_data_source_block           Ag1Ce1
_cod_original_cell_volume        54.01015
_cod_original_formula_sum        'Ag1 Ce1'
_cod_database_code               1509183
loop_
_symmetry_equiv_pos_as_xyz
x,y,z
-y,x,z
-x,-y,z
y,-x,z
x,-y,-z
y,x,-z
-x,y,-z
-y,-x,-z
z,x,y
-x,z,y
-z,-x,y
x,-z,y
z,-x,-y
x,z,-y
-z,x,-y
-x,-z,-y
y,z,x
y,-z,-x
z,y,-x
-y,z,-x
-z,-y,-x
-y,-z,x
z,-y,x
-z,y,x
-x,-y,-z
y,-x,-z
x,y,-z
-y,x,-z
-x,y,z
-y,-x,z
x,-y,z
y,x,z
-z,-x,-y
x,-z,-y
z,x,-y
-x,z,-y
-z,x,y
-x,-z,y
z,-x,y
x,z,y
-y,-z,-x
-y,z,x
-z,-y,x
y,-z,x
z,y,x
y,z,-x
-z,y,-x
z,-y,-x
loop_
_atom_site_label
_atom_site_type_symbol
_atom_site_fract_x
_atom_site_fract_y
_atom_site_fract_z
_atom_site_occupancy
_atom_site_U_iso_or_equiv
Ag1 Ag 0 0 0 1 0.0
Ce1 Ce 0.5 0.5 0.5 1 0.0
