#------------------------------------------------------------------------------
#$Date: 2016-02-14 15:26:36 +0100 (dom 14 de feb de 2016) $
#$Revision: 176435 $
#$URL: svn://www.crystallography.net/cod/cif/1/51/03/1510339.cif $
#------------------------------------------------------------------------------
#
# This file is available in the Crystallography Open Database (COD),
# http://www.crystallography.net/
#
# All data on this site have been placed in the public domain by the
# contributors.
#
data_1510339
loop_
_publ_author_name
'Fornasini, M.L.'
'Canepa, F.'
'Pani, M.'
'Merlo, F.'
_publ_section_title
;
 Phases around the 1:1:1 composition in the Yb-Au-Ge and Ca-Au-Ge systems
;
_journal_name_full               'Journal of Alloys Compd.'
_journal_page_first              82
_journal_page_last               88
_journal_paper_doi               10.1016/S0925-8388(97)00278-8
_journal_volume                  264
_journal_year                    1998
_chemical_formula_sum            'Au1.24 Ca Ge0.76'
_chemical_name_systematic        'Ca Au1.24 Ge0.76'
_space_group_IT_number           44
_symmetry_space_group_name_Hall  'I 2 -2'
_symmetry_space_group_name_H-M   'I m m 2'
_cell_angle_alpha                90
_cell_angle_beta                 90
_cell_angle_gamma                90
_cell_formula_units_Z            4
_cell_length_a                   4.523
_cell_length_b                   7.154
_cell_length_c                   7.802
_cell_volume                     252.454
_citation_journal_id_ASTM        JALCEU
_cod_data_source_file            gold_412.cif
_cod_data_source_block           Au1.24Ca1Ge0.76
_cod_original_cell_volume        252.4535
_cod_original_formula_sum        'Au1.24 Ca1 Ge0.76'
_cod_database_code               1510339
loop_
_symmetry_equiv_pos_as_xyz
x,y,z
-x,-y,z
-x,y,z
x,-y,z
x+1/2,y+1/2,z+1/2
-x+1/2,-y+1/2,z+1/2
-x+1/2,y+1/2,z+1/2
x+1/2,-y+1/2,z+1/2
loop_
_atom_site_label
_atom_site_type_symbol
_atom_site_fract_x
_atom_site_fract_y
_atom_site_fract_z
_atom_site_occupancy
_atom_site_U_iso_or_equiv
Au2 Au 0 0.3081 0.3352 0.24 0.0
Au1 Au 0 0.2147 0.0046 1 0.0
Ca2 Ca 0 0.5 0.714 1 0.0
Ge1 Ge 0 0.3081 0.3352 0.76 0.0
Ca1 Ca 0 0 0.634 1 0.0
