#------------------------------------------------------------------------------
#$Date: 2018-09-27 06:13:35 +0200 (jue 27 de sep de 2018) $
#$Revision: 211196 $
#$URL: svn://www.crystallography.net/cod/cif/1/51/04/1510492.cif $
#------------------------------------------------------------------------------
#
# This file is available in the Crystallography Open Database (COD),
# http://www.crystallography.net/
#
# All data on this site have been placed in the public domain by the
# contributors.
#
data_1510492
loop_
_publ_author_name
'Kubiak, R.'
'Janczak, J.'
_publ_section_title
;
 X-ray study of ordered phase formation in Au31.6 Cu68.4, Au50 Cu50 and
 Au75 Cu25
;
_journal_name_full               'Journal of Alloys Compd.'
_journal_page_first              133
_journal_page_last               140
_journal_paper_doi               10.1016/0925-8388(91)90018-Q
_journal_volume                  176
_journal_year                    1991
_chemical_formula_sum            'Au3 Cu'
_space_group_IT_number           221
_symmetry_space_group_name_Hall  '-P 4 2 3'
_symmetry_space_group_name_H-M   'P m -3 m'
_cell_angle_alpha                90
_cell_angle_beta                 90
_cell_angle_gamma                90
_cell_formula_units_Z            1
_cell_length_a                   3.98
_cell_length_b                   3.98
_cell_length_c                   3.98
_cell_volume                     63.045
_citation_journal_id_ASTM        JALCEU
_cod_data_source_file            gold_589.cif
_cod_data_source_block           Au3Cu1
_cod_original_cell_volume        63.04479
_cod_original_formula_sum        'Au3 Cu1'
_cod_database_code               1510492
loop_
_symmetry_equiv_pos_as_xyz
x,y,z
-y,x,z
-x,-y,z
y,-x,z
x,-y,-z
y,x,-z
-x,y,-z
-y,-x,-z
z,x,y
-x,z,y
-z,-x,y
x,-z,y
z,-x,-y
x,z,-y
-z,x,-y
-x,-z,-y
y,z,x
y,-z,-x
z,y,-x
-y,z,-x
-z,-y,-x
-y,-z,x
z,-y,x
-z,y,x
-x,-y,-z
y,-x,-z
x,y,-z
-y,x,-z
-x,y,z
-y,-x,z
x,-y,z
y,x,z
-z,-x,-y
x,-z,-y
z,x,-y
-x,z,-y
-z,x,y
-x,-z,y
z,-x,y
x,z,y
-y,-z,-x
-y,z,x
-z,-y,x
y,-z,x
z,y,x
y,z,-x
-z,y,-x
z,-y,-x
loop_
_atom_site_label
_atom_site_type_symbol
_atom_site_fract_x
_atom_site_fract_y
_atom_site_fract_z
_atom_site_occupancy
_atom_site_U_iso_or_equiv
Au1 Au 0 0.5 0.5 1 0.0
Cu1 Cu 0 0 0 1 0.0
