#------------------------------------------------------------------------------
#$Date: 2016-02-14 15:26:36 +0100 (dom 14 de feb de 2016) $
#$Revision: 176435 $
#$URL: svn://www.crystallography.net/cod/cif/1/51/12/1511230.cif $
#------------------------------------------------------------------------------
#
# This file is available in the Crystallography Open Database (COD),
# http://www.crystallography.net/
#
# All data on this site have been placed in the public domain by the
# contributors.
#
data_1511230
loop_
_publ_author_name
'Vijayaraghavan, R.'
_publ_section_title
;
 Studies on Ce- and Eu-based mixed valent materials
;
_journal_name_full               'Journal of Magnetism and Magnetic Materials'
_journal_page_first              561
_journal_page_last               566
_journal_volume                  47
_journal_year                    1985
_chemical_formula_sum            'B Lu Rh3'
_chemical_name_systematic        'Lu Rh3 B'
_space_group_IT_number           221
_symmetry_space_group_name_Hall  '-P 4 2 3'
_symmetry_space_group_name_H-M   'P m -3 m'
_cell_angle_alpha                90
_cell_angle_beta                 90
_cell_angle_gamma                90
_cell_formula_units_Z            1
_cell_length_a                   4.137
_cell_length_b                   4.137
_cell_length_c                   4.137
_cell_volume                     70.804
_citation_journal_id_ASTM        JMMMDC
_cod_data_source_file            boron0-1_344.cif
_cod_data_source_block           B1Lu1Rh3
_cod_original_cell_volume        70.8038
_cod_original_formula_sum        'B1 Lu1 Rh3'
_cod_database_code               1511230
loop_
_symmetry_equiv_pos_as_xyz
x,y,z
-y,x,z
-x,-y,z
y,-x,z
x,-y,-z
y,x,-z
-x,y,-z
-y,-x,-z
z,x,y
-x,z,y
-z,-x,y
x,-z,y
z,-x,-y
x,z,-y
-z,x,-y
-x,-z,-y
y,z,x
y,-z,-x
z,y,-x
-y,z,-x
-z,-y,-x
-y,-z,x
z,-y,x
-z,y,x
-x,-y,-z
y,-x,-z
x,y,-z
-y,x,-z
-x,y,z
-y,-x,z
x,-y,z
y,x,z
-z,-x,-y
x,-z,-y
z,x,-y
-x,z,-y
-z,x,y
-x,-z,y
z,-x,y
x,z,y
-y,-z,-x
-y,z,x
-z,-y,x
y,-z,x
z,y,x
y,z,-x
-z,y,-x
z,-y,-x
loop_
_atom_site_label
_atom_site_type_symbol
_atom_site_fract_x
_atom_site_fract_y
_atom_site_fract_z
_atom_site_occupancy
_atom_site_U_iso_or_equiv
Rh1 Rh 0 0.5 0.5 1 0.0
B1 B 0.5 0.5 0.5 1 0.0
Lu1 Lu 0 0 0 1 0.0
