#------------------------------------------------------------------------------
#$Date: 2016-02-14 05:40:26 +0100 (dom 14 de feb de 2016) $
#$Revision: 176432 $
#$URL: svn://www.crystallography.net/cod/cif/1/51/18/1511835.cif $
#------------------------------------------------------------------------------
#
# This file is available in the Crystallography Open Database (COD),
# http://www.crystallography.net/
#
# All data on this site have been placed in the public domain by the
# contributors.
#
data_1511835
loop_
_publ_author_name
'Cai, Weizhao'
'Marciniak, Jędrzej'
'Andrzejewski, Michał'
'Katrusiak, Andrzej'
_publ_section_title
;
 Pressure Effect ond,l-Mandelic Acid Racemate Crystallization
;
_journal_issue                   14
_journal_name_full               'The Journal of Physical Chemistry C'
_journal_page_first              7279
_journal_paper_doi               10.1021/jp401626a
_journal_volume                  117
_journal_year                    2013
_chemical_formula_moiety         'C8 H8 O3'
_chemical_formula_sum            'C8 H8 O3'
_chemical_formula_weight         152.14
_chemical_name_common            mandelic_acid
_chemical_name_systematic
; 
 ? 
;
_space_group_IT_number           14
_symmetry_cell_setting           monoclinic
_symmetry_space_group_name_Hall  '-P 2ybc'
_symmetry_space_group_name_H-M   'P 1 21/c 1'
_atom_sites_solution_hydrogens   geom
_atom_sites_solution_primary     direct
_atom_sites_solution_secondary   difmap
_audit_creation_method           SHELXL-97
_cell_angle_alpha                90.00
_cell_angle_beta                 93.03(4)
_cell_angle_gamma                90.00
_cell_formula_units_Z            8
_cell_length_a                   5.825(2)
_cell_length_b                   28.908(11)
_cell_length_c                   8.224(6)
_cell_measurement_pressure       760000
_cell_measurement_reflns_used    4768
_cell_measurement_temperature    296(2)
_cell_measurement_theta_max      27.67
_cell_measurement_theta_min      2.82
_cell_volume                     1382.9(12)
_computing_cell_refinement       'CrysAlis (Oxford Diffraction, 2004)'
_computing_data_collection       'CrysAlis (Oxford Diffraction, 2004)'
_computing_data_reduction        'CrysAlisRED (Oxford Diffraction, 2004)'
_computing_molecular_graphics    'Mercury (Macrae et al., 2008)'
_computing_publication_material  'SHELXL-97 (Sheldrick, 2008)'
_computing_structure_refinement  'SHELXL-97 (Sheldrick, 2008)'
_computing_structure_solution    'SHELXS-97 (Sheldrick, 2008)'
_diffrn_ambient_temperature      296(2)
_diffrn_measured_fraction_theta_full 0.211
_diffrn_measured_fraction_theta_max 0.211
_diffrn_measurement_device_type  'Kuma KM4CCD κ geometry'
_diffrn_measurement_method
;HP omega scans - for more details see:
A. Budzianowski, A. Katrusiak in High-Pressure Crystallography
(Eds.: A. Katrusiak, P. F. McMillan),
Dordrecht: Kluwer Acad. Publ., 2004 pp.157-168
;
_diffrn_radiation_monochromator  graphite
_diffrn_radiation_source         'fine-focus sealed tube'
_diffrn_radiation_type           MoK\a
_diffrn_radiation_wavelength     0.71073
_diffrn_reflns_av_R_equivalents  0.2296
_diffrn_reflns_av_sigmaI/netI    0.1165
_diffrn_reflns_limit_h_max       7
_diffrn_reflns_limit_h_min       -7
_diffrn_reflns_limit_k_max       34
_diffrn_reflns_limit_k_min       -34
_diffrn_reflns_limit_l_max       4
_diffrn_reflns_limit_l_min       -4
_diffrn_reflns_number            4768
_diffrn_reflns_theta_full        27.67
_diffrn_reflns_theta_max         27.67
_diffrn_reflns_theta_min         2.82
_exptl_absorpt_coefficient_mu    0.113
_exptl_absorpt_correction_T_max  0.919
_exptl_absorpt_correction_T_min  0.495
_exptl_absorpt_correction_type   analytical
_exptl_absorpt_process_details
;
Katrusiak, A. (2003). REDSHABS - Program for correcting
reflections intensities for DAC absorption, gasket shadowing
and sample crystal absorption. Adam Mickiewicz University, Poznań.
Katrusiak, A. (2004). Z. Kristallogr. 219, 461-467
;
_exptl_crystal_colour            colourless
_exptl_crystal_density_diffrn    1.462
_exptl_crystal_density_method    'not measured'
_exptl_crystal_description       plate-shaped
_exptl_crystal_F_000             640
_exptl_crystal_size_max          0.42
_exptl_crystal_size_mid          0.32
_exptl_crystal_size_min          0.14
_refine_diff_density_max         0.281
_refine_diff_density_min         -0.265
_refine_diff_density_rms         0.067
_refine_ls_extinction_method     none
_refine_ls_goodness_of_fit_ref   1.335
_refine_ls_hydrogen_treatment    constr
_refine_ls_matrix_type           full
_refine_ls_number_parameters     199
_refine_ls_number_reflns         684
_refine_ls_number_restraints     302
_refine_ls_restrained_S_all      1.089
_refine_ls_R_factor_all          0.2242
_refine_ls_R_factor_gt           0.2052
_refine_ls_shift/su_max          0.002
_refine_ls_shift/su_mean         0.000
_refine_ls_structure_factor_coef Fsqd
_refine_ls_weighting_details
'calc w=1/[σ²(Fo²)+(0.1218P)²+19.2746P] where P=(Fo²+2Fc²)/3'
_refine_ls_weighting_scheme      calc
_refine_ls_wR_factor_gt          0.4101
_refine_ls_wR_factor_ref         0.4214
_reflns_number_gt                598
_reflns_number_total             684
_reflns_threshold_expression     >2sigma(I)
_cod_data_source_file            jp401626a_si_002.cif
_cod_data_source_block           mandelic_acid_0.76GPa(CCDC923830)
_cod_original_sg_symbol_Hall     '-p 2ybc'
_cod_original_sg_symbol_H-M      'P 21/c'
_cod_database_code               1511835
loop_
_symmetry_equiv_pos_as_xyz
'x, y, z'
'-x, y+1/2, -z+1/2'
'-x, -y, -z'
'x, -y-1/2, z-1/2'
loop_
_atom_site_label
_atom_site_type_symbol
_atom_site_fract_x
_atom_site_fract_y
_atom_site_fract_z
_atom_site_U_iso_or_equiv
_atom_site_adp_type
_atom_site_occupancy
_atom_site_symmetry_multiplicity
_atom_site_calc_flag
_atom_site_refinement_flags
C1A C 0.270(2) 0.0521(5) 0.327(2) 0.025(3) Uani 1 1 d DU
C2A C 0.4918(19) 0.0694(4) 0.259(3) 0.025(3) Uani 1 1 d DU
H2A H 0.4932 0.0592 0.1458 0.030 Uiso 1 1 calc R
C3A C 0.523(2) 0.1214(4) 0.261(2) 0.025(4) Uani 1 1 d DU
C4A C 0.441(2) 0.1489(4) 0.381(3) 0.026(4) Uani 1 1 d DU
H4A H 0.3639 0.1343 0.4627 0.032 Uiso 1 1 calc R
C5A C 0.463(2) 0.1956(4) 0.389(3) 0.024(4) Uani 1 1 d DU
H5A H 0.4021 0.2126 0.4722 0.029 Uiso 1 1 calc R
C6A C 0.578(2) 0.2164(4) 0.268(2) 0.016(3) Uani 1 1 d DU
H6A H 0.6022 0.2482 0.2721 0.019 Uiso 1 1 calc R
C7A C 0.657(3) 0.1915(4) 0.142(3) 0.034(5) Uani 1 1 d DU
H7A H 0.7240 0.2064 0.0557 0.041 Uiso 1 1 calc R
C8A C 0.638(3) 0.1443(4) 0.143(3) 0.029(5) Uani 1 1 d DU
H8A H 0.7038 0.1272 0.0618 0.034 Uiso 1 1 calc R
O1A O 0.0837(16) 0.0704(3) 0.251(2) 0.034(3) Uani 1 1 d DU
H1A H -0.0546 0.0584 0.3002 0.051 Uiso 1 1 calc RD
O2A O 0.2646(19) 0.0254(3) 0.439(2) 0.037(4) Uani 1 1 d DU
O3A O 0.6891(16) 0.0500(3) 0.344(2) 0.028(3) Uani 1 1 d DU
H3A H 0.6438 0.0222 0.4033 0.042 Uiso 1 1 calc R
C1B C 0.762(2) 0.0517(5) 0.826(2) 0.028(4) Uani 1 1 d DU
C2B C 0.993(2) 0.0668(4) 0.764(3) 0.034(4) Uani 1 1 d DU
H2B H 0.9891 0.0567 0.6502 0.041 Uiso 1 1 calc R
C3B C 1.024(2) 0.1188(4) 0.757(3) 0.031(4) Uani 1 1 d DU
C4B C 1.122(2) 0.1407(4) 0.891(3) 0.032(4) Uani 1 1 d DU
H4B H 1.1739 0.1236 0.9816 0.038 Uiso 1 1 calc R
C5B C 1.143(2) 0.1880(4) 0.892(3) 0.033(4) Uani 1 1 d DU
H5B H 1.2207 0.2026 0.9799 0.040 Uiso 1 1 calc R
C6B C 1.051(3) 0.2139(5) 0.765(3) 0.033(4) Uani 1 1 d DU
H6B H 1.0430 0.2460 0.7722 0.040 Uiso 1 1 calc R
C7B C 0.971(3) 0.1914(4) 0.626(3) 0.038(4) Uani 1 1 d DU
H7B H 0.9343 0.2083 0.5320 0.045 Uiso 1 1 calc R
C8B C 0.944(3) 0.1438(4) 0.624(3) 0.036(4) Uani 1 1 d DU
H8B H 0.8735 0.1291 0.5339 0.044 Uiso 1 1 calc R
O1B O 0.5852(17) 0.0712(3) 0.747(2) 0.034(3) Uani 1 1 d DU
H1B H 0.4424 0.0617 0.7962 0.051 Uiso 1 1 calc R
O2B O 0.7718(19) 0.0252(3) 0.940(2) 0.038(4) Uani 1 1 d DU
O3B O 1.1897(17) 0.0449(3) 0.838(2) 0.037(3) Uani 1 1 d DU
H3B H 1.1417 0.0233 0.9222 0.056 Uiso 1 1 calc RD
loop_
_atom_site_aniso_label
_atom_site_aniso_U_11
_atom_site_aniso_U_22
_atom_site_aniso_U_33
_atom_site_aniso_U_23
_atom_site_aniso_U_13
_atom_site_aniso_U_12
C1A 0.025(4) 0.025(4) 0.026(5) -0.001(3) 0.002(3) 0.001(2)
C2A 0.025(3) 0.025(3) 0.025(3) 0.0000(10) 0.0013(10) 0.0002(9)
C3A 0.025(7) 0.024(5) 0.027(10) -0.005(5) 0.000(7) 0.002(4)
C4A 0.029(7) 0.024(5) 0.026(10) -0.002(6) 0.006(8) -0.008(5)
C5A 0.026(7) 0.026(5) 0.022(10) -0.003(6) 0.004(7) 0.000(5)
C6A 0.016(3) 0.016(3) 0.016(3) 0.0002(10) 0.0007(10) 0.0000(9)
C7A 0.041(7) 0.033(5) 0.028(10) -0.001(6) 0.014(8) 0.001(5)
C8A 0.031(7) 0.029(5) 0.026(10) 0.002(6) 0.004(8) 0.009(5)
O1A 0.034(3) 0.034(3) 0.034(3) 0.0001(10) 0.0017(10) 0.0000(9)
O2A 0.040(6) 0.037(5) 0.036(10) 0.009(6) 0.010(6) 0.003(4)
O3A 0.023(4) 0.033(4) 0.028(6) 0.001(4) 0.005(4) 0.001(3)
C1B 0.028(4) 0.028(4) 0.028(4) -0.001(2) 0.002(2) 0.001(2)
C2B 0.035(5) 0.033(5) 0.034(10) 0.000(6) 0.007(6) 0.000(5)
C3B 0.036(7) 0.030(5) 0.028(9) -0.003(5) 0.012(7) -0.003(5)
C4B 0.031(5) 0.033(4) 0.032(6) 0.001(4) 0.002(4) 0.001(4)
C5B 0.033(4) 0.034(4) 0.034(5) 0.000(3) 0.002(3) 0.000(3)
C6B 0.037(6) 0.030(5) 0.033(7) 0.001(4) 0.003(5) -0.004(4)
C7B 0.045(7) 0.034(5) 0.034(8) 0.001(6) 0.001(7) -0.005(6)
C8B 0.038(8) 0.033(5) 0.037(9) -0.005(6) -0.004(7) 0.001(6)
O1B 0.033(3) 0.035(3) 0.034(4) 0.002(2) 0.002(2) -0.001(2)
O2B 0.040(5) 0.038(4) 0.036(6) 0.004(4) 0.005(4) -0.004(3)
O3B 0.037(4) 0.037(4) 0.037(4) 0.000(3) 0.001(3) -0.001(2)
loop_
_atom_type_symbol
_atom_type_description
_atom_type_scat_dispersion_real
_atom_type_scat_dispersion_imag
_atom_type_scat_source
C C 0.0033 0.0016 'International Tables Vol C Tables 4.2.6.8 and 6.1.1.4'
H H 0.0000 0.0000 'International Tables Vol C Tables 4.2.6.8 and 6.1.1.4'
O O 0.0106 0.0060 'International Tables Vol C Tables 4.2.6.8 and 6.1.1.4'
loop_
_geom_angle_atom_site_label_1
_geom_angle_atom_site_label_2
_geom_angle_atom_site_label_3
_geom_angle
O2A C1A O1A 124.1(13)
O2A C1A C2A 123.1(13)
O1A C1A C2A 112.8(11)
C1A C2A C3A 115.3(11)
C1A C2A O3A 111.9(11)
C3A C2A O3A 107.1(11)
C8A C3A C4A 115.4(12)
C8A C3A C2A 122.4(12)
C4A C3A C2A 122.2(13)
C5A C4A C3A 125.0(14)
C4A C5A C6A 116.9(14)
C5A C6A C7A 121.2(14)
C8A C7A C6A 119.2(17)
C3A C8A C7A 122.0(15)
O2B C1B O1B 131.1(13)
O2B C1B C2B 115.8(14)
O1B C1B C2B 113.1(11)
O3B C2B C3B 111.6(12)
O3B C2B C1B 115.7(12)
C3B C2B C1B 113.8(11)
C4B C3B C8B 120.5(9)
C4B C3B C2B 118.1(15)
C8B C3B C2B 121.3(14)
C3B C4B C5B 119.9(14)
C4B C5B C6B 120.4(14)
C7B C6B C5B 118.5(10)
C6B C7B C8B 121.0(14)
C3B C8B C7B 118.7(13)
loop_
_geom_bond_atom_site_label_1
_geom_bond_atom_site_label_2
_geom_bond_distance
C1A O2A 1.204(11)
C1A O1A 1.329(10)
C1A C2A 1.519(10)
C2A C3A 1.515(10)
C2A O3A 1.427(11)
C3A C8A 1.374(11)
C3A C4A 1.372(11)
C4A C5A 1.359(10)
C5A C6A 1.365(11)
C6A C7A 1.367(11)
C7A C8A 1.369(10)
C1B O2B 1.210(11)
C1B O1B 1.318(10)
C1B C2B 1.528(10)
C2B O3B 1.417(11)
C2B C3B 1.514(10)
C3B C4B 1.373(10)
C3B C8B 1.371(10)
C4B C5B 1.373(10)
C5B C6B 1.376(10)
C6B C7B 1.374(10)
C7B C8B 1.385(10)
loop_
_geom_torsion_atom_site_label_1
_geom_torsion_atom_site_label_2
_geom_torsion_atom_site_label_3
_geom_torsion_atom_site_label_4
_geom_torsion
O2A C1A C2A C3A -122(2)
O1A C1A C2A C3A 56(2)
O2A C1A C2A O3A 0(3)
O1A C1A C2A O3A 179.0(15)
C1A C2A C3A C8A -147.1(18)
O3A C2A C3A C8A 88(2)
C1A C2A C3A C4A 33(2)
O3A C2A C3A C4A -91.7(15)
C8A C3A C4A C5A 0.7(15)
C2A C3A C4A C5A -179.8(15)
C3A C4A C5A C6A -0.6(15)
C4A C5A C6A C7A 3(2)
C5A C6A C7A C8A -5(2)
C4A C3A C8A C7A -3(2)
C2A C3A C8A C7A 177.4(17)
C6A C7A C8A C3A 6(3)
O2B C1B C2B O3B 5(3)
O1B C1B C2B O3B -176.4(16)
O2B C1B C2B C3B -126(2)
O1B C1B C2B C3B 52(2)
O3B C2B C3B C4B -42.4(19)
C1B C2B C3B C4B 90.7(18)
O3B C2B C3B C8B 141.1(17)
C1B C2B C3B C8B -86(2)
C8B C3B C4B C5B -0.7(15)
C2B C3B C4B C5B -177.2(12)
C3B C4B C5B C6B 5.1(15)
C4B C5B C6B C7B -10(2)
C5B C6B C7B C8B 12(3)
C4B C3B C8B C7B 2(2)
C2B C3B C8B C7B 178.2(14)
C6B C7B C8B C3B -7(3)
