#------------------------------------------------------------------------------
#$Date: 2016-02-18 16:37:37 +0100 (jue 18 de feb de 2016) $
#$Revision: 176729 $
#$URL: svn://www.crystallography.net/cod/cif/1/51/26/1512630.cif $
#------------------------------------------------------------------------------
#
# This file is available in the Crystallography Open Database (COD),
# http://www.crystallography.net/
#
# All data on this site have been placed in the public domain by the
# contributors.
#
data_1512630
loop_
_publ_author_name
'Jaspreet S. Dhau'
'Amritpal Singh'
'Avtar Singh'
'Balwinder S. Sooch'
'Paula Brandao'
'Vitor Felix'
_publ_section_title
;
 Synthesis, characterization and X-ray structure of 3,4-lutidinyl-,
 3-/4-picolyl- and pyridylselenium compounds
;
_journal_name_full
;
Inorganica Chimica Acta
;
_journal_page_first              335
_journal_page_last               344
_journal_paper_doi               10.1016/j.ica.2012.03.043
_journal_volume                  392
_journal_year                    2012
_chemical_formula_sum            'C8 H11 N Se2'
_chemical_formula_weight         279.10
_space_group_IT_number           14
_symmetry_cell_setting           monoclinic
_symmetry_space_group_name_Hall  '-P 2ybc'
_symmetry_space_group_name_H-M   'P 1 21/c 1'
_atom_sites_solution_hydrogens   geom
_atom_sites_solution_primary     direct
_atom_sites_solution_secondary   difmap
_cell_angle_alpha                90.00
_cell_angle_beta                 100.286(2)
_cell_angle_gamma                90.00
_cell_formula_units_Z            4
_cell_length_a                   8.1417(5)
_cell_length_b                   21.6308(14)
_cell_length_c                   5.6145(3)
_cell_measurement_temperature    150(2)
_cell_volume                     972.89(10)
_computing_cell_refinement       'Bruker SMART'
_computing_data_collection       'Bruker SMART'
_computing_data_reduction        'Bruker SAINT'
_computing_molecular_graphics    'PLATON (Spek, 2008)'
_computing_publication_material  'SHELXL-97 (Sheldrick, 1997)'
_computing_structure_refinement  'SHELXL-97 (Sheldrick, 1997)'
_computing_structure_solution    'SHELXS-97 (Sheldrick, 1990)'
_diffrn_ambient_temperature      150(2)
_diffrn_measured_fraction_theta_full 0.969
_diffrn_measured_fraction_theta_max 0.969
_diffrn_measurement_device_type  CCD
_diffrn_measurement_method       'omega and phi scans'
_diffrn_radiation_monochromator  graphite
_diffrn_radiation_source         'fine-focus sealed tube'
_diffrn_radiation_type           MoK\a
_diffrn_radiation_wavelength     0.71073
_diffrn_reflns_av_R_equivalents  0.0390
_diffrn_reflns_av_sigmaI/netI    0.0397
_diffrn_reflns_limit_h_max       9
_diffrn_reflns_limit_h_min       -9
_diffrn_reflns_limit_k_max       26
_diffrn_reflns_limit_k_min       -26
_diffrn_reflns_limit_l_max       6
_diffrn_reflns_limit_l_min       -5
_diffrn_reflns_number            7470
_diffrn_reflns_theta_full        25.73
_diffrn_reflns_theta_max         25.73
_diffrn_reflns_theta_min         2.54
_diffrn_standards_interval_count 0.5
_diffrn_standards_interval_time  10
_exptl_absorpt_coefficient_mu    7.540
_exptl_absorpt_correction_T_max  0.5193
_exptl_absorpt_correction_T_min  0.1524
_exptl_absorpt_correction_type   multi-scan
_exptl_crystal_colour            colourless
_exptl_crystal_density_diffrn    1.905
_exptl_crystal_density_method    'not measured'
_exptl_crystal_description       Block
_exptl_crystal_F_000             536
_exptl_crystal_size_max          0.40
_exptl_crystal_size_mid          0.30
_exptl_crystal_size_min          0.10
_refine_diff_density_max         1.644
_refine_diff_density_min         -1.073
_refine_diff_density_rms         0.277
_refine_ls_extinction_method     none
_refine_ls_goodness_of_fit_ref   1.093
_refine_ls_hydrogen_treatment    constr
_refine_ls_matrix_type           full
_refine_ls_number_parameters     103
_refine_ls_number_reflns         1839
_refine_ls_number_restraints     0
_refine_ls_restrained_S_all      1.093
_refine_ls_R_factor_all          0.0520
_refine_ls_R_factor_gt           0.0463
_refine_ls_shift/su_max          0.001
_refine_ls_shift/su_mean         0.000
_refine_ls_structure_factor_coef Fsqd
_refine_ls_weighting_details
'w=1/[σ²(Fo²)+(0.1008P)²+1.1445P] where P=(Fo²+2Fc²)/3'
_refine_ls_weighting_scheme      calc
_refine_ls_wR_factor_gt          0.1437
_refine_ls_wR_factor_ref         0.1479
_reflns_number_gt                1636
_reflns_number_total             1839
_reflns_threshold_expression     >2sigma(I)
_cod_data_source_file            ICA-2012-392-335-344-3.cif
_cod_data_source_block           compound_7c
_cod_depositor_comments
;
The following automatic conversions were performed:

'_refine_ls_weighting_scheme' value 'calc
w=1/[\s^2^(Fo^2^)+(0.1008P)^2^+1.1445P] where P=(Fo^2^+2Fc^2^)/3' was
changed to 'calc'. New tag '_refine_ls_weighting_details' was
created. The value of the new tag was set to
'w=1/[\s^2^(Fo^2^)+(0.1008P)^2^+1.1445P] where P=(Fo^2^+2Fc^2^)/3'.

Automatic conversion script
Id: cif_fix_values 3143 2015-03-26 13:38:13Z robertas 
;
_cod_original_sg_symbol_H-M      P21/c
_cod_database_code               1512630
loop_
_symmetry_equiv_pos_as_xyz
'x, y, z'
'-x, y+1/2, -z+1/2'
'-x, -y, -z'
'x, -y-1/2, z-1/2'
loop_
_atom_site_label
_atom_site_type_symbol
_atom_site_fract_x
_atom_site_fract_y
_atom_site_fract_z
_atom_site_U_iso_or_equiv
_atom_site_adp_type
_atom_site_occupancy
_atom_site_calc_flag
_atom_site_refinement_flags
Se21 Se 0.18260(7) 0.68033(3) 0.60257(10) 0.0329(3) Uani 1 d .
Se61 Se -0.35964(7) 0.52482(2) 0.28878(10) 0.0305(3) Uani 1 d .
N1 N -0.1032(5) 0.60688(18) 0.4809(7) 0.0239(9) Uani 1 d .
C2 C -0.0372(7) 0.6522(2) 0.6274(9) 0.0255(11) Uani 1 d .
C3 C -0.1171(7) 0.6807(2) 0.7979(10) 0.0284(12) Uani 1 d .
H3 H -0.0633 0.7127 0.8984 0.034 Uiso 1 calc R
C4 C -0.2776(7) 0.6614(2) 0.8190(9) 0.0253(11) Uani 1 d .
C5 C -0.3482(7) 0.6141(2) 0.6644(9) 0.0238(11) Uani 1 d .
H5 H -0.4575 0.5994 0.6700 0.029 Uiso 1 calc R
C6 C -0.2562(7) 0.5887(2) 0.5021(9) 0.0239(11) Uani 1 d .
C22 C 0.2157(8) 0.6322(3) 0.3240(11) 0.0401(14) Uani 1 d .
H22A H 0.2065 0.5881 0.3594 0.048 Uiso 1 calc R
H22B H 0.3268 0.6407 0.2875 0.048 Uiso 1 calc R
H22C H 0.1305 0.6433 0.1843 0.048 Uiso 1 calc R
C41 C -0.3706(7) 0.6907(2) 0.9973(10) 0.0298(12) Uani 1 d .
H41A H -0.2954 0.6956 1.1531 0.036 Uiso 1 calc R
H41B H -0.4648 0.6643 1.0183 0.036 Uiso 1 calc R
H41C H -0.4124 0.7313 0.9368 0.036 Uiso 1 calc R
C62 C -0.1732(8) 0.5051(3) 0.1314(11) 0.0380(14) Uani 1 d .
H62A H -0.1329 0.5429 0.0649 0.046 Uiso 1 calc R
H62B H -0.2093 0.4755 0.0002 0.046 Uiso 1 calc R
H62C H -0.0831 0.4868 0.2496 0.046 Uiso 1 calc R
loop_
_atom_site_aniso_label
_atom_site_aniso_U_11
_atom_site_aniso_U_22
_atom_site_aniso_U_33
_atom_site_aniso_U_23
_atom_site_aniso_U_13
_atom_site_aniso_U_12
Se21 0.0190(4) 0.0365(4) 0.0424(4) -0.0019(2) 0.0034(3) -0.0027(2)
Se61 0.0318(4) 0.0283(4) 0.0321(4) -0.0089(2) 0.0074(3) -0.0065(2)
N1 0.020(2) 0.022(2) 0.028(2) 0.0024(17) 0.0011(17) 0.0014(18)
C2 0.024(3) 0.022(2) 0.028(3) 0.004(2) -0.002(2) 0.003(2)
C3 0.030(3) 0.023(2) 0.029(3) 0.000(2) -0.003(2) -0.004(2)
C4 0.029(3) 0.020(2) 0.025(2) 0.003(2) 0.001(2) 0.000(2)
C5 0.022(3) 0.022(2) 0.026(2) -0.0000(19) 0.002(2) -0.003(2)
C6 0.025(3) 0.022(2) 0.023(2) 0.0004(19) -0.0008(19) -0.001(2)
C22 0.033(4) 0.052(4) 0.035(3) -0.002(3) 0.006(3) 0.001(3)
C41 0.035(3) 0.028(3) 0.028(3) -0.005(2) 0.009(2) -0.001(2)
C62 0.044(4) 0.035(3) 0.035(3) -0.005(3) 0.008(3) 0.006(3)
loop_
_atom_type_symbol
_atom_type_description
_atom_type_scat_dispersion_real
_atom_type_scat_dispersion_imag
_atom_type_scat_source
C C 0.0033 0.0016 'International Tables Vol C Tables 4.2.6.8 and 6.1.1.4'
H H 0.0000 0.0000 'International Tables Vol C Tables 4.2.6.8 and 6.1.1.4'
N N 0.0061 0.0033 'International Tables Vol C Tables 4.2.6.8 and 6.1.1.4'
Se Se -0.0929 2.2259 'International Tables Vol C Tables 4.2.6.8 and 6.1.1.4'
loop_
_geom_angle_atom_site_label_1
_geom_angle_atom_site_label_2
_geom_angle_atom_site_label_3
_geom_angle
C2 Se21 C22 98.9(2)
C6 Se61 C62 98.7(3)
C2 N1 C6 116.3(4)
N1 C2 C3 124.3(5)
N1 C2 Se21 117.9(4)
C3 C2 Se21 117.8(4)
C2 C3 C4 119.0(5)
C2 C3 H3 120.5
C4 C3 H3 120.5
C3 C4 C5 117.0(5)
C3 C4 C41 121.4(5)
C5 C4 C41 121.6(5)
C6 C5 C4 119.1(5)
C6 C5 H5 120.5
C4 C5 H5 120.5
N1 C6 C5 124.3(5)
N1 C6 Se61 118.0(4)
C5 C6 Se61 117.7(4)
Se21 C22 H22A 109.5
Se21 C22 H22B 109.5
H22A C22 H22B 109.5
Se21 C22 H22C 109.5
H22A C22 H22C 109.5
H22B C22 H22C 109.5
C4 C41 H41A 109.5
C4 C41 H41B 109.5
H41A C41 H41B 109.5
C4 C41 H41C 109.5
H41A C41 H41C 109.5
H41B C41 H41C 109.5
Se61 C62 H62A 109.5
Se61 C62 H62B 109.5
H62A C62 H62B 109.5
Se61 C62 H62C 109.5
H62A C62 H62C 109.5
H62B C62 H62C 109.5
loop_
_geom_bond_atom_site_label_1
_geom_bond_atom_site_label_2
_geom_bond_distance
Se21 C2 1.919(6)
Se21 C22 1.938(6)
Se61 C6 1.921(5)
Se61 C62 1.935(6)
N1 C2 1.330(7)
N1 C6 1.332(7)
C2 C3 1.393(8)
C3 C4 1.397(8)
C3 H3 0.9500
C4 C5 1.397(7)
C4 C41 1.499(7)
C5 C6 1.392(7)
C5 H5 0.9500
C22 H22A 0.9800
C22 H22B 0.9800
C22 H22C 0.9800
C41 H41A 0.9800
C41 H41B 0.9800
C41 H41C 0.9800
C62 H62A 0.9800
C62 H62B 0.9800
C62 H62C 0.9800
