#------------------------------------------------------------------------------
#$Date: 2016-02-18 16:37:37 +0100 (jue 18 de feb de 2016) $
#$Revision: 176729 $
#$URL: svn://www.crystallography.net/cod/cif/1/51/35/1513579.cif $
#------------------------------------------------------------------------------
#
# This file is available in the Crystallography Open Database (COD),
# http://www.crystallography.net/
#
# All data on this site have been placed in the public domain by the
# contributors.
#
data_1513579
loop_
_publ_author_name
'Mukherjee, Arijit'
'Desiraju, Gautam R.'
_publ_section_title
;
 Halogen bonds in some dihalogenated phenols: applications to crystal
 engineering
;
_journal_issue                   1
_journal_name_full               IUCrJ
_journal_page_first              49
_journal_page_last               60
_journal_paper_doi               10.1107/S2052252513025657
_journal_volume                  1
_journal_year                    2014
_chemical_formula_moiety         'C6 H4 Cl2 O'
_chemical_formula_sum            'C6 H4 Cl2 O'
_chemical_formula_weight         162.99
_chemical_name_common            3,4-dichlorophenol
_space_group_IT_number           88
_symmetry_cell_setting           tetragonal
_symmetry_space_group_name_Hall  '-I 4ad'
_symmetry_space_group_name_H-M   'I 41/a :2'
_atom_sites_solution_hydrogens   geom
_atom_sites_solution_primary     direct
_atom_sites_solution_secondary   difmap
_audit_creation_method           SHELXL-97
_cell_angle_alpha                90.00
_cell_angle_beta                 90.00
_cell_angle_gamma                90.00
_cell_formula_units_Z            16
_cell_length_a                   26.251(10)
_cell_length_b                   26.251(10)
_cell_length_c                   3.8524(11)
_cell_measurement_reflns_used    6767
_cell_measurement_temperature    296(2)
_cell_measurement_theta_max      27.6
_cell_measurement_theta_min      3.1
_cell_volume                     2654.7(16)
_computing_cell_refinement       CrystalClear
_computing_data_collection       'CrystalClear (Rigaku, 2009)'
_computing_data_reduction        CrystalClear
_computing_structure_refinement  'SHELXL-97 (Sheldrick, 2008)'
_computing_structure_solution    'SHELXL-97 (Sheldrick, 2008)'
_diffrn_ambient_temperature      296(2)
_diffrn_detector                 CCD
_diffrn_detector_area_resol_mean 13.6612
_diffrn_measured_fraction_theta_full 0.997
_diffrn_measured_fraction_theta_max 0.997
_diffrn_measurement_device
;
XtaLABmini: Fixed Chi 2 circle
;
_diffrn_measurement_device_type
;
Rigaku Mercury375R (2x2 bin mode)
;
_diffrn_measurement_specimen_support Fiber
_diffrn_radiation_monochromator  'Graphite Monochromator'
_diffrn_radiation_source         'fine-focus sealed tube'
_diffrn_radiation_type           MoK\a
_diffrn_radiation_wavelength     0.71073
_diffrn_reflns_av_R_equivalents  0.0920
_diffrn_reflns_av_sigmaI/netI    0.0528
_diffrn_reflns_limit_h_max       33
_diffrn_reflns_limit_h_min       -34
_diffrn_reflns_limit_k_max       34
_diffrn_reflns_limit_k_min       -34
_diffrn_reflns_limit_l_max       4
_diffrn_reflns_limit_l_min       -4
_diffrn_reflns_number            9768
_diffrn_reflns_theta_full        27.48
_diffrn_reflns_theta_max         27.48
_diffrn_reflns_theta_min         3.10
_exptl_absorpt_coefficient_mu    0.880
_exptl_absorpt_correction_T_max  1.000
_exptl_absorpt_correction_T_min  0.502
_exptl_absorpt_correction_type   multi-scan
_exptl_absorpt_process_details   'Jacobson, R. (1998) Private communication'
_exptl_crystal_colour            colourless
_exptl_crystal_density_diffrn    1.631
_exptl_crystal_density_method    'not measured'
_exptl_crystal_description       needle
_exptl_crystal_F_000             1312
_exptl_crystal_size_max          0.5
_exptl_crystal_size_mid          0.1
_exptl_crystal_size_min          0.1
_refine_diff_density_max         0.378
_refine_diff_density_min         -0.251
_refine_diff_density_rms         0.075
_refine_ls_extinction_coef       0.0024(6)
_refine_ls_extinction_expression Fc^*^=kFc[1+0.001xFc²λ³/sin(2θ)]^-1/4^
_refine_ls_extinction_method     SHELXL
_refine_ls_goodness_of_fit_ref   0.994
_refine_ls_hydrogen_treatment    mixed
_refine_ls_matrix_type           full
_refine_ls_number_parameters     87
_refine_ls_number_reflns         1505
_refine_ls_number_restraints     0
_refine_ls_restrained_S_all      0.994
_refine_ls_R_factor_all          0.0902
_refine_ls_R_factor_gt           0.0504
_refine_ls_shift/su_max          0.001
_refine_ls_shift/su_mean         0.000
_refine_ls_structure_factor_coef Fsqd
_refine_ls_weighting_details
'calc w=1/[σ²(Fo²)+(0.0683P)²+0.0000P] where P=(Fo²+2Fc²)/3'
_refine_ls_weighting_scheme      calc
_refine_ls_wR_factor_gt          0.1186
_refine_ls_wR_factor_ref         0.1402
_reflns_number_gt                917
_reflns_number_total             1505
_reflns_threshold_expression     >2σ(I)
_cod_data_source_file            bi5001sup1.cif
_cod_data_source_block           1_296K
_cod_original_sg_symbol_H-M      I41/a
_cod_database_code               1513579
#BEGIN Tags that were not found in dictionaries:
_publcif_datablock.id            {26e7bd9b-cf2f-46e4-a628-66d9d5217ced}
#END Tags that were not found in dictionaries
loop_
_symmetry_equiv_pos_as_xyz
'x, y, z'
'-x+1/2, -y, z+1/2'
'-y+3/4, x+1/4, z+1/4'
'y+3/4, -x+3/4, z+3/4'
'x+1/2, y+1/2, z+1/2'
'-x+1, -y+1/2, z+1'
'-y+5/4, x+3/4, z+3/4'
'y+5/4, -x+5/4, z+5/4'
'-x, -y, -z'
'x-1/2, y, -z-1/2'
'y-3/4, -x-1/4, -z-1/4'
'-y-3/4, x-3/4, -z-3/4'
'-x+1/2, -y+1/2, -z+1/2'
'x, y+1/2, -z'
'y-1/4, -x+1/4, -z+1/4'
'-y-1/4, x-1/4, -z-1/4'
loop_
_atom_site_label
_atom_site_type_symbol
_atom_site_fract_x
_atom_site_fract_y
_atom_site_fract_z
_atom_site_U_iso_or_equiv
_atom_site_adp_type
_atom_site_occupancy
_atom_site_symmetry_multiplicity
_atom_site_calc_flag
_atom_site_refinement_flags
O1 O 0.78832(8) 0.55734(10) 0.5852(6) 0.0607(7) Uani 1 1 d .
H1O H 0.7985(14) 0.5268(14) 0.648(9) 0.075(12) Uiso 1 1 d .
C2 C 0.87153(11) 0.55752(11) 0.3330(8) 0.0483(7) Uani 1 1 d .
H2 H 0.8721 0.5221 0.3374 0.058 Uiso 1 1 calc R
C6 C 0.82788(11) 0.63590(11) 0.4359(8) 0.0507(8) Uani 1 1 d .
H6 H 0.7992 0.6532 0.5135 0.061 Uiso 1 1 calc R
C4 C 0.91183(11) 0.63705(12) 0.1925(8) 0.0478(7) Uani 1 1 d .
C1 C 0.82971(11) 0.58329(12) 0.4510(7) 0.0461(7) Uani 1 1 d .
C3 C 0.91309(11) 0.58450(12) 0.2066(8) 0.0472(7) Uani 1 1 d .
C5 C 0.86875(12) 0.66236(12) 0.3056(8) 0.0537(8) Uani 1 1 d .
H5 H 0.8674 0.6977 0.2934 0.064 Uiso 1 1 calc R
Cl1 Cl 0.96564(3) 0.55102(3) 0.0653(3) 0.0706(4) Uani 1 1 d .
Cl2 Cl 0.96334(3) 0.67110(4) 0.0394(2) 0.0673(4) Uani 1 1 d .
loop_
_atom_site_aniso_label
_atom_site_aniso_U_11
_atom_site_aniso_U_22
_atom_site_aniso_U_33
_atom_site_aniso_U_23
_atom_site_aniso_U_13
_atom_site_aniso_U_12
O1 0.0479(13) 0.0575(15) 0.0768(18) 0.0107(13) 0.0007(11) 0.0003(11)
C2 0.0501(17) 0.0406(15) 0.0543(18) -0.0012(14) -0.0059(15) 0.0053(13)
C6 0.0473(17) 0.0492(18) 0.056(2) -0.0056(15) -0.0033(15) 0.0068(14)
C4 0.0461(17) 0.0546(18) 0.0427(17) 0.0012(14) -0.0069(14) -0.0010(14)
C1 0.0445(16) 0.0491(17) 0.0445(17) 0.0010(14) -0.0081(14) -0.0030(13)
C3 0.0447(16) 0.0518(18) 0.0450(17) -0.0050(14) -0.0034(14) 0.0082(14)
C5 0.0554(19) 0.0451(17) 0.061(2) 0.0010(15) -0.0088(16) 0.0020(14)
Cl1 0.0570(6) 0.0701(6) 0.0847(7) -0.0087(5) 0.0091(5) 0.0162(4)
Cl2 0.0559(6) 0.0691(6) 0.0770(7) 0.0137(5) 0.0009(4) -0.0079(4)
loop_
_atom_type_symbol
_atom_type_description
_atom_type_scat_dispersion_real
_atom_type_scat_dispersion_imag
_atom_type_scat_source
C C 0.0033 0.0016 'International Tables Vol C Tables 4.2.6.8 and 6.1.1.4'
H H 0.0000 0.0000 'International Tables Vol C Tables 4.2.6.8 and 6.1.1.4'
O O 0.0106 0.0060 'International Tables Vol C Tables 4.2.6.8 and 6.1.1.4'
Cl Cl 0.1484 0.1585 'International Tables Vol C Tables 4.2.6.8 and 6.1.1.4'
loop_
_geom_angle_atom_site_label_1
_geom_angle_atom_site_label_2
_geom_angle_atom_site_label_3
_geom_angle
C1 C2 C3 119.7(3)
C5 C6 C1 119.6(3)
C3 C4 C5 119.2(3)
C3 C4 Cl2 120.8(2)
C5 C4 Cl2 120.0(2)
C2 C1 O1 120.8(3)
C2 C1 C6 120.5(3)
O1 C1 C6 118.7(3)
C4 C3 C2 120.3(3)
C4 C3 Cl1 121.1(2)
C2 C3 Cl1 118.6(2)
C6 C5 C4 120.8(3)
loop_
_geom_bond_atom_site_label_1
_geom_bond_atom_site_label_2
_geom_bond_distance
O1 C1 1.383(4)
C2 C1 1.367(4)
C2 C3 1.389(4)
C6 C5 1.373(4)
C6 C1 1.383(4)
C4 C3 1.381(4)
C4 C5 1.382(4)
C4 Cl2 1.725(3)
C3 Cl1 1.724(3)
