#------------------------------------------------------------------------------
#$Date: 2016-02-18 16:37:37 +0100 (jue 18 de feb de 2016) $
#$Revision: 176729 $
#$URL: svn://www.crystallography.net/cod/cif/1/51/80/1518003.cif $
#------------------------------------------------------------------------------
#
# This file is available in the Crystallography Open Database (COD),
# http://www.crystallography.net/
#
# All data on this site have been placed in the public domain by the
# contributors.
#
data_1518003
loop_
_publ_author_name
'Bruce-Smith, Ian F.'
'Zakharov, Boris A.'
'Stare, Jernej'
'Boldyreva, Elena V.'
'Pulham, Colin R.'
_publ_section_title
;
 Structural Properties of Nickel Dimethylglyoxime at High Pressure:
 Single-Crystal X-ray Diffraction and DFT Studies
;
_journal_issue                   42
_journal_name_full               'The Journal of Physical Chemistry C'
_journal_page_first              24705
_journal_paper_doi               10.1021/jp508939g
_journal_volume                  118
_journal_year                    2014
_chemical_formula_moiety         'C8 H14 N4 Ni O4'
_chemical_formula_sum            'C8 H14 N4 Ni O4'
_chemical_formula_weight         288.94
_chemical_name_common            'Nickel Dimethylglyoxime'
_chemical_name_systematic
; 
Nickel Dimethylglyoxime
;
_space_group_IT_number           72
_symmetry_cell_setting           orthorhombic
_symmetry_space_group_name_Hall  '-I 2 2c'
_symmetry_space_group_name_H-M   'I b a m'
_atom_sites_solution_hydrogens   geom
_atom_sites_solution_primary     direct
_atom_sites_solution_secondary   difmap
_audit_creation_method           SHELXL-97
_cell_angle_alpha                90.00
_cell_angle_beta                 90.00
_cell_angle_gamma                90.00
_cell_formula_units_Z            4
_cell_length_a                   15.9507(13)
_cell_length_b                   9.9145(11)
_cell_length_c                   5.8872(3)
_cell_measurement_reflns_used    873
_cell_measurement_temperature    293(2)
_cell_measurement_theta_max      26.1710
_cell_measurement_theta_min      4.3440
_cell_volume                     931.02(14)
_computing_cell_refinement       'CrysAlisPro (Oxford Diffraction, 2010)'
_computing_data_collection       'CrysAlisPro (Oxford Diffraction, 2010)'
_computing_data_reduction        'CrysAlisPro (Oxford Diffraction, 2010)'
_computing_molecular_graphics    'Mercury (Macrae et al., 2006)'
_computing_structure_refinement  'SHELXL-97 (Sheldrick, 1997)'
_computing_structure_solution    'SHELXS-97 (Sheldrick, 1990)'
_diffrn_ambient_pressure         3900000
_diffrn_ambient_temperature      293(2)
_diffrn_detector_area_resol_mean 10.3457
_diffrn_measured_fraction_theta_full 0.669
_diffrn_measured_fraction_theta_max 0.669
_diffrn_measurement_device_type  'Xcalibur, Ruby, Gemini ultra'
_diffrn_measurement_method       'rotation method'
_diffrn_radiation_monochromator  graphite
_diffrn_radiation_source         'Enhance (Mo) X-ray Source'
_diffrn_radiation_type           MoK\a
_diffrn_radiation_wavelength     0.71073
_diffrn_reflns_av_R_equivalents  0.0950
_diffrn_reflns_av_sigmaI/netI    0.0670
_diffrn_reflns_limit_h_max       18
_diffrn_reflns_limit_h_min       -18
_diffrn_reflns_limit_k_max       10
_diffrn_reflns_limit_k_min       -10
_diffrn_reflns_limit_l_max       7
_diffrn_reflns_limit_l_min       -7
_diffrn_reflns_number            2723
_diffrn_reflns_theta_full        28.20
_diffrn_reflns_theta_max         28.20
_diffrn_reflns_theta_min         4.35
_diffrn_source_current           30
_diffrn_source_voltage           50
_exptl_absorpt_coefficient_mu    2.096
_exptl_absorpt_correction_T_max  0.444
_exptl_absorpt_correction_T_min  0.367
_exptl_absorpt_correction_type   gaussian
_exptl_absorpt_process_details   'Absorb-7 (Angel, 2013)'
_exptl_crystal_colour            'Red to purple'
_exptl_crystal_density_diffrn    2.061
_exptl_crystal_density_method    'not measured'
_exptl_crystal_description       Needles
_exptl_crystal_F_000             600
_exptl_crystal_size_max          0.140
_exptl_crystal_size_mid          0.055
_exptl_crystal_size_min          0.044
_refine_diff_density_max         0.376
_refine_diff_density_min         -0.362
_refine_diff_density_rms         0.095
_refine_ls_extinction_method     none
_refine_ls_goodness_of_fit_ref   1.070
_refine_ls_hydrogen_treatment    mixed
_refine_ls_matrix_type           full
_refine_ls_number_parameters     55
_refine_ls_number_reflns         422
_refine_ls_number_restraints     0
_refine_ls_restrained_S_all      1.070
_refine_ls_R_factor_all          0.0641
_refine_ls_R_factor_gt           0.0399
_refine_ls_shift/su_max          0.000
_refine_ls_shift/su_mean         0.000
_refine_ls_structure_factor_coef Fsqd
_refine_ls_weighting_details
'calc w=1/[σ²(Fo²)+(0.0386P)²+0.4579P] where P=(Fo²+2Fc²)/3'
_refine_ls_weighting_scheme      calc
_refine_ls_wR_factor_gt          0.0857
_refine_ls_wR_factor_ref         0.0959
_reflns_number_gt                314
_reflns_number_total             422
_reflns_threshold_expression     >2sigma(I)
_iucr_refine_instructions_details
;
TITL
CELL  0.71073 15.95067  9.91450  5.88724 90.00000 90.00000 90.00000
ZERR 4  0.00126  0.00111  0.00033  0.00000  0.00000  0.00000
LATT 2
SYMM -X, -Y, Z
SYMM X, -Y, -Z+ 0.50000
SYMM -X, Y, -Z+ 0.50000
SFAC C H N O NI 
UNIT 32 56 16 16 4 
PLAN 30
FMAP 2 
L.S. 100
EQIV $1 -X, -Y+1, -Z+1
HTAB O1 O2_$1
BOND
BOND $H
CONF
ACTA
FVAR  1.10560 
WGHT  0.03860   0.45790 
NI1   5 0.000000 0.500000 0.500000  10.250000 0.017020 0.016790 =
        0.016400 0.000000 0.000000 -0.001090 
O1    4 -0.055616 0.224682 0.500000  10.500000 0.028700 0.016450 =
        0.029720 0.000000 0.000000 -0.011440 
H5    2 -0.110418 0.310064 0.500000  10.500000 -1.200000 
O2    4 0.165329 0.600676 0.500000  10.500000 0.022030 0.023610 =
        0.029320 0.000000 0.000000 -0.006640 
N1    3 0.008894 0.314381 0.500000  10.500000 0.023490 0.010050 =
        0.018490 0.000000 0.000000 -0.005770 
N2    3 0.115386 0.491756 0.500000  10.500000 0.023180 0.005650 =
        0.015970 0.000000 0.000000 -0.008240 
C1    1 0.084824 0.262804 0.500000  10.500000 0.027820 0.013930 =
        0.010150 0.000000 0.000000 0.003270 
C2    1 0.148724 0.374129 0.500000  10.500000 0.028940 0.009980 =
        0.017200 0.000000 0.000000 0.002340 
C3    1 0.103818 0.120915 0.500000  10.500000 0.032940 0.014200 =
        0.029060 0.000000 0.000000 0.001450 
AFIX 33
H3A   2 0.080441 0.079799 0.366642  10.500000 -1.500000 
H3B   2 0.080170 0.079705 0.632924  10.500000 -1.500000 
H3C   2 0.163513 0.108581 0.500434  10.500000 -1.500000 
AFIX 0
C4    1 0.239314 0.353039 0.500000  10.500000 0.029500 0.025440 =
        0.038400 0.000000 0.000000 0.006410 
AFIX 33
H4A   2 0.263183 0.393049 0.633670  10.500000 -1.500000 
H4B   2 0.263280 0.394131 0.367393  10.500000 -1.500000 
H4C   2 0.251042 0.258069 0.498938  10.500000 -1.500000 
HKLF 4
REM
REM R1    0.0398 FOR    314 FO > 4SIG(FO)  AND  0.0641 FOR ALL    422 DATA
REM     55 PARAMETERS REFINED USING      0 RESTRAINTS
REM HIGHEST DIFFERENCE PEAK  0.376,  DEEPEST HOLE -0.362,  1-SIGMA LEVEL  0.095
END
;
_cod_data_source_file            jp508939g_si_001.cif
_cod_data_source_block           3.9GPa
_cod_depositor_comments
;
The following automatic conversions were performed:

'_symmetry_cell_setting' value 'Orthorhombic' changed to
'orthorhombic' according to
/home/saulius/struct/COD-crude-data--automatic-downloads/rss-feeds/ACS/lib/dictionaries/cif_core.dic
dictionary named 'cif_core.dic' version 2.4.2 from
2011-04-26.

'_exptl_absorpt_correction_type' value 'Gaussian'
changed to 'gaussian' according to
/home/saulius/struct/COD-crude-data--automatic-downloads/rss-feeds/ACS/lib/dictionaries/cif_core.dic
dictionary named 'cif_core.dic' version 2.4.2 from 2011-04-26.

Automatic conversion script
Id: cif_fix_values 2827 2014-09-09 07:05:25Z andrius 

 Adding full bibliography for 1517996--1518005.cif.
;
_cod_original_cell_volume        931.03(14)
_cod_original_sg_symbol_H-M      Ibam
_cod_database_code               1518003
loop_
_symmetry_equiv_pos_as_xyz
'x, y, z'
'-x, -y, z'
'x, -y, -z+1/2'
'-x, y, -z+1/2'
'x+1/2, y+1/2, z+1/2'
'-x+1/2, -y+1/2, z+1/2'
'x+1/2, -y+1/2, -z+1'
'-x+1/2, y+1/2, -z+1'
'-x, -y, -z'
'x, y, -z'
'-x, y, z-1/2'
'x, -y, z-1/2'
'-x+1/2, -y+1/2, -z+1/2'
'x+1/2, y+1/2, -z+1/2'
'-x+1/2, y+1/2, z'
'x+1/2, -y+1/2, z'
loop_
_atom_site_label
_atom_site_type_symbol
_atom_site_fract_x
_atom_site_fract_y
_atom_site_fract_z
_atom_site_U_iso_or_equiv
_atom_site_adp_type
_atom_site_occupancy
_atom_site_symmetry_multiplicity
_atom_site_calc_flag
_atom_site_refinement_flags
Ni1 Ni 0.0000 0.5000 0.5000 0.0167(4) Uani 1 4 d S
O1 O -0.0556(2) 0.2247(5) 0.5000 0.0249(11) Uani 1 2 d S
H5 H -0.110(4) 0.310(7) 0.5000 0.030 Uiso 1 2 d S
O2 O 0.1653(3) 0.6007(5) 0.5000 0.0250(11) Uani 1 2 d S
N1 N 0.0089(3) 0.3144(5) 0.5000 0.0173(12) Uani 1 2 d S
N2 N 0.1154(3) 0.4918(5) 0.5000 0.0149(11) Uani 1 2 d S
C1 C 0.0848(3) 0.2628(6) 0.5000 0.0173(15) Uani 1 2 d S
C2 C 0.1487(3) 0.3741(7) 0.5000 0.0187(14) Uani 1 2 d S
C3 C 0.1038(4) 0.1209(6) 0.5000 0.0254(15) Uani 1 2 d S
H3A H 0.0804 0.0798 0.3666 0.038 Uiso 0.50 1 calc PR
H3B H 0.0802 0.0797 0.6329 0.038 Uiso 0.50 1 calc PR
H3C H 0.1635 0.1086 0.5004 0.038 Uiso 1 2 calc SR
C4 C 0.2393(3) 0.3530(6) 0.5000 0.0311(16) Uani 1 2 d S
H4A H 0.2632 0.3931 0.6337 0.047 Uiso 0.50 1 calc PR
H4B H 0.2633 0.3941 0.3674 0.047 Uiso 0.50 1 calc PR
H4C H 0.2510 0.2581 0.4989 0.047 Uiso 1 2 calc SR
loop_
_atom_site_aniso_label
_atom_site_aniso_U_11
_atom_site_aniso_U_22
_atom_site_aniso_U_33
_atom_site_aniso_U_23
_atom_site_aniso_U_13
_atom_site_aniso_U_12
Ni1 0.0170(7) 0.0168(10) 0.0164(5) 0.000 0.000 -0.0011(4)
O1 0.029(3) 0.016(4) 0.030(2) 0.000 0.000 -0.0114(17)
O2 0.022(3) 0.024(4) 0.029(2) 0.000 0.000 -0.0066(18)
N1 0.023(3) 0.010(4) 0.0185(19) 0.000 0.000 -0.0058(19)
N2 0.023(3) 0.006(4) 0.0160(18) 0.000 0.000 -0.008(2)
C1 0.028(4) 0.014(6) 0.010(2) 0.000 0.000 0.003(2)
C2 0.029(4) 0.010(6) 0.017(3) 0.000 0.000 0.002(3)
C3 0.033(4) 0.014(5) 0.029(3) 0.000 0.000 0.001(2)
C4 0.030(4) 0.025(6) 0.038(3) 0.000 0.000 0.006(3)
loop_
_atom_type_symbol
_atom_type_description
_atom_type_scat_dispersion_real
_atom_type_scat_dispersion_imag
_atom_type_scat_source
C C 0.0033 0.0016 'International Tables Vol C Tables 4.2.6.8 and 6.1.1.4'
H H 0.0000 0.0000 'International Tables Vol C Tables 4.2.6.8 and 6.1.1.4'
N N 0.0061 0.0033 'International Tables Vol C Tables 4.2.6.8 and 6.1.1.4'
O O 0.0106 0.0060 'International Tables Vol C Tables 4.2.6.8 and 6.1.1.4'
Ni Ni 0.3393 1.1124 'International Tables Vol C Tables 4.2.6.8 and 6.1.1.4'
loop_
_geom_angle_atom_site_label_1
_geom_angle_atom_site_label_2
_geom_angle_atom_site_label_3
_geom_angle
_geom_angle_site_symmetry_1
_geom_angle_site_symmetry_3
N2 Ni1 N2 180.0 . 9_566
N2 Ni1 N1 96.95(19) . 9_566
N2 Ni1 N1 83.05(19) 9_566 9_566
N2 Ni1 N1 83.05(19) . .
N2 Ni1 N1 96.95(19) 9_566 .
N1 Ni1 N1 180.0 9_566 .
N2 Ni1 Ni1 90.0 . 3_566
N2 Ni1 Ni1 90.0 9_566 3_566
N1 Ni1 Ni1 90.0 9_566 3_566
N1 Ni1 Ni1 90.0 . 3_566
N2 Ni1 Ni1 90.0 . 3_565
N2 Ni1 Ni1 90.0 9_566 3_565
N1 Ni1 Ni1 90.0 9_566 3_565
N1 Ni1 Ni1 90.0 . 3_565
Ni1 Ni1 Ni1 180.0 3_566 3_565
N1 O1 H5 95(3) . .
C1 N1 O1 116.3(5) . .
C1 N1 Ni1 117.3(4) . .
O1 N1 Ni1 126.4(4) . .
C2 N2 O2 119.1(5) . .
C2 N2 Ni1 117.1(4) . .
O2 N2 Ni1 123.9(4) . .
N1 C1 C3 125.0(5) . .
N1 C1 C2 109.8(6) . .
C3 C1 C2 125.1(5) . .
N2 C2 C4 122.8(5) . .
N2 C2 C1 112.8(5) . .
C4 C2 C1 124.5(6) . .
C1 C3 H3A 109.5 . .
C1 C3 H3B 109.5 . .
H3A C3 H3B 109.5 . .
C1 C3 H3C 109.5 . .
H3A C3 H3C 109.5 . .
H3B C3 H3C 109.5 . .
C2 C4 H4A 109.5 . .
C2 C4 H4B 109.5 . .
H4A C4 H4B 109.5 . .
C2 C4 H4C 109.5 . .
H4A C4 H4C 109.5 . .
H4B C4 H4C 109.5 . .
loop_
_geom_bond_atom_site_label_1
_geom_bond_atom_site_label_2
_geom_bond_distance
_geom_bond_site_symmetry_2
Ni1 N2 1.842(5) .
Ni1 N2 1.842(5) 9_566
Ni1 N1 1.846(5) 9_566
Ni1 N1 1.846(5) .
Ni1 Ni1 2.94362(16) 3_566
Ni1 Ni1 2.94362(16) 3_565
O1 N1 1.360(6) .
O1 H5 1.22(6) .
O2 N2 1.342(6) .
N1 C1 1.315(7) .
N2 C2 1.282(7) .
C1 C3 1.439(8) .
C1 C2 1.502(8) .
C2 C4 1.460(7) .
C3 H3A 0.9600 .
C3 H3B 0.9600 .
C3 H3C 0.9600 .
C4 H4A 0.9600 .
C4 H4B 0.9600 .
C4 H4C 0.9600 .
loop_
_geom_hbond_atom_site_label_D
_geom_hbond_atom_site_label_H
_geom_hbond_atom_site_label_A
_geom_hbond_distance_DH
_geom_hbond_distance_HA
_geom_hbond_distance_DA
_geom_hbond_angle_DHA
_geom_hbond_site_symmetry_A
O1 H5 O2 1.22(6) 1.25(6) 2.462(6) 179(6) 9_566
