#------------------------------------------------------------------------------
#$Date: 2016-02-18 16:37:37 +0100 (jue 18 de feb de 2016) $
#$Revision: 176729 $
#$URL: svn://www.crystallography.net/cod/cif/1/51/80/1518005.cif $
#------------------------------------------------------------------------------
#
# This file is available in the Crystallography Open Database (COD),
# http://www.crystallography.net/
#
# All data on this site have been placed in the public domain by the
# contributors.
#
data_1518005
loop_
_publ_author_name
'Bruce-Smith, Ian F.'
'Zakharov, Boris A.'
'Stare, Jernej'
'Boldyreva, Elena V.'
'Pulham, Colin R.'
_publ_section_title
;
 Structural Properties of Nickel Dimethylglyoxime at High Pressure:
 Single-Crystal X-ray Diffraction and DFT Studies
;
_journal_issue                   42
_journal_name_full               'The Journal of Physical Chemistry C'
_journal_page_first              24705
_journal_paper_doi               10.1021/jp508939g
_journal_volume                  118
_journal_year                    2014
_chemical_formula_moiety         'C8 H14 N4 Ni O4'
_chemical_formula_sum            'C8 H14 N4 Ni O4'
_chemical_formula_weight         288.94
_chemical_name_common            'Nickel Dimethylglyoxime'
_chemical_name_systematic
; 
Nickel Dimethylglyoxime
;
_space_group_IT_number           72
_symmetry_cell_setting           orthorhombic
_symmetry_space_group_name_Hall  '-I 2 2c'
_symmetry_space_group_name_H-M   'I b a m'
_atom_sites_solution_hydrogens   geom
_atom_sites_solution_primary     direct
_atom_sites_solution_secondary   difmap
_audit_creation_method           SHELXL-97
_cell_angle_alpha                90.00
_cell_angle_beta                 90.00
_cell_angle_gamma                90.00
_cell_formula_units_Z            4
_cell_length_a                   15.74120(13)
_cell_length_b                   9.88870(12)
_cell_length_c                   5.7878(3)
_cell_measurement_reflns_used    849
_cell_measurement_temperature    293(2)
_cell_measurement_theta_max      26.1510
_cell_measurement_theta_min      4.3840
_cell_volume                     900.93(5)
_computing_cell_refinement       'CrysAlisPro (Oxford Diffraction, 2010)'
_computing_data_collection       'CrysAlisPro (Oxford Diffraction, 2010)'
_computing_data_reduction        'CrysAlisPro (Oxford Diffraction, 2010)'
_computing_molecular_graphics    'Mercury (Macrae et al., 2006)'
_computing_structure_refinement  'SHELXL-97 (Sheldrick, 1997)'
_computing_structure_solution    'SHELXS-97 (Sheldrick, 1990)'
_diffrn_ambient_pressure         5100000
_diffrn_ambient_temperature      293(2)
_diffrn_detector_area_resol_mean 10.3457
_diffrn_measured_fraction_theta_full 0.699
_diffrn_measured_fraction_theta_max 0.699
_diffrn_measurement_device_type  'Xcalibur, Ruby, Gemini ultra'
_diffrn_measurement_method       'rotation method'
_diffrn_radiation_monochromator  graphite
_diffrn_radiation_source         'Enhance (Mo) X-ray Source'
_diffrn_radiation_type           MoK\a
_diffrn_radiation_wavelength     0.71073
_diffrn_reflns_av_R_equivalents  0.1063
_diffrn_reflns_av_sigmaI/netI    0.0678
_diffrn_reflns_limit_h_max       18
_diffrn_reflns_limit_h_min       -17
_diffrn_reflns_limit_k_max       10
_diffrn_reflns_limit_k_min       -10
_diffrn_reflns_limit_l_max       7
_diffrn_reflns_limit_l_min       -7
_diffrn_reflns_number            2673
_diffrn_reflns_theta_full        28.12
_diffrn_reflns_theta_max         28.12
_diffrn_reflns_theta_min         2.59
_diffrn_source_current           30
_diffrn_source_voltage           50
_exptl_absorpt_coefficient_mu    2.166
_exptl_absorpt_correction_T_max  0.461
_exptl_absorpt_correction_T_min  0.383
_exptl_absorpt_correction_type   gaussian
_exptl_absorpt_process_details   'Absorb-7 (Angel, 2013)'
_exptl_crystal_colour            'Red to purple'
_exptl_crystal_density_diffrn    2.130
_exptl_crystal_density_method    'not measured'
_exptl_crystal_description       Needles
_exptl_crystal_F_000             600
_exptl_crystal_size_max          0.140
_exptl_crystal_size_mid          0.055
_exptl_crystal_size_min          0.044
_refine_diff_density_max         0.519
_refine_diff_density_min         -0.429
_refine_diff_density_rms         0.117
_refine_ls_extinction_method     none
_refine_ls_goodness_of_fit_ref   1.044
_refine_ls_hydrogen_treatment    mixed
_refine_ls_matrix_type           full
_refine_ls_number_parameters     55
_refine_ls_number_reflns         423
_refine_ls_number_restraints     42
_refine_ls_restrained_S_all      0.990
_refine_ls_R_factor_all          0.0674
_refine_ls_R_factor_gt           0.0446
_refine_ls_shift/su_max          0.000
_refine_ls_shift/su_mean         0.000
_refine_ls_structure_factor_coef Fsqd
_refine_ls_weighting_details
'calc w=1/[σ²(Fo²)+(0.0334P)²+4.6959P] where P=(Fo²+2Fc²)/3'
_refine_ls_weighting_scheme      calc
_refine_ls_wR_factor_gt          0.0937
_refine_ls_wR_factor_ref         0.1047
_reflns_number_gt                317
_reflns_number_total             423
_reflns_threshold_expression     >2sigma(I)
_iucr_refine_instructions_details
;
TITL
CELL  0.71073 15.74120  9.88870  5.78780 90.00000 90.00000 90.00000
ZERR 4  0.00013  0.00012  0.00030  0.00000  0.00000  0.00000
LATT 2
SYMM -X, -Y, Z
SYMM X, -Y, -Z+ 0.50000
SYMM -X, Y, -Z+ 0.50000
SFAC C H N O NI 
UNIT 32 56 16 16 4 
PLAN 30
FMAP 2 
L.S. 100
EQIV $1 -X, -Y+1, -Z+1
HTAB O1 O2_$1
BOND
BOND $H
CONF
ACTA
SIMU O1 O2 C1 C2 C3 C4 N1 N2
FVAR  1.10376 
WGHT  0.03340   4.69590 
NI1   5 0.000000 0.500000 0.500000  10.250000 0.015580 0.012830 =
        0.015160 0.000000 0.000000 -0.001500 
O1    4 -0.057781 0.226125 0.500000  10.500000 0.024060 0.013520 =
        0.024500 0.000000 0.000000 -0.011480 
H5    2 -0.108700 0.298100 0.500000  10.500000 -1.200000
O2    4 0.166914 0.599983 0.500000  10.500000 0.019700 0.017920 =
        0.028970 0.000000 0.000000 -0.011250 
N1    3 0.008256 0.313280 0.500000  10.500000 0.017550 0.017110 =
        0.013530 0.000000 0.000000 -0.000310 
N2    3 0.116329 0.491236 0.500000  10.500000 0.019280 0.013120 =
        0.013760 0.000000 0.000000 -0.000270 
C1    1 0.085878 0.263813 0.500000  10.500000 0.027780 0.008680 =
        0.013010 0.000000 0.000000 0.001810 
C2    1 0.150229 0.372979 0.500000  10.500000 0.023990 0.012250 =
        0.016420 0.000000 0.000000 0.005810 
C3    1 0.103724 0.120369 0.500000  10.500000 0.029470 0.014390 =
        0.028750 0.000000 0.000000 0.002970 
AFIX 33
H3C   2 0.164076 0.106406 0.500000  10.500000 -1.500000 
H3B   2 0.079471 0.079735 0.364571  10.500000 -1.500000 
H3A   2 0.079471 0.079735 0.635429  10.500000 -1.500000 
AFIX 0
C4    1 0.241778 0.351804 0.500000  10.500000 0.024090 0.021710 =
        0.040870 0.000000 0.000000 0.002680 
AFIX 33
H4C   2 0.253628 0.256574 0.500000  10.500000 -1.500000 
H4B   2 0.266029 0.392440 0.635429  10.500000 -1.500000 
H4A   2 0.266029 0.392440 0.364571  10.500000 -1.500000 
HKLF 4
REM
REM R1    0.0461 FOR    317 FO > 4SIG(FO)  AND  0.0690 FOR ALL    423 DATA
REM     53 PARAMETERS REFINED USING     42 RESTRAINTS
REM HIGHEST DIFFERENCE PEAK  0.740,  DEEPEST HOLE -0.489,  1-SIGMA LEVEL  0.122
END
;
_cod_data_source_file            jp508939g_si_001.cif
_cod_data_source_block           5.1GPa
_cod_depositor_comments
;
The following automatic conversions were performed:

'_symmetry_cell_setting' value 'Orthorhombic' changed to
'orthorhombic' according to
/home/saulius/struct/COD-crude-data--automatic-downloads/rss-feeds/ACS/lib/dictionaries/cif_core.dic
dictionary named 'cif_core.dic' version 2.4.2 from
2011-04-26.

'_exptl_absorpt_correction_type' value 'Gaussian'
changed to 'gaussian' according to
/home/saulius/struct/COD-crude-data--automatic-downloads/rss-feeds/ACS/lib/dictionaries/cif_core.dic
dictionary named 'cif_core.dic' version 2.4.2 from 2011-04-26.

Automatic conversion script
Id: cif_fix_values 2827 2014-09-09 07:05:25Z andrius 

 Adding full bibliography for 1517996--1518005.cif.
;
_cod_original_sg_symbol_H-M      Ibam
_cod_database_code               1518005
loop_
_symmetry_equiv_pos_as_xyz
'x, y, z'
'-x, -y, z'
'x, -y, -z+1/2'
'-x, y, -z+1/2'
'x+1/2, y+1/2, z+1/2'
'-x+1/2, -y+1/2, z+1/2'
'x+1/2, -y+1/2, -z+1'
'-x+1/2, y+1/2, -z+1'
'-x, -y, -z'
'x, y, -z'
'-x, y, z-1/2'
'x, -y, z-1/2'
'-x+1/2, -y+1/2, -z+1/2'
'x+1/2, y+1/2, -z+1/2'
'-x+1/2, y+1/2, z'
'x+1/2, -y+1/2, z'
loop_
_atom_site_label
_atom_site_type_symbol
_atom_site_fract_x
_atom_site_fract_y
_atom_site_fract_z
_atom_site_U_iso_or_equiv
_atom_site_adp_type
_atom_site_occupancy
_atom_site_symmetry_multiplicity
_atom_site_calc_flag
_atom_site_refinement_flags
Ni1 Ni 0.0000 0.5000 0.5000 0.0147(4) Uani 1 4 d S
O1 O -0.0573(2) 0.2255(5) 0.5000 0.0216(11) Uani 1 2 d SU
H5 H -0.112(4) 0.296(7) 0.5000 0.026 Uiso 1 2 d S
O2 O 0.1673(3) 0.5992(5) 0.5000 0.0225(11) Uani 1 2 d SU
N1 N 0.0084(3) 0.3129(6) 0.5000 0.0156(12) Uani 1 2 d SU
N2 N 0.1162(3) 0.4909(5) 0.5000 0.0154(12) Uani 1 2 d SU
C1 C 0.0855(4) 0.2639(7) 0.5000 0.0156(14) Uani 1 2 d SU
C2 C 0.1502(4) 0.3730(7) 0.5000 0.0173(14) Uani 1 2 d SU
C3 C 0.1039(4) 0.1202(7) 0.5000 0.0243(15) Uani 1 2 d SU
H3C H 0.1643 0.1068 0.5000 0.036 Uiso 1 2 calc SR
H3B H 0.0798 0.0793 0.3646 0.036 Uiso 0.50 1 calc PR
H3A H 0.0798 0.0793 0.6354 0.036 Uiso 0.50 1 calc PR
C4 C 0.2416(4) 0.3511(7) 0.5000 0.0286(16) Uani 1 2 d SU
H4C H 0.2531 0.2558 0.5000 0.043 Uiso 1 2 calc SR
H4B H 0.2660 0.3916 0.6354 0.043 Uiso 0.50 1 calc PR
H4A H 0.2660 0.3916 0.3646 0.043 Uiso 0.50 1 calc PR
loop_
_atom_site_aniso_label
_atom_site_aniso_U_11
_atom_site_aniso_U_22
_atom_site_aniso_U_33
_atom_site_aniso_U_23
_atom_site_aniso_U_13
_atom_site_aniso_U_12
Ni1 0.0159(7) 0.0129(9) 0.0154(5) 0.000 0.000 -0.0014(4)
O1 0.021(3) 0.018(3) 0.027(2) 0.000 0.000 -0.0076(18)
O2 0.020(3) 0.018(4) 0.030(2) 0.000 0.000 -0.0093(18)
N1 0.016(3) 0.016(4) 0.015(2) 0.000 0.000 -0.0022(19)
N2 0.019(3) 0.013(4) 0.015(2) 0.000 0.000 -0.001(2)
C1 0.028(4) 0.005(5) 0.014(3) 0.000 0.000 0.003(2)
C2 0.023(4) 0.012(5) 0.017(3) 0.000 0.000 0.005(3)
C3 0.029(4) 0.015(5) 0.028(3) 0.000 0.000 0.002(3)
C4 0.024(4) 0.021(5) 0.040(4) 0.000 0.000 0.005(3)
loop_
_atom_type_symbol
_atom_type_description
_atom_type_scat_dispersion_real
_atom_type_scat_dispersion_imag
_atom_type_scat_source
C C 0.0033 0.0016 'International Tables Vol C Tables 4.2.6.8 and 6.1.1.4'
H H 0.0000 0.0000 'International Tables Vol C Tables 4.2.6.8 and 6.1.1.4'
N N 0.0061 0.0033 'International Tables Vol C Tables 4.2.6.8 and 6.1.1.4'
O O 0.0106 0.0060 'International Tables Vol C Tables 4.2.6.8 and 6.1.1.4'
Ni Ni 0.3393 1.1124 'International Tables Vol C Tables 4.2.6.8 and 6.1.1.4'
loop_
_geom_angle_atom_site_label_1
_geom_angle_atom_site_label_2
_geom_angle_atom_site_label_3
_geom_angle
_geom_angle_site_symmetry_1
_geom_angle_site_symmetry_3
N2 Ni1 N2 180.0 9_566 .
N2 Ni1 N1 83.1(2) 9_566 9_566
N2 Ni1 N1 96.9(2) . 9_566
N2 Ni1 N1 96.9(2) 9_566 .
N2 Ni1 N1 83.1(2) . .
N1 Ni1 N1 180.0 9_566 .
N2 Ni1 Ni1 90.0 9_566 3_566
N2 Ni1 Ni1 90.0 . 3_566
N1 Ni1 Ni1 90.0 9_566 3_566
N1 Ni1 Ni1 90.0 . 3_566
N2 Ni1 Ni1 90.0 9_566 3_565
N2 Ni1 Ni1 90.0 . 3_565
N1 Ni1 Ni1 90.0 9_566 3_565
N1 Ni1 Ni1 90.0 . 3_565
Ni1 Ni1 Ni1 180.0 3_566 3_565
N1 O1 H5 101(4) . .
C1 N1 O1 118.3(6) . .
C1 N1 Ni1 115.9(4) . .
O1 N1 Ni1 125.8(4) . .
C2 N2 O2 118.4(5) . .
C2 N2 Ni1 117.5(4) . .
O2 N2 Ni1 124.1(4) . .
N1 C1 C3 123.3(5) . .
N1 C1 C2 111.6(6) . .
C3 C1 C2 125.1(5) . .
N2 C2 C4 123.2(6) . .
N2 C2 C1 112.0(5) . .
C4 C2 C1 124.8(6) . .
C1 C3 H3C 109.5 . .
C1 C3 H3B 109.5 . .
H3C C3 H3B 109.5 . .
C1 C3 H3A 109.5 . .
H3C C3 H3A 109.5 . .
H3B C3 H3A 109.5 . .
C2 C4 H4C 109.5 . .
C2 C4 H4B 109.5 . .
H4C C4 H4B 109.5 . .
C2 C4 H4A 109.5 . .
H4C C4 H4A 109.5 . .
H4B C4 H4A 109.5 . .
loop_
_geom_bond_atom_site_label_1
_geom_bond_atom_site_label_2
_geom_bond_distance
_geom_bond_site_symmetry_2
Ni1 N2 1.832(5) 9_566
Ni1 N2 1.832(5) .
Ni1 N1 1.855(5) 9_566
Ni1 N1 1.855(5) .
Ni1 Ni1 2.89390(15) 3_566
Ni1 Ni1 2.89390(15) 3_565
O1 N1 1.348(6) .
O1 H5 1.11(7) .
O2 N2 1.339(6) .
N1 C1 1.306(8) .
N2 C2 1.283(8) .
C1 C3 1.450(9) .
C1 C2 1.484(9) .
C2 C4 1.455(8) .
C3 H3C 0.9600 .
C3 H3B 0.9600 .
C3 H3A 0.9600 .
C4 H4C 0.9600 .
C4 H4B 0.9600 .
C4 H4A 0.9600 .
loop_
_geom_hbond_atom_site_label_D
_geom_hbond_atom_site_label_H
_geom_hbond_atom_site_label_A
_geom_hbond_distance_DH
_geom_hbond_distance_HA
_geom_hbond_distance_DA
_geom_hbond_angle_DHA
_geom_hbond_site_symmetry_A
O1 H5 O2 1.11(7) 1.35(7) 2.449(6) 170(7) 9_566
