#------------------------------------------------------------------------------
#$Date: 2016-02-13 20:28:24 +0100 (Sat 13 de Feb de 2016) $
#$Revision: 176429 $
#$URL: svn://www.crystallography.net/cod/cif/1/52/08/1520841.cif $
#------------------------------------------------------------------------------
#
# This file is available in the Crystallography Open Database (COD),
# http://www.crystallography.net/
#
# All data on this site have been placed in the public domain by the
# contributors.
#
data_1520841
loop_
_publ_author_name
'Beck, H.P.'
'Haberkorn, R.'
'Schramm, M.'
_publ_section_title
;
 The (In Sn Cl3)-type arrangement. II. High pressure synthesis of Tl Pb
 Cl3 and of solid solutions containing Rb or Br
;
_journal_name_full               'Journal of Solid State Chemistry'
_journal_page_first              351
_journal_page_last               354
_journal_volume                  146
_journal_year                    1999
_chemical_formula_sum            'Br1.7 Cl1.3 Pb Tl'
_chemical_name_systematic        'Tl Pb (Cl1.3 Br1.7)'
_space_group_IT_number           140
_symmetry_space_group_name_Hall  '-I 4 2c'
_symmetry_space_group_name_H-M   'I 4/m c m'
_cell_angle_alpha                90
_cell_angle_beta                 90
_cell_angle_gamma                90
_cell_formula_units_Z            16
_cell_length_a                   12.177
_cell_length_b                   12.177
_cell_length_c                   16.226
_cell_volume                     2405.980
_citation_journal_id_ASTM        JSSCBI
_cod_data_source_file            Beck_JSSCBI_1999_267.cif
_cod_data_source_block           Br1.7Cl1.3Pb1Tl1
_cod_original_cell_volume        2405.98
_cod_original_formula_sum        'Br1.7 Cl1.3 Pb1 Tl1'
_cod_database_code               1520841
loop_
_symmetry_equiv_pos_as_xyz
x,y,z
-y,x,z
-x,-y,z
y,-x,z
x,-y,-z+1/2
y,x,-z+1/2
-x,y,-z+1/2
-y,-x,-z+1/2
-x,-y,-z
y,-x,-z
x,y,-z
-y,x,-z
-x,y,z-1/2
-y,-x,z-1/2
x,-y,z-1/2
y,x,z-1/2
x+1/2,y+1/2,z+1/2
-y+1/2,x+1/2,z+1/2
-x+1/2,-y+1/2,z+1/2
y+1/2,-x+1/2,z+1/2
x+1/2,-y+1/2,-z+1
y+1/2,x+1/2,-z+1
-x+1/2,y+1/2,-z+1
-y+1/2,-x+1/2,-z+1
-x+1/2,-y+1/2,-z+1/2
y+1/2,-x+1/2,-z+1/2
x+1/2,y+1/2,-z+1/2
-y+1/2,x+1/2,-z+1/2
-x+1/2,y+1/2,z
-y+1/2,-x+1/2,z
x+1/2,-y+1/2,z
y+1/2,x+1/2,z
loop_
_atom_site_label
_atom_site_type_symbol
_atom_site_fract_x
_atom_site_fract_y
_atom_site_fract_z
_atom_site_occupancy
_atom_site_U_iso_or_equiv
Br1 Br-1 0.0738 0.1968 0.1401 0.73 0.0
Tl2 Tl+1 0 0 0 1 0.0
Pb2 Pb+2 0.6362 0.1362 0 1 0.0
Pb3 Pb+2 0 0 0.25 1 0.0
Cl1 Cl-1 0.0738 0.1968 0.1401 0.27 0.0
Br2 Br-1 0.171 0.671 0 0.36 0.0
Pb1 Pb+2 0.1626 0.6626 0.1838 0.25 0.0
Cl2 Cl-1 0.171 0.671 0 0.64 0.0
Cl3 Cl-1 0 0.5 0.132 0.88 0.0
Tl1 Tl+1 0.1626 0.6626 0.1838 0.75 0.0
Br3 Br-1 0 0.5 0.132 0.12 0.0
