#------------------------------------------------------------------------------
#$Date: 2018-09-27 06:13:35 +0200 (jue 27 de sep de 2018) $
#$Revision: 211196 $
#$URL: svn://www.crystallography.net/cod/cif/1/52/09/1520907.cif $
#------------------------------------------------------------------------------
#
# This file is available in the Crystallography Open Database (COD),
# http://www.crystallography.net/
#
# All data on this site have been placed in the public domain by the
# contributors.
#
data_1520907
loop_
_publ_author_name
'Bronger, W.'
'Donike, A.'
'Schmitz, D.'
_publ_section_title
;
 K3 Sb Se3, Rb3 Sb Se3 und Cs3 Sb Se3 - Synthese und Kristallstruktur
;
_journal_name_full
'Zeitschrift fuer Anorganische und Allgemeine Chemie'
_journal_page_first              435
_journal_page_last               437
_journal_volume                  625
_journal_year                    1999
_chemical_formula_sum            'Rb3 Sb Se3'
_space_group_IT_number           198
_symmetry_space_group_name_Hall  'P 2ac 2ab 3'
_symmetry_space_group_name_H-M   'P 21 3'
_cell_angle_alpha                90
_cell_angle_beta                 90
_cell_angle_gamma                90
_cell_formula_units_Z            4
_cell_length_a                   10.152
_cell_length_b                   10.152
_cell_length_c                   10.152
_cell_volume                     1046.297
_citation_journal_id_ASTM        ZAACAB
_cod_data_source_file            Bronger_ZAACAB_1999_878.cif
_cod_data_source_block           Rb3Sb1Se3
_cod_original_formula_sum        'Rb3 Sb1 Se3'
_cod_database_code               1520907
loop_
_symmetry_equiv_pos_as_xyz
x,y,z
-x+1/2,-y,z+1/2
x+1/2,-y+1/2,-z
-x,y+1/2,-z+1/2
z,x,y
-z+1/2,-x,y+1/2
z+1/2,-x+1/2,-y
-z,x+1/2,-y+1/2
y,z,x
y+1/2,-z+1/2,-x
-y,z+1/2,-x+1/2
-y+1/2,-z,x+1/2
loop_
_atom_site_label
_atom_site_type_symbol
_atom_site_fract_x
_atom_site_fract_y
_atom_site_fract_z
_atom_site_occupancy
_atom_site_U_iso_or_equiv
Se1 Se-2 0.2117 0.6 0.495 1 0.0
Rb2 Rb+1 0.574 0.574 0.574 1 0.0
Rb1 Rb+1 0.3163 0.3163 0.3163 1 0.0
Rb3 Rb+1 0.8117 0.8117 0.8117 1 0.0
Sb1 Sb+3 0.02799 0.02799 0.02799 1 0.0
