#------------------------------------------------------------------------------
#$Date: 2016-02-13 20:28:24 +0100 (Sat 13 de Feb de 2016) $
#$Revision: 176429 $
#$URL: svn://www.crystallography.net/cod/cif/1/52/10/1521085.cif $
#------------------------------------------------------------------------------
#
# This file is available in the Crystallography Open Database (COD),
# http://www.crystallography.net/
#
# All data on this site have been placed in the public domain by the
# contributors.
#
data_1521085
loop_
_publ_author_name
'Guenther, W.'
'Paulus, W.'
'Schoellhorn, R.'
_publ_section_title
;
 Stacking disorder in a layered carbonate phase: the structure of LaK O C
 O3
;
_journal_name_full               'Journal of Physics and Chemistry of Solids'
_journal_page_first              1945
_journal_page_last               1953
_journal_volume                  61
_journal_year                    2000
_chemical_formula_sum            'C K La O4'
_chemical_name_systematic        'La K O (C O3)'
_space_group_IT_number           54
_symmetry_space_group_name_Hall  '-P 2a 2ac'
_symmetry_space_group_name_H-M   'P c c a'
_cell_angle_alpha                90
_cell_angle_beta                 90
_cell_angle_gamma                90
_cell_formula_units_Z            4
_cell_length_a                   5.6793
_cell_length_b                   12.3841
_cell_length_c                   5.6793
_cell_volume                     399.442
_citation_journal_id_ASTM        JPCSAW
_cod_data_source_file            Guenther_JPCSAW_2000_1624.cif
_cod_data_source_block           C1K1La1O4
_cod_original_cell_volume        399.4423
_cod_original_formula_sum        'C1 K1 La1 O4'
_cod_database_code               1521085
loop_
_symmetry_equiv_pos_as_xyz
x,y,z
-x+1/2,-y,z
x+1/2,-y,-z+1/2
-x,y,-z+1/2
-x,-y,-z
x-1/2,y,-z
-x-1/2,y,z-1/2
x,-y,z-1/2
loop_
_atom_site_label
_atom_site_type_symbol
_atom_site_fract_x
_atom_site_fract_y
_atom_site_fract_z
_atom_site_occupancy
_atom_site_U_iso_or_equiv
O1 O-2 0.14 0.7633 0.112 1 0.0
O3 O-2 0 0.6109 0.25 1 0.0
K1 K+1 0 0.3941 0.25 1 0.0
C1 C+4 0 0.7126 0.75 1 0.0
La1 La+3 0 0.1007 0.25 1 0.0
O2 O-2 0.25 0 0 1 0.0
