#------------------------------------------------------------------------------
#$Date: 2016-02-13 20:28:24 +0100 (Sat 13 de Feb de 2016) $
#$Revision: 176429 $
#$URL: svn://www.crystallography.net/cod/cif/1/52/28/1522882.cif $
#------------------------------------------------------------------------------
#
# This file is available in the Crystallography Open Database (COD),
# http://www.crystallography.net/
#
# All data on this site have been placed in the public domain by the
# contributors.
#
data_1522882
loop_
_publ_author_name
'Sekizawa, K.'
'Yasukochi, K.'
'Watanabe, T.'
_publ_section_title
;
 Structural transformations and magnetic properties of (Gd1-x Rx) Tl and
 Gd (Tl1-y My) systems
;
_journal_name_full               'Journal of Magnetism and Magnetic Materials'
_journal_page_first              181
_journal_page_last               182
_journal_volume                  31
_journal_year                    1983
_chemical_formula_sum            'Gd0.9 Tl Y0.1'
_chemical_name_systematic        '(Gd0.9 Y0.1) Tl'
_space_group_IT_number           221
_symmetry_space_group_name_Hall  '-P 4 2 3'
_symmetry_space_group_name_H-M   'P m -3 m'
_cell_angle_alpha                90
_cell_angle_beta                 90
_cell_angle_gamma                90
_cell_formula_units_Z            1
_cell_length_a                   3.778
_cell_length_b                   3.778
_cell_length_c                   3.778
_cell_volume                     53.924
_citation_journal_id_ASTM        JMMMDC
_cod_data_source_file            Sekizawa_JMMMDC_1983_496.cif
_cod_data_source_block           Gd0.9Tl1Y0.1
_cod_original_cell_volume        53.92447
_cod_original_formula_sum        'Gd0.9 Tl1 Y0.1'
_cod_database_code               1522882
loop_
_symmetry_equiv_pos_as_xyz
x,y,z
-y,x,z
-x,-y,z
y,-x,z
x,-y,-z
y,x,-z
-x,y,-z
-y,-x,-z
z,x,y
-x,z,y
-z,-x,y
x,-z,y
z,-x,-y
x,z,-y
-z,x,-y
-x,-z,-y
y,z,x
y,-z,-x
z,y,-x
-y,z,-x
-z,-y,-x
-y,-z,x
z,-y,x
-z,y,x
-x,-y,-z
y,-x,-z
x,y,-z
-y,x,-z
-x,y,z
-y,-x,z
x,-y,z
y,x,z
-z,-x,-y
x,-z,-y
z,x,-y
-x,z,-y
-z,x,y
-x,-z,y
z,-x,y
x,z,y
-y,-z,-x
-y,z,x
-z,-y,x
y,-z,x
z,y,x
y,z,-x
-z,y,-x
z,-y,-x
loop_
_atom_site_label
_atom_site_type_symbol
_atom_site_fract_x
_atom_site_fract_y
_atom_site_fract_z
_atom_site_occupancy
_atom_site_U_iso_or_equiv
Y1 Y 0 0 0 0.1 0.0
Tl1 Tl 0.5 0.5 0.5 1 0.0
Gd1 Gd 0 0 0 0.9 0.0
