#------------------------------------------------------------------------------
#$Date: 2016-02-13 20:28:24 +0100 (Sat 13 de Feb de 2016) $
#$Revision: 176429 $
#$URL: svn://www.crystallography.net/cod/cif/1/52/28/1522890.cif $
#------------------------------------------------------------------------------
#
# This file is available in the Crystallography Open Database (COD),
# http://www.crystallography.net/
#
# All data on this site have been placed in the public domain by the
# contributors.
#
data_1522890
loop_
_publ_author_name
'Shelton, K.L.'
'Merewether, P.A.'
'Skinner, B.J.'
_publ_section_title
;
 Phases and phase relations in the sysem Pd-Pt-Sn
;
_journal_name_full               'Canadian Mineralogist'
_journal_page_first              599
_journal_page_last               605
_journal_volume                  19
_journal_year                    1981
_chemical_formula_sum            'Pd1.5 Pt1.5 Sn'
_chemical_name_systematic        '(Pd0.5 Pt0.5)3 Sn'
_space_group_IT_number           221
_symmetry_space_group_name_Hall  '-P 4 2 3'
_symmetry_space_group_name_H-M   'P m -3 m'
_cell_angle_alpha                90
_cell_angle_beta                 90
_cell_angle_gamma                90
_cell_formula_units_Z            1
_cell_length_a                   3.9935
_cell_length_b                   3.9935
_cell_length_c                   3.9935
_cell_volume                     63.689
_citation_journal_id_ASTM        CAMIA6
_cod_data_source_file            Shelton_CAMIA6_1981_1727.cif
_cod_data_source_block           Pd1.5Pt1.5Sn1
_cod_original_cell_volume        63.68851
_cod_original_formula_sum        'Pd1.5 Pt1.5 Sn1'
_cod_database_code               1522890
loop_
_symmetry_equiv_pos_as_xyz
x,y,z
-y,x,z
-x,-y,z
y,-x,z
x,-y,-z
y,x,-z
-x,y,-z
-y,-x,-z
z,x,y
-x,z,y
-z,-x,y
x,-z,y
z,-x,-y
x,z,-y
-z,x,-y
-x,-z,-y
y,z,x
y,-z,-x
z,y,-x
-y,z,-x
-z,-y,-x
-y,-z,x
z,-y,x
-z,y,x
-x,-y,-z
y,-x,-z
x,y,-z
-y,x,-z
-x,y,z
-y,-x,z
x,-y,z
y,x,z
-z,-x,-y
x,-z,-y
z,x,-y
-x,z,-y
-z,x,y
-x,-z,y
z,-x,y
x,z,y
-y,-z,-x
-y,z,x
-z,-y,x
y,-z,x
z,y,x
y,z,-x
-z,y,-x
z,-y,-x
loop_
_atom_site_label
_atom_site_type_symbol
_atom_site_fract_x
_atom_site_fract_y
_atom_site_fract_z
_atom_site_occupancy
_atom_site_U_iso_or_equiv
Sn1 Sn 0 0 0 1 0.0
Pt1 Pt 0 0.5 0.5 0.5 0.0
Pd1 Pd 0 0.5 0.5 0.5 0.0
