#------------------------------------------------------------------------------
#$Date: 2018-09-27 06:13:35 +0200 (jue 27 de sep de 2018) $
#$Revision: 211196 $
#$URL: svn://www.crystallography.net/cod/cif/1/52/29/1522938.cif $
#------------------------------------------------------------------------------
#
# This file is available in the Crystallography Open Database (COD),
# http://www.crystallography.net/
#
# All data on this site have been placed in the public domain by the
# contributors.
#
data_1522938
loop_
_publ_author_name
'Speight, J.D.'
'Harris, I.R.'
'Raynor, G.V.'
_publ_section_title
;
 The electronic state of Yb in some alpha-Pd-Yb alloys
;
_journal_name_full               'Journal of the Less-Common Metals'
_journal_page_first              164
_journal_page_last               165
_journal_volume                  16
_journal_year                    1968
_chemical_formula_sum            'Pd3 Yb'
_space_group_IT_number           221
_symmetry_space_group_name_Hall  '-P 4 2 3'
_symmetry_space_group_name_H-M   'P m -3 m'
_cell_angle_alpha                90
_cell_angle_beta                 90
_cell_angle_gamma                90
_cell_formula_units_Z            1
_cell_length_a                   4.046
_cell_length_b                   4.046
_cell_length_c                   4.046
_cell_volume                     66.233
_citation_journal_id_ASTM        JCOMAH
_cod_data_source_file            Speight_JCOMAH_1968_1805.cif
_cod_data_source_block           Pd3Yb1
_cod_original_cell_volume        66.23349
_cod_original_formula_sum        'Pd3 Yb1'
_cod_database_code               1522938
loop_
_symmetry_equiv_pos_as_xyz
x,y,z
-y,x,z
-x,-y,z
y,-x,z
x,-y,-z
y,x,-z
-x,y,-z
-y,-x,-z
z,x,y
-x,z,y
-z,-x,y
x,-z,y
z,-x,-y
x,z,-y
-z,x,-y
-x,-z,-y
y,z,x
y,-z,-x
z,y,-x
-y,z,-x
-z,-y,-x
-y,-z,x
z,-y,x
-z,y,x
-x,-y,-z
y,-x,-z
x,y,-z
-y,x,-z
-x,y,z
-y,-x,z
x,-y,z
y,x,z
-z,-x,-y
x,-z,-y
z,x,-y
-x,z,-y
-z,x,y
-x,-z,y
z,-x,y
x,z,y
-y,-z,-x
-y,z,x
-z,-y,x
y,-z,x
z,y,x
y,z,-x
-z,y,-x
z,-y,-x
loop_
_atom_site_label
_atom_site_type_symbol
_atom_site_fract_x
_atom_site_fract_y
_atom_site_fract_z
_atom_site_occupancy
_atom_site_U_iso_or_equiv
Yb1 Yb 0 0 0 1 0.0
Pd1 Pd 0 0.5 0.5 1 0.0
