#------------------------------------------------------------------------------
#$Date: 2018-09-27 06:13:35 +0200 (jue 27 de sep de 2018) $
#$Revision: 211196 $
#$URL: svn://www.crystallography.net/cod/cif/1/52/41/1524193.cif $
#------------------------------------------------------------------------------
#
# This file is available in the Crystallography Open Database (COD),
# http://www.crystallography.net/
#
# All data on this site have been placed in the public domain by the
# contributors.
#
data_1524193
loop_
_publ_author_name
'Chao, C.C.'
'Duwez, P.'
'Luo, A.L.'
_publ_section_title
;
 Cs Cl-type compounds in binary alloys of rare-earth metals with zinc and
 copper
;
_journal_name_full               'Journal of Applied Physics'
_journal_page_first              257
_journal_page_last               258
_journal_volume                  35
_journal_year                    1964
_chemical_formula_sum            'Cu Dy'
_space_group_IT_number           221
_symmetry_space_group_name_Hall  '-P 4 2 3'
_symmetry_space_group_name_H-M   'P m -3 m'
_cell_angle_alpha                90
_cell_angle_beta                 90
_cell_angle_gamma                90
_cell_formula_units_Z            1
_cell_length_a                   3.46
_cell_length_b                   3.46
_cell_length_c                   3.46
_cell_volume                     41.422
_citation_journal_id_ASTM        JAPIAU
_cod_data_source_file            Chao_JAPIAU_1964_1395.cif
_cod_data_source_block           Cu1Dy1
_cod_original_cell_volume        41.42174
_cod_original_formula_sum        'Cu1 Dy1'
_cod_database_code               1524193
loop_
_symmetry_equiv_pos_as_xyz
x,y,z
-y,x,z
-x,-y,z
y,-x,z
x,-y,-z
y,x,-z
-x,y,-z
-y,-x,-z
z,x,y
-x,z,y
-z,-x,y
x,-z,y
z,-x,-y
x,z,-y
-z,x,-y
-x,-z,-y
y,z,x
y,-z,-x
z,y,-x
-y,z,-x
-z,-y,-x
-y,-z,x
z,-y,x
-z,y,x
-x,-y,-z
y,-x,-z
x,y,-z
-y,x,-z
-x,y,z
-y,-x,z
x,-y,z
y,x,z
-z,-x,-y
x,-z,-y
z,x,-y
-x,z,-y
-z,x,y
-x,-z,y
z,-x,y
x,z,y
-y,-z,-x
-y,z,x
-z,-y,x
y,-z,x
z,y,x
y,z,-x
-z,y,-x
z,-y,-x
loop_
_atom_site_label
_atom_site_type_symbol
_atom_site_fract_x
_atom_site_fract_y
_atom_site_fract_z
_atom_site_occupancy
_atom_site_U_iso_or_equiv
Cu1 Cu 0 0 0 1 0.0
Dy1 Dy 0.5 0.5 0.5 1 0.0
