#------------------------------------------------------------------------------
#$Date: 2015-07-11 15:24:51 +0200 (Sat 11 de Jul de 2015) $
#$Revision: 144891 $
#$URL: svn://www.crystallography.net/cod/cif/1/52/42/1524204.cif $
#------------------------------------------------------------------------------
#
# This file is available in the Crystallography Open Database (COD),
# http://www.crystallography.net/
#
# All data on this site have been placed in the public domain by the
# contributors.
#
data_1524204
loop_
_publ_author_name
'Cherkashin, B.V.'
'Vereshchagin, Yu.A.'
'Kuranov, A.A.'
'Sidorenko, F.A.'
_publ_section_title
;
 Atomic ordering in solid solutions
;
_journal_name_full               'Fizika Metallov i Metallovedenie'
_journal_page_first              176
_journal_page_last               177
_journal_volume                  55
_journal_year                    1983
_chemical_formula_sum            'Fe0.5 Mn0.5 Pd3'
_chemical_name_systematic        '(Fe0.5 Mn0.5) Pd3'
_space_group_IT_number           221
_symmetry_space_group_name_Hall  '-P 4 2 3'
_symmetry_space_group_name_H-M   'P m -3 m'
_cell_angle_alpha                90
_cell_angle_beta                 90
_cell_angle_gamma                90
_cell_formula_units_Z            1
_cell_length_a                   3.874
_cell_length_b                   3.874
_cell_length_c                   3.874
_cell_volume                     58.141
_citation_journal_id_ASTM        FMMTAK
_cod_data_source_file            Cherkashin_FMMTAK_1983_1971.cif
_cod_data_source_block           Fe0.5Mn0.5Pd3
_cod_original_cell_volume        58.14051
_cod_database_code               1524204
loop_
_symmetry_equiv_pos_as_xyz
x,y,z
-y,x,z
-x,-y,z
y,-x,z
x,-y,-z
y,x,-z
-x,y,-z
-y,-x,-z
z,x,y
-x,z,y
-z,-x,y
x,-z,y
z,-x,-y
x,z,-y
-z,x,-y
-x,-z,-y
y,z,x
y,-z,-x
z,y,-x
-y,z,-x
-z,-y,-x
-y,-z,x
z,-y,x
-z,y,x
-x,-y,-z
y,-x,-z
x,y,-z
-y,x,-z
-x,y,z
-y,-x,z
x,-y,z
y,x,z
-z,-x,-y
x,-z,-y
z,x,-y
-x,z,-y
-z,x,y
-x,-z,y
z,-x,y
x,z,y
-y,-z,-x
-y,z,x
-z,-y,x
y,-z,x
z,y,x
y,z,-x
-z,y,-x
z,-y,-x
loop_
_atom_site_label
_atom_site_type_symbol
_atom_site_fract_x
_atom_site_fract_y
_atom_site_fract_z
_atom_site_occupancy
_atom_site_U_iso_or_equiv
Pd1 Pd 0 0.5 0.5 1 0.0
Fe1 Fe 0 0 0 0.5 0.0
Mn1 Mn 0 0 0 0.5 0.0
