#------------------------------------------------------------------------------
#$Date: 2016-02-13 20:28:24 +0100 (Sat 13 de Feb de 2016) $
#$Revision: 176429 $
#$URL: svn://www.crystallography.net/cod/cif/1/52/51/1525138.cif $
#------------------------------------------------------------------------------
#
# This file is available in the Crystallography Open Database (COD),
# http://www.crystallography.net/
#
# All data on this site have been placed in the public domain by the
# contributors.
#
data_1525138
loop_
_publ_author_name
'Rambabu, D.'
'Dhar, S.K.'
'Malik, S.K.'
'Vijayaraghavan, R.'
_publ_section_title
;
 Crystal structure and valence state of cerium in Ce Pd3-x Ptx alloys
;
_journal_name_full               'Physics Letters A'
_journal_page_first              294
_journal_page_last               296
_journal_volume                  87
_journal_year                    1982
_chemical_formula_sum            'Ce Pd2 Pt'
_chemical_name_systematic        'Ce (Pd2 Pt)'
_space_group_IT_number           221
_symmetry_space_group_name_Hall  '-P 4 2 3'
_symmetry_space_group_name_H-M   'P m -3 m'
_cell_angle_alpha                90
_cell_angle_beta                 90
_cell_angle_gamma                90
_cell_formula_units_Z            1
_cell_length_a                   4.125
_cell_length_b                   4.125
_cell_length_c                   4.125
_cell_volume                     70.189
_citation_journal_id_ASTM        PYLAAG
_cod_data_source_file            Rambabu_PYLAAG_1982_861.cif
_cod_data_source_block           Ce1Pd2Pt1
_cod_original_cell_volume        70.18945
_cod_original_formula_sum        'Ce1 Pd2 Pt1'
_cod_database_code               1525138
loop_
_symmetry_equiv_pos_as_xyz
x,y,z
-y,x,z
-x,-y,z
y,-x,z
x,-y,-z
y,x,-z
-x,y,-z
-y,-x,-z
z,x,y
-x,z,y
-z,-x,y
x,-z,y
z,-x,-y
x,z,-y
-z,x,-y
-x,-z,-y
y,z,x
y,-z,-x
z,y,-x
-y,z,-x
-z,-y,-x
-y,-z,x
z,-y,x
-z,y,x
-x,-y,-z
y,-x,-z
x,y,-z
-y,x,-z
-x,y,z
-y,-x,z
x,-y,z
y,x,z
-z,-x,-y
x,-z,-y
z,x,-y
-x,z,-y
-z,x,y
-x,-z,y
z,-x,y
x,z,y
-y,-z,-x
-y,z,x
-z,-y,x
y,-z,x
z,y,x
y,z,-x
-z,y,-x
z,-y,-x
loop_
_atom_site_label
_atom_site_type_symbol
_atom_site_fract_x
_atom_site_fract_y
_atom_site_fract_z
_atom_site_occupancy
_atom_site_U_iso_or_equiv
Pt1 Pt 0 0.5 0.5 0.33 0.0
Pd1 Pd 0 0.5 0.5 0.67 0.0
Ce1 Ce 0 0 0 1 0.0
