#------------------------------------------------------------------------------
#$Date: 2016-02-13 20:28:24 +0100 (Sat 13 de Feb de 2016) $
#$Revision: 176429 $
#$URL: svn://www.crystallography.net/cod/cif/1/52/52/1525299.cif $
#------------------------------------------------------------------------------
#
# This file is available in the Crystallography Open Database (COD),
# http://www.crystallography.net/
#
# All data on this site have been placed in the public domain by the
# contributors.
#
data_1525299
loop_
_publ_author_name
'Sinha, A.K.'
_publ_section_title
;
 Close-packed ordered A B3 structure in ternary alloys of certain
 transition metals
;
_journal_name_full
'Transactions of the Metallurgical Society of Aime'
_journal_page_first              911
_journal_page_last               917
_journal_volume                  245
_journal_year                    1969
_chemical_formula_sum            'Co2.1 Fe0.9 V'
_chemical_name_systematic        '(Co2.1 Fe0.9) V'
_space_group_IT_number           221
_symmetry_space_group_name_Hall  '-P 4 2 3'
_symmetry_space_group_name_H-M   'P m -3 m'
_cell_angle_alpha                90
_cell_angle_beta                 90
_cell_angle_gamma                90
_cell_formula_units_Z            1
_cell_length_a                   3.579
_cell_length_b                   3.579
_cell_length_c                   3.579
_cell_volume                     45.844
_citation_journal_id_ASTM        TMSAAB
_cod_data_source_file            Sinha_TMSAAB_1969_992.cif
_cod_data_source_block           Co2.1Fe0.9V1
_cod_original_cell_volume        45.84427
_cod_original_formula_sum        'Co2.1 Fe0.9 V1'
_cod_database_code               1525299
loop_
_symmetry_equiv_pos_as_xyz
x,y,z
-y,x,z
-x,-y,z
y,-x,z
x,-y,-z
y,x,-z
-x,y,-z
-y,-x,-z
z,x,y
-x,z,y
-z,-x,y
x,-z,y
z,-x,-y
x,z,-y
-z,x,-y
-x,-z,-y
y,z,x
y,-z,-x
z,y,-x
-y,z,-x
-z,-y,-x
-y,-z,x
z,-y,x
-z,y,x
-x,-y,-z
y,-x,-z
x,y,-z
-y,x,-z
-x,y,z
-y,-x,z
x,-y,z
y,x,z
-z,-x,-y
x,-z,-y
z,x,-y
-x,z,-y
-z,x,y
-x,-z,y
z,-x,y
x,z,y
-y,-z,-x
-y,z,x
-z,-y,x
y,-z,x
z,y,x
y,z,-x
-z,y,-x
z,-y,-x
loop_
_atom_site_label
_atom_site_type_symbol
_atom_site_fract_x
_atom_site_fract_y
_atom_site_fract_z
_atom_site_occupancy
_atom_site_U_iso_or_equiv
Co1 Co 0 0.5 0.5 0.7 0.0
Fe1 Fe 0 0.5 0.5 0.3 0.0
V1 V 0 0 0 1 0.0
