#------------------------------------------------------------------------------
#$Date: 2018-09-27 06:13:35 +0200 (jue 27 de sep de 2018) $
#$Revision: 211196 $
#$URL: svn://www.crystallography.net/cod/cif/1/52/70/1527049.cif $
#------------------------------------------------------------------------------
#
# This file is available in the Crystallography Open Database (COD),
# http://www.crystallography.net/
#
# All data on this site have been placed in the public domain by the
# contributors.
#
data_1527049
loop_
_publ_author_name
'Zubkov, V.G.'
'Tyutyunnik, A.P.'
'Bazuev, G.V.'
'Berger, I.F.'
_publ_section_title
;
 Synthesis, crystal structure and magnetic properties of
 quasi-one-dimensional oxides Ca3 Cu Mn O6 and Ca3 Co1+x Mn1-x O6
;
_journal_name_full               'Journal of Solid State Chemistry'
_journal_page_first              293
_journal_page_last               301
_journal_volume                  160
_journal_year                    2001
_chemical_formula_sum            'Ca3 Co Mn O6'
_space_group_IT_number           167
_symmetry_space_group_name_Hall  '-R 3 2"c'
_symmetry_space_group_name_H-M   'R -3 c :H'
_cell_angle_alpha                90
_cell_angle_beta                 90
_cell_angle_gamma                120
_cell_formula_units_Z            6
_cell_length_a                   9.1314
_cell_length_b                   9.1314
_cell_length_c                   10.5817
_cell_volume                     764.119
_citation_journal_id_ASTM        JSSCBI
_cod_data_source_file            Zubkov_JSSCBI_2001_1625.cif
_cod_data_source_block           Ca3Co1Mn1O6
_cod_original_cell_volume        764.1187
_cod_original_formula_sum        'Ca3 Co1 Mn1 O6'
_cod_database_code               1527049
loop_
_symmetry_equiv_pos_as_xyz
x,y,z
-y,x-y,z
-x+y,-x,z
y,x,-z+1/2
-x,-x+y,-z+1/2
x-y,-y,-z+1/2
-x,-y,-z
y,-x+y,-z
x-y,x,-z
-y,-x,z-1/2
x,x-y,z-1/2
-x+y,y,z-1/2
x+2/3,y+1/3,z+1/3
-y+2/3,x-y+1/3,z+1/3
-x+y+2/3,-x+1/3,z+1/3
y+2/3,x+1/3,-z+5/6
-x+2/3,-x+y+1/3,-z+5/6
x-y+2/3,-y+1/3,-z+5/6
-x+2/3,-y+1/3,-z+1/3
y+2/3,-x+y+1/3,-z+1/3
x-y+2/3,x+1/3,-z+1/3
-y+2/3,-x+1/3,z-1/6
x+2/3,x-y+1/3,z-1/6
-x+y+2/3,y+1/3,z-1/6
x+1/3,y+2/3,z+2/3
-y+1/3,x-y+2/3,z+2/3
-x+y+1/3,-x+2/3,z+2/3
y+1/3,x+2/3,-z+7/6
-x+1/3,-x+y+2/3,-z+7/6
x-y+1/3,-y+2/3,-z+7/6
-x+1/3,-y+2/3,-z+2/3
y+1/3,-x+y+2/3,-z+2/3
x-y+1/3,x+2/3,-z+2/3
-y+1/3,-x+2/3,z+1/6
x+1/3,x-y+2/3,z+1/6
-x+y+1/3,y+2/3,z+1/6
loop_
_atom_site_label
_atom_site_type_symbol
_atom_site_fract_x
_atom_site_fract_y
_atom_site_fract_z
_atom_site_occupancy
_atom_site_U_iso_or_equiv
Ca1 Ca+2 0.3621 0 0.25 1 0.0
Mn1 Mn+4 0 0 0 1 0.0
O1 O-2 0.1779 0.0247 0.108 1 0.0
Co1 Co+2 0 0 0.25 1 0.0
