#------------------------------------------------------------------------------
#$Date: 2016-02-13 20:28:24 +0100 (Sat 13 de Feb de 2016) $
#$Revision: 176429 $
#$URL: svn://www.crystallography.net/cod/cif/1/52/81/1528116.cif $
#------------------------------------------------------------------------------
#
# This file is available in the Crystallography Open Database (COD),
# http://www.crystallography.net/
#
# All data on this site have been placed in the public domain by the
# contributors.
#
data_1528116
loop_
_publ_author_name
'Takasuki, T.'
'Izumi, O.'
'Yoshida, M.'
_publ_section_title
;
 Anomalous temperature dependence of the yield strength in IVa-VIII
 intermetallic compounds with B2 structure
;
_journal_name_full               'Journal of Materials Science'
_journal_page_first              2941
_journal_page_last               2948
_journal_volume                  26
_journal_year                    1991
_chemical_formula_sum            'Co Ti0.7 Zr0.3'
_chemical_name_systematic        'Co (Ti0.7 Zr0.3)'
_space_group_IT_number           221
_symmetry_space_group_name_Hall  '-P 4 2 3'
_symmetry_space_group_name_H-M   'P m -3 m'
_cell_angle_alpha                90
_cell_angle_beta                 90
_cell_angle_gamma                90
_cell_formula_units_Z            1
_cell_length_a                   3.06
_cell_length_b                   3.06
_cell_length_c                   3.06
_cell_volume                     28.653
_citation_journal_id_ASTM        JMTSAS
_cod_data_source_file            Takasuki_JMTSAS_1991_372.cif
_cod_data_source_block           Co1Ti0.7Zr0.3
_cod_original_cell_volume        28.65261
_cod_original_formula_sum        'Co1 Ti0.7 Zr0.3'
_cod_database_code               1528116
loop_
_symmetry_equiv_pos_as_xyz
x,y,z
-y,x,z
-x,-y,z
y,-x,z
x,-y,-z
y,x,-z
-x,y,-z
-y,-x,-z
z,x,y
-x,z,y
-z,-x,y
x,-z,y
z,-x,-y
x,z,-y
-z,x,-y
-x,-z,-y
y,z,x
y,-z,-x
z,y,-x
-y,z,-x
-z,-y,-x
-y,-z,x
z,-y,x
-z,y,x
-x,-y,-z
y,-x,-z
x,y,-z
-y,x,-z
-x,y,z
-y,-x,z
x,-y,z
y,x,z
-z,-x,-y
x,-z,-y
z,x,-y
-x,z,-y
-z,x,y
-x,-z,y
z,-x,y
x,z,y
-y,-z,-x
-y,z,x
-z,-y,x
y,-z,x
z,y,x
y,z,-x
-z,y,-x
z,-y,-x
loop_
_atom_site_label
_atom_site_type_symbol
_atom_site_fract_x
_atom_site_fract_y
_atom_site_fract_z
_atom_site_occupancy
_atom_site_U_iso_or_equiv
Zr1 Zr 0.5 0.5 0.5 0.3 0.0
Co1 Co 0 0 0 1 0.0
Ti1 Ti 0.5 0.5 0.5 0.7 0.0
