#------------------------------------------------------------------------------
#$Date: 2018-09-27 06:13:35 +0200 (jue 27 de sep de 2018) $
#$Revision: 211196 $
#$URL: svn://www.crystallography.net/cod/cif/1/53/07/1530788.cif $
#------------------------------------------------------------------------------
#
# This file is available in the Crystallography Open Database (COD),
# http://www.crystallography.net/
#
# All data on this site have been placed in the public domain by the
# contributors.
#
data_1530788
loop_
_publ_author_name
'Skolozdra, R.V.'
'Mandzyk, V.M.'
'Aksel'rud, L.G.'
_publ_section_title
;
 Crystal structure of the compound Ce Ni5 Sn
;
_journal_name_full               Kristallografiya
_journal_page_first              480
_journal_page_last               483
_journal_volume                  26
_journal_year                    1981
_chemical_formula_sum            'Ce Ni5 Sn'
_space_group_IT_number           194
_symmetry_space_group_name_Hall  '-P 6c 2c'
_symmetry_space_group_name_H-M   'P 63/m m c'
_cell_angle_alpha                90
_cell_angle_beta                 90
_cell_angle_gamma                120
_cell_formula_units_Z            4
_cell_length_a                   4.9049
_cell_length_b                   4.9049
_cell_length_c                   19.731
_cell_volume                     411.093
_citation_journal_id_ASTM        KRISAJ
_cod_data_source_file            Skolozdra_KRISAJ_1981_1967.cif
_cod_data_source_block           Ce1Ni5Sn1
_cod_original_formula_sum        'Ce1 Ni5 Sn1'
_cod_database_code               1530788
loop_
_symmetry_equiv_pos_as_xyz
x,y,z
x-y,x,z+1/2
-y,x-y,z
-x,-y,z+1/2
-x+y,-x,z
y,-x+y,z+1/2
-y,-x,-z+1/2
x-y,-y,-z
x,x-y,-z+1/2
y,x,-z
-x+y,y,-z+1/2
-x,-x+y,-z
-x,-y,-z
-x+y,-x,-z-1/2
y,-x+y,-z
x,y,-z-1/2
x-y,x,-z
-y,x-y,-z-1/2
y,x,z-1/2
-x+y,y,z
-x,-x+y,z-1/2
-y,-x,z
x-y,-y,z-1/2
x,x-y,z
loop_
_atom_site_label
_atom_site_type_symbol
_atom_site_fract_x
_atom_site_fract_y
_atom_site_fract_z
_atom_site_occupancy
_atom_site_U_iso_or_equiv
Ce2 Ce 0 0 0 1 0.0
Ni1 Ni 0.831 0.662 0.1458 1 0.0
Ni3 Ni 0.3333 0.6667 0.75 1 0.0
Sn1 Sn 0.3333 0.6667 0.0873 1 0.0
Ni4 Ni 0 0 0.25 1 0.0
Ce1 Ce 0.3333 0.6667 0.25 1 0.0
Ni2 Ni 0.3333 0.6667 0.5425 1 0.0
