#------------------------------------------------------------------------------
#$Date: 2016-02-13 20:28:24 +0100 (Sat 13 de Feb de 2016) $
#$Revision: 176429 $
#$URL: svn://www.crystallography.net/cod/cif/1/53/15/1531502.cif $
#------------------------------------------------------------------------------
#
# This file is available in the Crystallography Open Database (COD),
# http://www.crystallography.net/
#
# All data on this site have been placed in the public domain by the
# contributors.
#
data_1531502
loop_
_publ_author_name
'Fuentes, A.F.'
'Hernandez-Ibarra, O.'
'Mendoza-Suarez, G.'
'Amador, U.'
'Boulahya, K.'
'Escalante-Garcia, J.I.'
_publ_section_title
;
 Structural analysis of several W(VI) and Mo(VI) complex
 perovskitesprepared by the polymeric precursors method
;
_journal_name_full               'Journal of Solid State Chemistry'
_journal_page_first              319
_journal_page_last               327
_journal_volume                  173
_journal_year                    2003
_chemical_formula_sum            'Ba In0.667 O3 W0.333'
_chemical_name_systematic        'Ba (In0.667 W0.333) O3'
_space_group_IT_number           221
_symmetry_space_group_name_Hall  '-P 4 2 3'
_symmetry_space_group_name_H-M   'P m -3 m'
_cell_angle_alpha                90
_cell_angle_beta                 90
_cell_angle_gamma                90
_cell_formula_units_Z            1
_cell_length_a                   4.1573
_cell_length_b                   4.1573
_cell_length_c                   4.1573
_cell_volume                     71.851
_citation_journal_id_ASTM        JSSCBI
_cod_data_source_file            Fuentes_JSSCBI_2003_1598.cif
_cod_data_source_block           Ba1In0.667O3W0.333
_cod_original_cell_volume        71.85121
_cod_original_formula_sum        'Ba1 In0.667 O3 W0.333'
_cod_database_code               1531502
loop_
_symmetry_equiv_pos_as_xyz
x,y,z
-y,x,z
-x,-y,z
y,-x,z
x,-y,-z
y,x,-z
-x,y,-z
-y,-x,-z
z,x,y
-x,z,y
-z,-x,y
x,-z,y
z,-x,-y
x,z,-y
-z,x,-y
-x,-z,-y
y,z,x
y,-z,-x
z,y,-x
-y,z,-x
-z,-y,-x
-y,-z,x
z,-y,x
-z,y,x
-x,-y,-z
y,-x,-z
x,y,-z
-y,x,-z
-x,y,z
-y,-x,z
x,-y,z
y,x,z
-z,-x,-y
x,-z,-y
z,x,-y
-x,z,-y
-z,x,y
-x,-z,y
z,-x,y
x,z,y
-y,-z,-x
-y,z,x
-z,-y,x
y,-z,x
z,y,x
y,z,-x
-z,y,-x
z,-y,-x
loop_
_atom_site_label
_atom_site_type_symbol
_atom_site_fract_x
_atom_site_fract_y
_atom_site_fract_z
_atom_site_occupancy
_atom_site_U_iso_or_equiv
Ba1 Ba+2 0.5 0.5 0.5 1 0.0
In1 In+3 0 0 0 0.667 0.0
W1 W+6 0 0 0 0.333 0.0
O1 O-2 0.5 0 0 1 0.0
