#------------------------------------------------------------------------------
#$Date: 2016-02-13 20:28:24 +0100 (Sat 13 de Feb de 2016) $
#$Revision: 176429 $
#$URL: svn://www.crystallography.net/cod/cif/1/53/19/1531901.cif $
#------------------------------------------------------------------------------
#
# This file is available in the Crystallography Open Database (COD),
# http://www.crystallography.net/
#
# All data on this site have been placed in the public domain by the
# contributors.
#
data_1531901
loop_
_publ_author_name
'Mozharivsky, Yu.'
'Kaczorowski, D.'
'Franzen, H.F.'
_publ_section_title
;
 Symmetry-breaking transitions in Ho Cu As2-x Px and Er Cu As2-x Px (x = 0
 - 2): crystal structure, application of Landau theory, magnetic and
 electrical properties
;
_journal_name_full
'Zeitschrift fuer Anorganische und Allgemeine Chemie'
_journal_page_first              2163
_journal_page_last               2172
_journal_volume                  627
_journal_year                    2001
_chemical_formula_sum            'As2 Cu Ho'
_chemical_name_systematic        'Ho Cu As2'
_space_group_IT_number           129
_symmetry_space_group_name_Hall  '-P 4a 2a'
_symmetry_space_group_name_H-M   'P 4/n m m :2'
_cell_angle_alpha                90
_cell_angle_beta                 90
_cell_angle_gamma                90
_cell_formula_units_Z            2
_cell_length_a                   3.874
_cell_length_b                   3.874
_cell_length_c                   9.827
_cell_volume                     147.482
_citation_journal_id_ASTM        ZAACAB
_cod_data_source_file            Mozharivsky_ZAACAB_2001_25.cif
_cod_data_source_block           As2Cu1Ho1
_cod_original_cell_volume        147.4824
_cod_original_formula_sum        'As2 Cu1 Ho1'
_cod_database_code               1531901
loop_
_symmetry_equiv_pos_as_xyz
x,y,z
-y+1/2,x,z
-x+1/2,-y+1/2,z
y,-x+1/2,z
x+1/2,-y,-z
y+1/2,x+1/2,-z
-x,y+1/2,-z
-y,-x,-z
-x,-y,-z
y-1/2,-x,-z
x-1/2,y-1/2,-z
-y,x-1/2,-z
-x-1/2,y,z
-y-1/2,-x-1/2,z
x,-y-1/2,z
y,x,z
loop_
_atom_site_label
_atom_site_type_symbol
_atom_site_fract_x
_atom_site_fract_y
_atom_site_fract_z
_atom_site_occupancy
_atom_site_U_iso_or_equiv
As2 As-3 0.75 0.25 0 1 0.0
As1 As-3 0.25 0.25 0.66203 1 0.0
Cu1 Cu+3 0.75 0.25 0.5 1 0.0
Ho1 Ho+3 0.25 0.25 0.23719 1 0.0
