#------------------------------------------------------------------------------
#$Date: 2016-02-13 20:28:24 +0100 (Sat 13 de Feb de 2016) $
#$Revision: 176429 $
#$URL: svn://www.crystallography.net/cod/cif/1/53/25/1532547.cif $
#------------------------------------------------------------------------------
#
# This file is available in the Crystallography Open Database (COD),
# http://www.crystallography.net/
#
# All data on this site have been placed in the public domain by the
# contributors.
#
data_1532547
loop_
_publ_author_name
'Huang Fuqiang'
'Somers, R.C.'
'McFarland, A.D.'
'van Duyne, R.P.'
'Ibers, J.A.'
_publ_section_title
;
 Syntheses, structures, optical properties and theoretical calculations of
 Cs2 Bi2 Zn S5, Cs2 Bi2 Cd S5 and Cs2 Bi2 Mn S5
;
_journal_name_full               'Journal of Solid State Chemistry'
_journal_page_first              334
_journal_page_last               341
_journal_volume                  174
_journal_year                    2003
_chemical_formula_sum            'Bi2 Cs2 Mn S5'
_chemical_name_systematic        'Cs2 Bi2 Mn S5'
_space_group_IT_number           62
_symmetry_space_group_name_Hall  '-P 2ac 2n'
_symmetry_space_group_name_H-M   'P n m a'
_cell_angle_alpha                90
_cell_angle_beta                 90
_cell_angle_gamma                90
_cell_formula_units_Z            4
_cell_length_a                   15.83
_cell_length_b                   4.1515
_cell_length_c                   18.372
_cell_volume                     1207.376
_citation_journal_id_ASTM        JSSCBI
_cod_data_source_file            HuangFuqiang_JSSCBI_2003_138.cif
_cod_data_source_block           Bi2Cs2Mn1S5
_cod_original_formula_sum        'Bi2 Cs2 Mn1 S5'
_cod_database_code               1532547
loop_
_symmetry_equiv_pos_as_xyz
x,y,z
-x+1/2,-y,z+1/2
x+1/2,-y+1/2,-z+1/2
-x,y+1/2,-z
-x,-y,-z
x-1/2,y,-z-1/2
-x-1/2,y-1/2,z-1/2
x,-y-1/2,z
loop_
_atom_site_label
_atom_site_type_symbol
_atom_site_fract_x
_atom_site_fract_y
_atom_site_fract_z
_atom_site_occupancy
_atom_site_U_iso_or_equiv
Cs1 Cs+1 0.00771 0.25 0.62374 1 0.0
S3 S-2 0.2097 0.25 0.843 1 0.0
Bi1 Bi+3 0.25315 0.25 0.0174 1 0.0
Mn1 Mn+2 0.20939 0.25 0.35439 1 0.0
S2 S-2 0.139 0.25 0.4724 1 0.0
Bi2 Bi+3 0.29325 0.25 0.69655 1 0.0
Cs2 Cs+1 0.463 0.25 0.38355 1 0.0
S5 S-2 0.3661 0.25 0.5621 1 0.0
S4 S-2 0.3182 0.25 0.1482 1 0.0
S1 S-2 0.1067 0.25 0.2548 1 0.0
