#------------------------------------------------------------------------------
#$Date: 2016-02-13 20:28:24 +0100 (Sat 13 de Feb de 2016) $
#$Revision: 176429 $
#$URL: svn://www.crystallography.net/cod/cif/1/53/50/1535043.cif $
#------------------------------------------------------------------------------
#
# This file is available in the Crystallography Open Database (COD),
# http://www.crystallography.net/
#
# All data on this site have been placed in the public domain by the
# contributors.
#
data_1535043
loop_
_publ_author_name
'Harrowfield, J.M.B.'
'Kepert, D.L.'
'Patrick, J.M.'
'White, A.H.'
_publ_section_title
;
 Structure and Stereochemistry in 'f-Block' Complexes of High Coordination
 Number. VIII The (M(unidentate)9) System. Crystal Structures of (M (O
 H2)9) (C F3 S O3)3, M= La, Gd, Lu, Y
;
_journal_name_full               'Australian Journal of Chemistry'
_journal_page_first              483
_journal_page_last               492
_journal_volume                  36
_journal_year                    1983
_chemical_formula_sum            'C3 H18 F9 O18 S3 Y'
_chemical_name_systematic        '(Y (H2 O)9) (C F3 S O3)3'
_space_group_IT_number           176
_symmetry_space_group_name_Hall  '-P 6c'
_symmetry_space_group_name_H-M   'P 63/m'
_cell_angle_alpha                90
_cell_angle_beta                 90
_cell_angle_gamma                120
_cell_formula_units_Z            2
_cell_length_a                   13.52
_cell_length_b                   13.52
_cell_length_c                   7.653
_cell_volume                     1211.479
_citation_journal_id_ASTM        AJCHAS
_cod_data_source_file            Harrowfield_AJCHAS_1983_272.cif
_cod_data_source_block           C3H18F9O18S3Y1
_cod_original_formula_sum        'C3 H18 F9 O18 S3 Y1'
_cod_database_code               1535043
loop_
_symmetry_equiv_pos_as_xyz
x,y,z
x-y,x,z+1/2
-y,x-y,z
-x,-y,z+1/2
-x+y,-x,z
y,-x+y,z+1/2
-x,-y,-z
-x+y,-x,-z-1/2
y,-x+y,-z
x,y,-z-1/2
x-y,x,-z
-y,x-y,-z-1/2
loop_
_atom_site_label
_atom_site_type_symbol
_atom_site_fract_x
_atom_site_fract_y
_atom_site_fract_z
_atom_site_occupancy
_atom_site_U_iso_or_equiv
C1 C+2 0.1985 0.2369 0.75 1 0.0
F1 F-1 0.2431 0.1681 0.75 1 0.0
O2 O-2 0.2103 0.5453 0.4672 1 0.0
O4 O-2 0.3747 0.3942 0.5913 1 0.0
Y1 Y+3 0.33333 0.66667 0.25 1 0.0
O3 O-2 0.2566 0.4495 0.75 1 0.0
H2 H+1 0.221 0.499 0.551 1 0.0
O1 O-2 0.3451 0.4861 0.25 1 0.0
H3 H+1 0.144 0.512 0.463 1 0.0
S1 S+6 0.3143 0.3845 0.75 1 0.0
F2 F-1 0.1377 0.2159 0.6107 1 0.0
H1 H+1 0.372 0.459 0.138 1 0.0
