#------------------------------------------------------------------------------
#$Date: 2016-02-13 20:28:24 +0100 (Sat 13 de Feb de 2016) $
#$Revision: 176429 $
#$URL: svn://www.crystallography.net/cod/cif/1/53/71/1537116.cif $
#------------------------------------------------------------------------------
#
# This file is available in the Crystallography Open Database (COD),
# http://www.crystallography.net/
#
# All data on this site have been placed in the public domain by the
# contributors.
#
data_1537116
loop_
_publ_author_name
'Frit, B.'
'Roult, G.'
'Galy, J.'
_publ_section_title
;
 Cristallochimie de Tl(III)6 Te(VI) O12 et Tl(I)6 Te(VI) O6 E6: un exemple
 original de l'activite stereochimique de la paire electronique 6s2(E) du
 thallium(I)
;
_journal_name_full               'Journal of Solid State Chemistry'
_journal_page_first              246
_journal_page_last               255
_journal_volume                  48
_journal_year                    1983
_chemical_formula_sum            'O6 Te Tl6'
_chemical_name_systematic        'Tl6 Te O6'
_space_group_IT_number           148
_symmetry_space_group_name_Hall  '-R 3'
_symmetry_space_group_name_H-M   'R -3 :H'
_cell_angle_alpha                90
_cell_angle_beta                 90
_cell_angle_gamma                120
_cell_formula_units_Z            3
_cell_length_a                   9.5722
_cell_length_b                   9.5722
_cell_length_c                   9.3494
_cell_volume                     741.887
_citation_journal_id_ASTM        JSSCBI
_cod_data_source_file            Frit_JSSCBI_1983_218.cif
_cod_data_source_block           O6Te1Tl6
_cod_original_cell_volume        741.8872
_cod_original_formula_sum        'O6 Te1 Tl6'
_cod_database_code               1537116
loop_
_symmetry_equiv_pos_as_xyz
x,y,z
-y,x-y,z
-x+y,-x,z
-x,-y,-z
y,-x+y,-z
x-y,x,-z
x+2/3,y+1/3,z+1/3
-y+2/3,x-y+1/3,z+1/3
-x+y+2/3,-x+1/3,z+1/3
-x+2/3,-y+1/3,-z+1/3
y+2/3,-x+y+1/3,-z+1/3
x-y+2/3,x+1/3,-z+1/3
x+1/3,y+2/3,z+2/3
-y+1/3,x-y+2/3,z+2/3
-x+y+1/3,-x+2/3,z+2/3
-x+1/3,-y+2/3,-z+2/3
y+1/3,-x+y+2/3,-z+2/3
x-y+1/3,x+2/3,-z+2/3
loop_
_atom_site_label
_atom_site_type_symbol
_atom_site_fract_x
_atom_site_fract_y
_atom_site_fract_z
_atom_site_occupancy
_atom_site_U_iso_or_equiv
O1 O-2 0.16724 0.00103 0.11924 1 0.0
Tl1 Tl+1 0.14865 0.43137 0.003 1 0.0
Te1 Te+6 0 0 0 1 0.0
