#------------------------------------------------------------------------------
#$Date: 2016-02-13 20:28:24 +0100 (Sat 13 de Feb de 2016) $
#$Revision: 176429 $
#$URL: svn://www.crystallography.net/cod/cif/1/53/75/1537531.cif $
#------------------------------------------------------------------------------
#
# This file is available in the Crystallography Open Database (COD),
# http://www.crystallography.net/
#
# All data on this site have been placed in the public domain by the
# contributors.
#
data_1537531
loop_
_publ_author_name
'Klein Haneveld, A.J.'
'Jellinek, F.'
_publ_section_title
;
 Some ternary uranium chalcogenides
;
_journal_name_full               'Journal of the Less-Common Metals'
_journal_page_first              123
_journal_page_last               129
_journal_volume                  18
_journal_year                    1969
_chemical_formula_sum            'Ge Te U'
_chemical_name_systematic        'U Ge Te'
_space_group_IT_number           139
_symmetry_space_group_name_Hall  '-I 4 2'
_symmetry_space_group_name_H-M   'I 4/m m m'
_cell_angle_alpha                90
_cell_angle_beta                 90
_cell_angle_gamma                90
_cell_formula_units_Z            4
_cell_length_a                   4.1058
_cell_length_b                   4.1058
_cell_length_c                   17.6014
_cell_volume                     296.717
_citation_journal_id_ASTM        JCOMAH
_cod_data_source_file            KleinHaneveld_JCOMAH_1969_1213.cif
_cod_data_source_block           Ge1Te1U1
_cod_original_cell_volume        296.7173
_cod_original_formula_sum        'Ge1 Te1 U1'
_cod_database_code               1537531
loop_
_symmetry_equiv_pos_as_xyz
x,y,z
-y,x,z
-x,-y,z
y,-x,z
x,-y,-z
y,x,-z
-x,y,-z
-y,-x,-z
-x,-y,-z
y,-x,-z
x,y,-z
-y,x,-z
-x,y,z
-y,-x,z
x,-y,z
y,x,z
x+1/2,y+1/2,z+1/2
-y+1/2,x+1/2,z+1/2
-x+1/2,-y+1/2,z+1/2
y+1/2,-x+1/2,z+1/2
x+1/2,-y+1/2,-z+1/2
y+1/2,x+1/2,-z+1/2
-x+1/2,y+1/2,-z+1/2
-y+1/2,-x+1/2,-z+1/2
-x+1/2,-y+1/2,-z+1/2
y+1/2,-x+1/2,-z+1/2
x+1/2,y+1/2,-z+1/2
-y+1/2,x+1/2,-z+1/2
-x+1/2,y+1/2,z+1/2
-y+1/2,-x+1/2,z+1/2
x+1/2,-y+1/2,z+1/2
y+1/2,x+1/2,z+1/2
loop_
_atom_site_label
_atom_site_type_symbol
_atom_site_fract_x
_atom_site_fract_y
_atom_site_fract_z
_atom_site_occupancy
_atom_site_U_iso_or_equiv
U1 U 0 0 0.123 1 0.0
Ge1 Ge 0 0.5 0 1 0.0
Te1 Te 0 0 0.3123 1 0.0
