#------------------------------------------------------------------------------
#$Date: 2015-10-12 17:39:07 +0200 (lun 12 de oct de 2015) $
#$Revision: 166079 $
#$URL: svn://www.crystallography.net/cod/cif/1/53/77/1537758.cif $
#------------------------------------------------------------------------------
#
# This file is available in the Crystallography Open Database (COD),
# http://www.crystallography.net/
#
# All data on this site have been placed in the public domain by the
# contributors.
#
data_1537758
loop_
_publ_author_name
'Darby, J.B.jr.'
'Norton, L.J.'
'Downey, J.W.'
_publ_section_title
;
 A survey of the binary systems of technetium with group VIII transition
 elements
;
_journal_name_full               'Journal of the Less-Common Metals'
_journal_page_first              397
_journal_page_last               402
_journal_volume                  5
_journal_year                    1963
_chemical_formula_sum            'Pt0.6 Tc1.4'
_chemical_name_systematic        '(Pt3 Tc7)0.2'
_space_group_IT_number           194
_symmetry_space_group_name_Hall  '-P 6c 2c'
_symmetry_space_group_name_H-M   'P 63/m m c'
_cell_angle_alpha                90
_cell_angle_beta                 90
_cell_angle_gamma                120
_cell_formula_units_Z            1
_cell_length_a                   2.752
_cell_length_b                   2.752
_cell_length_c                   4.385
_cell_volume                     28.761
_citation_journal_id_ASTM        JCOMAH
_cod_data_source_file            Darby_JCOMAH_1963_1543.cif
_cod_data_source_block           Pt0.6Tc1.4
_cod_original_cell_volume        28.76055
_cod_database_code               1537758
loop_
_symmetry_equiv_pos_as_xyz
x,y,z
x-y,x,z+1/2
-y,x-y,z
-x,-y,z+1/2
-x+y,-x,z
y,-x+y,z+1/2
-y,-x,-z+1/2
x-y,-y,-z
x,x-y,-z+1/2
y,x,-z
-x+y,y,-z+1/2
-x,-x+y,-z
-x,-y,-z
-x+y,-x,-z-1/2
y,-x+y,-z
x,y,-z-1/2
x-y,x,-z
-y,x-y,-z-1/2
y,x,z-1/2
-x+y,y,z
-x,-x+y,z-1/2
-y,-x,z
x-y,-y,z-1/2
x,x-y,z
loop_
_atom_site_label
_atom_site_type_symbol
_atom_site_fract_x
_atom_site_fract_y
_atom_site_fract_z
_atom_site_occupancy
_atom_site_U_iso_or_equiv
Tc1 Tc 0.3333 0.6667 0.25 0.7 0.0
Pt1 Pt 0.3333 0.6667 0.25 0.3 0.0
