#------------------------------------------------------------------------------
#$Date: 2018-09-27 06:13:35 +0200 (jue 27 de sep de 2018) $
#$Revision: 211196 $
#$URL: svn://www.crystallography.net/cod/cif/1/54/01/1540173.cif $
#------------------------------------------------------------------------------
#
# This file is available in the Crystallography Open Database (COD),
# http://www.crystallography.net/
#
# All data on this site have been placed in the public domain by the
# contributors.
#
data_1540173
loop_
_publ_author_name
'Jayaraman, A.'
'Sherwood, R.C.'
_publ_section_title
;
 Phase transformation in samarium induced by high pressure and its effect
 on the antiferromagnetic ordering
;
_journal_name_full
'Physical Review (1,1893-132,1963/141,1966-188,1969)'
_journal_page_first              A691
_journal_page_last               A692
_journal_volume                  134
_journal_year                    1964
_chemical_formula_sum            Sm
_space_group_IT_number           194
_symmetry_space_group_name_Hall  '-P 6c 2c'
_symmetry_space_group_name_H-M   'P 63/m m c'
_cell_angle_alpha                90
_cell_angle_beta                 90
_cell_angle_gamma                120
_cell_formula_units_Z            4
_cell_length_a                   3.618
_cell_length_b                   3.618
_cell_length_c                   11.66
_cell_volume                     132.180
_citation_journal_id_ASTM        PHRVAO
_cod_data_source_file            Jayaraman_PHRVAO_1964_52.cif
_cod_data_source_block           Sm1
_cod_original_cell_volume        132.1802
_cod_original_formula_sum        Sm1
_cod_database_code               1540173
loop_
_symmetry_equiv_pos_as_xyz
x,y,z
x-y,x,z+1/2
-y,x-y,z
-x,-y,z+1/2
-x+y,-x,z
y,-x+y,z+1/2
-y,-x,-z+1/2
x-y,-y,-z
x,x-y,-z+1/2
y,x,-z
-x+y,y,-z+1/2
-x,-x+y,-z
-x,-y,-z
-x+y,-x,-z-1/2
y,-x+y,-z
x,y,-z-1/2
x-y,x,-z
-y,x-y,-z-1/2
y,x,z-1/2
-x+y,y,z
-x,-x+y,z-1/2
-y,-x,z
x-y,-y,z-1/2
x,x-y,z
loop_
_atom_site_label
_atom_site_type_symbol
_atom_site_fract_x
_atom_site_fract_y
_atom_site_fract_z
_atom_site_occupancy
_atom_site_U_iso_or_equiv
Sm1 Sm 0 0 0 1 0.0
Sm2 Sm 0.3333 0.6667 0.25 1 0.0
