#------------------------------------------------------------------------------
#$Date: 2019-03-01 08:00:20 +0100 (vie 01 de mar de 2019) $
#$Revision: 213921 $
#$URL: svn://www.crystallography.net/cod/cif/1/54/52/1545260.cif $
#------------------------------------------------------------------------------
#
# This file is available in the Crystallography Open Database (COD),
# http://www.crystallography.net/
#
# All data on this site have been placed in the public domain by the
# contributors.
#
data_1545260
loop_
_publ_author_name
'Giménez-Marqués, Mónica'
'Calvo Galve, Néstor'
'Palomino, Miguel'
'Valencia, Susana'
'Rey, Fernando'
'Sastre, Germán'
'Vitórica-Yrezábal, Iñigo J.'
'Jiménez-Ruiz, Mónica'
'Rodríguez-Velamazán, J. Alberto'
'González, Miguel A.'
'Jordá, José L.'
'Coronado, Eugenio'
'Espallargas, Guillermo Mínguez'
_publ_section_title
;
 Gas confinement in compartmentalized coordination polymers for highly
 selective sorption
;
_journal_issue                   4
_journal_name_full               'Chem. Sci.'
_journal_page_first              3109
_journal_paper_doi               10.1039/C6SC05122G
_journal_volume                  8
_journal_year                    2017
_chemical_formula_moiety         'C30 H30 N24 Fe, 2(BF4) 1.04(CO2)'
_chemical_formula_structural     'Fe (C10 H10 N8)3, 2(BF4) 1.04(CO2)'
_chemical_formula_sum            'C31.044 H30 B2 F8 Fe N24 O2.088'
_chemical_formula_weight         1002.161559
_space_group_crystal_system      hexagonal
_space_group_IT_number           176
_space_group_name_Hall           '-P 6c'
_space_group_name_H-M_alt        'P 63/m'
_audit_update_record
;
2016-04-12 deposited with the CCDC.
2017-02-13 downloaded from the CCDC.
;
_cell_angle_alpha                90
_cell_angle_beta                 90
_cell_angle_gamma                120
_cell_formula_units_Z            2
_cell_length_a                   10.57127(10)
_cell_length_b                   10.57127(10)
_cell_length_c                   23.48130(37)
_cell_measurement_temperature    298
_cell_volume                     2272.52(5)
_computing_data_reduction        'Topas (Coelho, 2003)'
_computing_publication_material
'enCifer (Cambridge Crystallographic Data Centre, 2004)'
_computing_structure_refinement  'Topas (Coelho, 2003)'
_computing_structure_solution    'Topas (Coelho, 2003)'
_diffrn_ambient_temperature      298
_diffrn_detector_type            '40 degrees Mythen'
_diffrn_measurement_device_type  'BEamline BL04, ALBA'
_diffrn_radiation_wavelength     0.799933
_diffrn_reflns_limit_h_max       7
_diffrn_reflns_limit_h_min       0
_diffrn_reflns_limit_k_max       7
_diffrn_reflns_limit_k_min       0
_diffrn_reflns_limit_l_max       19
_diffrn_reflns_limit_l_min       0
_diffrn_reflns_number            628
_diffrn_source                   synchrotron
_exptl_absorpt_coefficient_mu    0.425
_exptl_absorpt_correction_type   none
_exptl_crystal_density_diffrn    1.4646(1)
_exptl_crystal_density_method    'not measured'
_exptl_crystal_F_000             1017.9
_exptl_crystal_preparation       'Magnetic properties'
_pd_block_diffractogram_id       ccp_2_co2_6bar_fsum.xye
_pd_char_colour                  white
_pd_char_particle_morphology     'visual estimate, prisms'
_pd_instr_location               ' ALBA'
_pd_meas_2theta_range_inc        0.003
_pd_meas_2theta_range_max        40.0
_pd_meas_2theta_range_min        3.0
_pd_meas_number_of_points        6850
_pd_meas_scan_method             cont
_pd_prep_temperature             298
_pd_proc_ls_background_function  'Chebyshev polynomial'
_pd_proc_ls_pref_orient_corr     Spherical_Harmonics
_pd_proc_ls_profile_function
;   
Fundamental parameters with axial divergence correction
;
_pd_proc_ls_prof_wR_expected     0.00957
_pd_spec_mounting                '1 mm quartz capillary'
_pd_spec_mount_mode              transmission
_pd_spec_shape                   cylinder
_pd_spec_size_axial              10
_pd_spec_size_equat              1
_refine_ls_extinction_method     none
_refine_ls_goodness_of_fit_all   3.271
_refine_ls_hydrogen_treatment    mixed
_refine_ls_matrix_type           sparse
_refine_ls_number_constraints    1
_refine_ls_number_parameters     62
_refine_ls_number_restraints     56
_refine_ls_weighting_details     1/σ(Yobs)²
_refine_ls_weighting_scheme      sigma
_cod_data_source_file            c6sc05122g3.cif
_cod_data_source_block           ccp2_co2
_cod_depositor_comments
;
 Removed the underscore symbol ('_') from the value of the
 _space_group_name_Hall data item.
 
 Antanas Vaitkus,
 2019-03-01

The following automatic conversions were performed:

'_space_group_crystal_system' value 'Hexagonal' changed to
'hexagonal' according to
/usr/data/users/saulius/crontab/automatic-downloads/rss-feeds/RSC/lib/dictionaries/cif_core.dic
dictionary named 'cif_core.dic' version 2.4.2 from 2011-04-26.

Automatic conversion script
Id: cif_fix_values 4268 2015-11-12 08:31:59Z antanas 

 Adding full bibliography for 1545255--1545262.cif.
;
_cod_original_cell_volume        2272.517(57)
_cod_original_formula_sum        'B2 C31.044 F8 Fe1 H30 N24 O2.088'
_cod_database_code               1545260
_chemical_compound_sour          'see text'
_pd_proc_ls_prof_r_wp_factor     0.03131
_pd_proc_ls_prof_r_wp_dash_factor 0.15339
loop_
_symmetry_equiv_pos_as_xyz
'-x, -y, -z'
'-x, -y, z+1/2'
'-x+y, -x, -z+1/2'
'-x+y, -x, z'
'-y, x-y, -z+1/2'
'-y, x-y, z'
'y, -x+y, -z'
'y, -x+y, z+1/2'
'x-y, x, -z'
'x-y, x, z+1/2'
'x, y, -z+1/2'
'x, y, z'
loop_
_atom_site_label
_atom_site_type_symbol
_atom_site_symmetry_multiplicity
_atom_site_fract_x
_atom_site_fract_y
_atom_site_fract_z
_atom_site_occupancy
_atom_site_B_iso_or_equiv
Fe1 Fe 0 1 1 0.5 1 3.80(14)
F1 F 0 0.6666667 0.3333333 0.578447 0.4677(40) 9.84(32)
Ba B 0 0.6666667 0.3333333 0.518371 0.4677(40) 9.84(32)
F2 F 0 0.655261 0.198037 0.506056 0.4677(40) 9.84(32)
F1b F 0 0.6666667 0.3333333 0.429087 0.5323(40) 9.84(32)
Bb B 0 0.6666667 0.3333333 0.489085 0.5323(40) 9.84(32)
F2b F 0 0.541366 0.198282 0.499924 0.5323(40) 9.84(32)
N1 N 0 0.95234 0.80768 0.55433 1 6.60(16)
C2 C 0 1.03317 0.75211 0.56683 1 6.60(16)
H2 H 0 1.14202 0.780113 0.552399 1 7.92(19)
N3 N 0 0.96958 0.65024 0.60396 1 6.60(16)
N4 N 0 0.84089 0.63577 0.61763 1 6.60(16)
N5 N 0 0.82266 0.73 0.58827 1 6.60(16)
C6 C 0 1.02429 0.54743 0.62699 1 6.60(16)
H6A H 0 1.13756 0.587006 0.615096 1 7.92(19)
H6B H 0 0.955836 0.436096 0.611709 1 7.92(19)
C7 C 0 1.020158019(35) 0.548254695(29) 0.691356194(13) 1 6.60(16)
C8 C 0 1.10823786(12) 0.675918248(53) 0.720719689(13) 1 6.60(16)
H8 H 0 1.17254 0.77754 0.697392 1 7.92(19)
C9 C 0 0.92057502(11) 0.424746793(65) 0.720319401(14) 1 6.60(16)
H9 H 0 0.844379 0.327544 0.696649 1 7.92(19)
O2S O 0 0.07151694 0.1181834 0.2416963 0.1740(17) 5.3003
C1S C 0 0.07157687 0.02606326 0.2148751 0.1740(17) 5.3003
O1S O 0 0.0716368 -0.06605688 0.1880539 0.1740(17) 5.3003
loop_
_atom_type_symbol
_atom_type_description
_atom_type_scat_dispersion_real
_atom_type_scat_dispersion_imag
_atom_type_scat_source
C C 0.003 0.002 'International Tables Vol C Tables 4.2.6.8 and 6.1.1.4'
H H 0.0000 0.0000 'International Tables Vol C Tables 4.2.6.8 and 6.1.1.4'
N N 0.006 0.003 'International Tables Vol C Tables 4.2.6.8 and 6.1.1.4'
F F 0.017 0.010 'International Tables Vol C Tables 4.2.6.8 and 6.1.1.4'
B B 0.001 0.001 'International Tables Vol C Tables 4.2.6.8 and 6.1.1.4'
Fe Fe 0.346 0.844 'International Tables Vol C Tables 4.2.6.8 and 6.1.1.4'
O O 0.011 0.006 'International Tables Vol C Tables 4.2.6.8 and 6.1.1.4'
loop_
_geom_angle_atom_site_label_1
_geom_angle_atom_site_label_2
_geom_angle_atom_site_label_3
_geom_angle
_geom_angle_site_symmetry_3
_geom_angle_publ_flag
N1 Fe1 N1 90.62 3.765 no
N1 Fe1 N1 180.00 7.776 no
N1 Fe1 N1 89.38 9.566 no
Fe1 N1 N5 123.62 . no
Fe1 N1 C2 130.18 . no
N5 N1 C2 105.88 . no
N4 N3 C2 109.69 . no
N3 N4 N5 108.56 . no
N3 C6 C7 108.69 . no
C8 C7 C9 120.11 . no
N4 N3 C6 123.37 . no
N1 N5 N4 105.49 . no
C6 C7 C8 119.83 . no
C2 N3 C6 126.76 . no
N1 C2 N3 110.39 . no
C6 C7 C9 119.88 . no
C7 C8 C8 119.95 10_556 no
C7 C9 C9 115.71 10_556 no
N1 C2 H2 131 . no
N3 C6 H6B 111 . no
H6A C6 H6B 110 . no
C7 C9 H9 119.74 . no
N3 C2 H2 119 . no
C7 C6 H6A 106 . no
C7 C8 H8 119.75 . no
H9 C9 C9 123.10 10_556 no
N3 C6 H6A 111 . no
C7 C6 H6B 109 . no
H8 C8 C8 115.12 10_556 no
O1S C1S O2S 180.00 . no
F1 BA F2 100.46 . no
F2 BA F2 116.78 3_655 no
F1B BB F2B 101.89 . no
F2B BB F2B 115.87 3_655 no
loop_
_geom_bond_atom_site_label_1
_geom_bond_atom_site_label_2
_geom_bond_distance
_geom_bond_publ_flag
Fe1 N1 2.2339(1) no
N1 N5 1.4363(1) no
N1 C2 1.2897(1) no
N3 N4 1.3301(1) no
N3 C2 1.2837(1) no
N3 C6 1.5610(1) no
N4 N5 1.3026(1) no
C6 C7 1.5122(1) no
C7 C8 1.3810(1) no
C7 C9 1.3788(1) no
C2 H2 1.09 no
C6 H6A 1.09 no
C6 H6B 1.09 no
C8 H8 1.09 no
C9 H9 1.09 no
O1S C1S 1.160 no
O2S C1S 1.160 no
Ba F1 1.4107(1) no
Ba F2 1.4040(1) no
Bb F1B 1.4088(1) no
Bb F2B 1.4023(1) no
loop_
_geom_torsion_atom_site_label_1
_geom_torsion_atom_site_label_2
_geom_torsion_atom_site_label_3
_geom_torsion_atom_site_label_4
_geom_torsion
_geom_torsion_site_symmetry_3
_geom_torsion_site_symmetry_4
_geom_torsion_publ_flag
C2 N1 N5 N4 0.08 . . no
Fe1 N1 C2 N3 173.68 . . no
N4 N3 C2 N1 5.17 . . no
C2 N3 C6 C7 129.90 . . no
Fe1 N1 N5 N4 -174.01 . . no
C6 N3 N4 N5 -175.04 . . no
N4 N3 C2 N1 -0.29 . . no
N5 N1 C2 N3 0.13 . . no
N4 N3 C6 C7 -55.54 . . no
N3 C6 C7 C8 -63.76 . . no
N3 C6 C7 C9 111.22 . . no
C9 C7 C8 C8 7.15 . 10.556 no
C6 C7 C9 C9 177.91 . 10.556 no
N5 N1 C2 H2 -178 . . no
N4 N3 C2 H2 178 . . no
N4 N3 C6 H6A -172 . . no
N4 N3 C6 H6B 65 . . no
C2 N3 C6 H6B -110 . . no
H6A C6 C7 C8 56 . . no
H6B C6 C7 C8 175 . . no
H6B C6 C7 C9 -10 . . no
C9 C7 C8 H8 -169.21 . . no
C6 C7 C9 H9 -0.77 . . no
C7 C8 C8 H8 -176.34 10.556 10.556 no
C7 C9 C9 H9 -178.67 10.556 10.556 no
