#------------------------------------------------------------------------------
#$Date: 2024-01-04 11:20:52 +0100 (Thu 04 de Jan de 2024) $
#$Revision: 288675 $
#$URL: svn://www.crystallography.net/cod/cif/1/57/06/1570663.cif $
#------------------------------------------------------------------------------
#
# This file is available in the Crystallography Open Database (COD),
# http://www.crystallography.net/
#
# All data on this site have been placed in the public domain by the
# contributors.
#
data_1570663
loop_
_publ_author_name
'Ortín-Rubio, Borja'
'Rostoll-Berenguer, Jaume'
'Vila, Carlos'
'Proserpio, Davide M.'
'Guillerm, Vincent'
'Juanhuix, Judith'
'Imaz, Inhar'
'Maspoch, Daniel'
_publ_section_title
;
 Net-clipping as a top-down approach for the prediction of topologies of
 MOFs built from reduced-symmetry linkers.
;
_journal_issue                   45
_journal_name_full               'Chemical science'
_journal_page_first              12984
_journal_page_last               12994
_journal_paper_doi               10.1039/d3sc04406h
_journal_volume                  14
_journal_year                    2023
_chemical_formula_structural     icn10
_chemical_formula_sum            'C2 O'
_space_group_IT_number           161
_space_group_name_Hall           'R 3 -2"c'
_space_group_name_H-M_alt        'R 3 c :H'
_symmetry_Int_Tables_number      161
_symmetry_space_group_name_H-M   'R 3 c :H'
_audit_creation_date             2023-08-20
_audit_creation_method           ToposPro
_cell_angle_alpha                90
_cell_angle_beta                 90
_cell_angle_gamma                120
_cell_formula_units_Z            18
_cell_length_a                   5.50285
_cell_length_b                   5.50285
_cell_length_c                   4.08619
_cell_volume                     107.158
_refine_ls_R_factor_all          0
_cod_data_source_file            d3sc04406h1.cif
_cod_data_source_block           10-TOPOS_icn10
_cod_original_sg_symbol_H-M      'R 3 c'
_cod_database_code               1570663
loop_
_space_group_symop_id
_space_group_symop_operation_xyz
1 x,y,z
2 -y,x-y,z
3 -x+y,-x,z
4 -x+y,y,1/2+z
5 x,x-y,1/2+z
6 -y,-x,1/2+z
7 2/3+x,1/3+y,1/3+z
8 1/3+x,2/3+y,2/3+z
9 2/3-y,1/3+x-y,1/3+z
10 1/3-y,2/3+x-y,2/3+z
11 2/3-x+y,1/3-x,1/3+z
12 1/3-x+y,2/3-x,2/3+z
13 2/3-x+y,1/3+y,5/6+z
14 1/3-x+y,2/3+y,1/6+z
15 2/3+x,1/3+x-y,5/6+z
16 1/3+x,2/3+x-y,1/6+z
17 2/3-y,1/3-x,5/6+z
18 1/3-y,2/3-x,1/6+z
loop_
_atom_site_label
_atom_site_type_symbol
_atom_site_symmetry_multiplicity
_atom_site_fract_x
_atom_site_fract_y
_atom_site_fract_z
_atom_site_occupancy
C1 C 18 0.20745 0.22550 0.29119 1.0000
C2 C 18 0.74254 0.14240 0.00000 1.0000
O1 O 18 0.29693 0.10578 0.28758 1.0000
loop_
_topol_atom.id
_topol_atom.node_id
_topol_atom.atom_label
_topol_atom.element_symbol
1 1 C1 C
2 2 C2 C
3 3 O1 O
loop_
_topol_node.id
_topol_node.label
1 C1
2 C2
3 O1
loop_
_topol_link.node_id_1
_topol_link.node_id_2
_topol_link.distance
_topol_link.symop_id_1
_topol_link.translation_1_x
_topol_link.translation_1_y
_topol_link.translation_1_z
_topol_link.symop_id_2
_topol_link.translation_2_x
_topol_link.translation_2_y
_topol_link.translation_2_z
_topol_link.type
_topol_link.multiplicity
_topol_link.voronoi_solid_angle
1 3 1.0005 1 0 0 0 1 0 0 0 v 18 0.00
1 2 0.9997 1 0 0 0 16 -1 -1 0 v 18 0.00
1 3 0.9992 1 0 0 0 18 0 0 0 v 18 0.00
2 3 1.0003 1 0 0 0 17 0 0 -1 v 18 0.00
2 3 1.0004 1 0 0 0 4 1 0 -1 v 18 0.00
