#------------------------------------------------------------------------------
#$Date: 2018-01-31 13:43:35 +0100 (Wed 31 de Jan de 2018) $
#$Revision: 205962 $
#$URL: svn://www.crystallography.net/cod/cif/2/00/19/2001927.cif $
#------------------------------------------------------------------------------
#
# This file is available in the Crystallography Open Database (COD),
# http://www.crystallography.net/. The original data for this entry
# were provided by IUCr Journals, http://journals.iucr.org/.
#
# The file may be used within the scientific community so long as
# proper attribution is given to the journal article from which the
# data were obtained.
#
data_2001927
loop_
_publ_author_name
'Streltsova, N. R.'
'Bel'sky, V. K.'
'Voloshin, Y. Z.'
_publ_section_title
;
 Structures of three alicyclic α-dioximes with a ring size of six to
 eight
;
_journal_issue                   3
_journal_name_full               'Acta Crystallographica Section C'
_journal_page_first              635
_journal_page_last               639
_journal_paper_doi               10.1107/S0108270192011144
_journal_volume                  49
_journal_year                    1993
_chemical_formula_sum            'C7 H12 N2 O2'
_chemical_formula_weight         156.19
_space_group_crystal_system      orthorhombic
_space_group_IT_number           61
_space_group_name_Hall           '-P 2bc 2ac'
_space_group_name_H-M_alt        'P c a b'
_atom_type_scat_source           IntTabIV
_cell_angle_alpha                90.
_cell_angle_beta                 90.
_cell_angle_gamma                90.
_cell_formula_units_Z            8
_cell_length_a                   8.6900(10)
_cell_length_b                   12.134(3)
_cell_length_c                   16.267(3)
_cell_measurement_reflns_used    16
_cell_measurement_temperature    298
_cell_measurement_theta_max      28
_cell_measurement_theta_min      23
_cell_volume                     1715.3(6)
_diffrn_measurement_device       'Nicolet P3'
_diffrn_measurement_method       θ/2θ
_diffrn_radiation_type           MoK\a
_diffrn_radiation_wavelength     0.71069
_diffrn_reflns_limit_h_max       13
_diffrn_reflns_limit_h_min       0
_diffrn_reflns_limit_k_max       16
_diffrn_reflns_limit_k_min       0
_diffrn_reflns_limit_l_max       19
_diffrn_reflns_limit_l_min       0
_diffrn_reflns_number            719
_diffrn_reflns_theta_max         25
_diffrn_standards_decay_%        .0
_diffrn_standards_interval_count 100
_diffrn_standards_number         3
_exptl_absorpt_coefficient_mu    0.0846
_exptl_absorpt_correction_type   none
_exptl_crystal_colour            Colorless
_exptl_crystal_density_diffrn    1.212
_exptl_crystal_size_max          0.20
_exptl_crystal_size_mid          0.15
_exptl_crystal_size_min          0.10
_refine_diff_density_max         0.24
_refine_ls_extinction_method     none
_refine_ls_goodness_of_fit_obs   2.43
_refine_ls_hydrogen_treatment    refall
_refine_ls_number_parameters     148
_refine_ls_number_reflns         606
_refine_ls_R_factor_obs          0.032
_refine_ls_shift/esd_max         0.376
_refine_ls_structure_factor_coef Fsqd
_refine_ls_weighting_details     'w = 1/[σ²(F)+0.00016F²]'
_refine_ls_weighting_scheme      calc
_refine_ls_wR_factor_obs         0.037
_reflns_number_observed          621
_reflns_number_total             719
_reflns_observed_criterion       I>=3\s(I)
_cod_data_source_file            vs0102.cif
_cod_data_source_block           vs0102_structure_2_of_3
_cod_depositor_comments
;
The following automatic conversions were performed:

'_refine_ls_weighting_scheme' value '1/[\s^2^(F)+0.00016F^2^]' was
changed to 'calc'. New tag '_refine_ls_weighting_details' was
created. The value of the new tag was set to 'w =
1/[\s^2^(F)+0.00016F^2^]'.

Automatic conversion script
Id: cif_fix_values 3143 2015-03-26 13:38:13Z robertas 
;
_cod_original_cell_volume        1716.3(6)
_cod_database_code               2001927
loop_
_space_group_symop_id
_space_group_symop_operation_xyz
1 x,y,z
2 -x,-y+1/2,z+1/2
3 x+1/2,-y,-z+1/2
4 -x+1/2,y+1/2,-z
5 -x,-y,-z
6 x,y+1/2,-z+1/2
7 -x+1/2,y,z+1/2
8 x+1/2,-y+1/2,z
loop_
_atom_site_label
_atom_site_fract_x
_atom_site_fract_y
_atom_site_fract_z
_atom_site_U_iso_or_equiv
N(1) .1662(2) .1475(2) .62240(10) .0450(10)
N(2) .4773(2) .1483(2) .64630(10) .0470(10)
O(1) .0226(2) .1398(2) .58220(10) .0620(10)
O(2) .6191(2) .1461(2) .68940(10) .0630(10)
C(1) .2454(3) .0593(2) .6171(2) .0420(10)
C(2) .3956(3) .0627(2) .6596(2) .0410(10)
C(3) .4410(5) -.0336(3) .7124(3) .060(2)
C(4) .5139(6) -.1258(4) .6617(4) .083(2)
C(5) .3994(10) -.1876(6) .6097(6) .087(3)
C(6) .3180(4) -.1200(3) .5440(2) .0720(10)
C(7) .1924(4) -.0437(3) .5759(3) .079(2)
H(31) .515(2) -.006(2) .753(2) .040(10)
H(32) .342(4) -.070(3) .741(2) .090(10)
H(41) .598(4) -.083(4) .624(2) .100(10)
H(42) .561(4) -.177(3) .712(2) .15(2)
H(51) .318(4) -.216(3) .640(2) .110(10)
H(52) .445(5) -.248(4) .584(3) .15(2)
H(61) .262(4) -.175(3) .508(2) .070(10)
H(62) .400(4) -.071(3) .509(2) .100(10)
H(71) .132(5) -.021(3) .528(2) .110(10)
H(72) .124(5) -.086(4) .616(2) .12(2)
H(1) -.023(4) .218(4) .602(3) .110(10)
H(2) .663(5) .216(4) .667(3) .13(2)
loop_
_geom_angle_atom_site_label_1
_geom_angle_atom_site_label_2
_geom_angle_atom_site_label_3
_geom_angle
_geom_angle_publ_flag
O(1) N(1) C(1) 113.0(2) yes
N(1) C(1) C(2) 115.0(2) yes
C(2) C(1) C(7) 120.4(3) yes
N(2) C(2) C(3) 125.7(3) yes
C(2) C(3) C(4) 111.8(3) yes
C(4) C(5) C(6) 115.7(5) yes
C(1) C(7) C(6) 116.2(3) yes
O(2) N(2) C(2) 112.6(2) yes
N(1) C(1) C(7) 124.6(3) yes
N(2) C(2) C(1) 124.6(3) yes
C(1) C(2) C(3) 118.5(3) yes
C(3) C(4) C(5) 113.2(5) yes
C(5) C(6) C(7) 115.0(4) yes
loop_
_geom_bond_atom_site_label_1
_geom_bond_atom_site_label_2
_geom_bond_distance
_geom_bond_publ_flag
N(1) O(1) 1.412(3) yes
N(2) O(2) 1.417(3) yes
C(1) C(2) 1.478(4) yes
C(2) C(3) 1.503(5) yes
C(4) C(5) 1.506(10) yes
C(6) C(7) 1.522(5) yes
N(1) C(1) 1.274(4) yes
N(2) C(2) 1.276(4) yes
C(1) C(7) 1.492(5) yes
C(3) C(4) 1.527(6) yes
C(5) C(6) 1.522(9) yes
