#------------------------------------------------------------------------------
#$Date: 2017-01-15 00:53:32 +0100 (dom 15 de ene de 2017) $
#$Revision: 190528 $
#$URL: svn://www.crystallography.net/cod/cif/2/00/51/2005167.cif $
#------------------------------------------------------------------------------
#
# This file is available in the Crystallography Open Database (COD),
# http://www.crystallography.net/. The original data for this entry
# were provided by IUCr Journals, http://journals.iucr.org/.
#
# The file may be used within the scientific community so long as
# proper attribution is given to the journal article from which the
# data were obtained.
#
data_2005167
loop_
_publ_author_name
'Pèpe, G.'
'Astier, J.-P.'
'Lamarque, L.'
'Méou, A.'
'Brun, P.'
_publ_section_title
;
 γ-Lactones: Methyl
 11-Oxa-10-oxobicyclo[6.3.0]undec-4-ene-9-carboxylate, Methyl
 11-Oxa-10-oxobicyclo[6.3.0]undec-2-ene-9-carboxylate and Methyl
 9-Oxa-10-oxobicyclo[6.3.0]undecane-11-carboxylate
;
_journal_issue                   7
_journal_name_full               'Acta Crystallographica Section C'
_journal_page_first              1695
_journal_page_last               1699
_journal_paper_doi               10.1107/S010827019600193X
_journal_volume                  52
_journal_year                    1996
_chemical_formula_analytical     'C12 H16 O4'
_chemical_formula_structural     'C12 H16 O4'
_chemical_formula_sum            'C12 H16 O4'
_chemical_formula_weight         224.3
_chemical_melting_point          378.15
_chemical_name_common            γ-Lactone
_chemical_name_systematic
' methyl 11-oxa-10-oxobicyclo[6.3.0]undec-2-ene-9-carboxylate'
_space_group_IT_number           14
_symmetry_cell_setting           monoclinic
_symmetry_space_group_name_Hall  '-P 2yab'
_symmetry_space_group_name_H-M   'P 1 21/a 1'
_cell_angle_alpha                90.00
_cell_angle_beta                 94.60(3)
_cell_angle_gamma                90.00
_cell_formula_units_Z            4
_cell_length_a                   6.933(2)
_cell_length_b                   22.519(4)
_cell_length_c                   7.408(2)
_cell_measurement_reflns_used    25
_cell_measurement_temperature    293
_cell_measurement_theta_max      45
_cell_measurement_theta_min      15
_cell_volume                     1152.8(5)
_computing_cell_refinement       'CAD4 Software'
_computing_data_collection       'CAD4 Software (Enraf-Nonius, 1977)'
_computing_data_reduction        'DATARED (Pèpe, 1979)'
_computing_molecular_graphics    'ORTEPII (Johnson, 1976)'
_computing_publication_material  'AME (Software Systems, 1986)'
_computing_structure_refinement  'SHELX76 (Sheldrick, 1976)'
_computing_structure_solution    'MULTAN80 (Main et al., 1980)'
_diffrn_ambient_temperature      293
_diffrn_measurement_device       'Enraf-Nonius CAD4'
_diffrn_measurement_method       θ
_diffrn_radiation_monochromator  graphite
_diffrn_radiation_source         'X-ray tube'
_diffrn_radiation_type           'Cu K\a'
_diffrn_radiation_wavelength     1.5418
_diffrn_reflns_av_R_equivalents  0.035
_diffrn_reflns_limit_h_max       7
_diffrn_reflns_limit_h_min       -7
_diffrn_reflns_limit_k_max       23
_diffrn_reflns_limit_k_min       0
_diffrn_reflns_limit_l_max       8
_diffrn_reflns_limit_l_min       0
_diffrn_reflns_number            2578
_diffrn_reflns_reduction_process 'SDP system'
_diffrn_reflns_theta_max         45
_diffrn_reflns_theta_min         2
_diffrn_standards_decay_%        0
_diffrn_standards_interval_time  60
_diffrn_standards_number         3
_exptl_absorpt_coefficient_mu    0.80
_exptl_absorpt_correction_type   none
_exptl_crystal_colour            colourless
_exptl_crystal_density_diffrn    1.29
_exptl_crystal_density_meas      1.27(2)
_exptl_crystal_density_method    flotation
_exptl_crystal_description       'square platelets'
_exptl_crystal_F_000             480
_exptl_crystal_size_max          0.2
_exptl_crystal_size_mid          0.4
_exptl_crystal_size_min          0.4
_refine_diff_density_max         .24
_refine_diff_density_min         -.21
_refine_ls_extinction_method     none
_refine_ls_goodness_of_fit_all   0.71
_refine_ls_goodness_of_fit_obs   0.71
_refine_ls_hydrogen_treatment
;H atoms placed in theoretical positions with bond lengths 1\%A and
 U = 0.05A^2^
;
_refine_ls_matrix_type           full
_refine_ls_number_constraints    0
_refine_ls_number_parameters     145
_refine_ls_number_reflns         1783
_refine_ls_number_restraints     0
_refine_ls_restrained_S_all      0.71
_refine_ls_restrained_S_obs      0.71
_refine_ls_R_factor_all          .0479
_refine_ls_R_factor_obs          .0479
_refine_ls_shift/esd_max         .12
_refine_ls_shift/esd_mean        .12
_refine_ls_structure_factor_coef F
_refine_ls_weighting_scheme      unit
_refine_ls_wR_factor_all         .0479
_refine_ls_wR_factor_obs         .0479
_reflns_number_observed          1783
_reflns_number_total             2333
_reflns_observed_criterion       refl_obs_if_I_>_3.0_sigma(I)
_cod_data_source_file            pa1219.cif
_cod_data_source_block           I
_cod_depositor_comments
;
 Changing the value of the _atom_site_type_symbol data
 item for hydrogen atoms from '?' to 'H'.

 Antanas Vaitkus,
 2017-01-15

The following automatic conversions were performed:

'_chemical_melting_point' value '105.0 C' was changed to '378.15' -
it was converted from degrees Celsius(C) to Kelvins(K).

Automatic conversion script
Id: cif_fix_values 1715 2011-07-08 13:25:40Z adriana 
;
_cod_original_cell_volume        1152.8(4)
_cod_original_sg_symbol_H-M      'P 21/a'
_cod_database_code               2005167
loop_
_symmetry_equiv_pos_as_xyz
+x,+y,+z
1/2-x,1/2+y,-z
-x,-y,-z
1/2+x,1/2-y,+z
loop_
_atom_site_aniso_label
_atom_site_aniso_U_11
_atom_site_aniso_U_22
_atom_site_aniso_U_33
_atom_site_aniso_U_12
_atom_site_aniso_U_13
_atom_site_aniso_U_23
C1 0.0367(13) 0.0283(12) 0.0195(10) -0.0022(9) -0.0044(8) 0.0005(8)
C2 0.0463(16) 0.0545(17) 0.0272(12) -0.0097(12) -0.0067(11) 0.0014(11)
C3 0.0559(18) 0.0574(19) 0.0449(16) -0.0169(14) -0.0054(13) 0.0201(13)
C4 0.0429(16) 0.0589(19) 0.0575(18) -0.0084(13) -0.0086(13) -0.0007(14)
C5 0.0429(15) 0.0440(16) 0.0512(16) -0.0029(12) -0.0171(12) -0.0019(12)
C6 0.0583(18) 0.0431(16) 0.0361(14) -0.0009(13) -0.0105(12) -0.0085(11)
C7 0.0499(16) 0.0394(14) 0.0301(12) -0.0050(12) -0.0037(10) -0.0090(10)
C8 0.0365(13) 0.0282(12) 0.0287(11) -0.0026(10) -0.0032(9) 0.0026(9)
O9 0.0577(11) 0.0432(10) 0.0169(8) -0.0098(8) -0.0028(7) -0.0002(7)
C10 0.0513(16) 0.0284(13) 0.0313(12) -0.0034(11) -0.0032(10) -0.0005(9)
C11 0.0401(13) 0.0286(13) 0.0223(11) 0.0043(10) -0.0015(9) -0.0015(8)
O12 0.0686(14) 0.0565(13) 0.0407(11) -0.0301(11) 0.0009(9) -0.0027(9)
C13 0.0446(15) 0.0398(14) 0.0220(11) -0.0003(11) 0.0032(9) -0.0007(10)
O14 0.1011(18) 0.0422(12) 0.0569(13) -0.0022(11) -0.0427(12) 0.0112(10)
O15 0.0662(13) 0.0423(10) 0.0270(9) -0.0150(9) -0.0169(8) -0.0025(7)
C16 0.067(2) 0.077(2) 0.0271(13) -0.0187(16) -0.0121(12) -0.0012(13)
loop_
_atom_site_label
_atom_site_fract_x
_atom_site_fract_y
_atom_site_fract_z
_atom_site_U_iso_or_equiv
_atom_site_thermal_displace_type
_atom_site_calc_flag
_atom_site_type_symbol
C1 .4595(3) .3796(1) .6530(3) 0.03(1) Uani d C
C2 .6293(4) .3942(1) .5465(3) 0.04(1) Uani d C
C3 .7220(4) .4554(1) .5904(4) 0.05(1) Uani d C
C4 .9048(4) .4564(1) .7217(4) 0.05(1) Uani d C
C5 .8898(4) .4221(1) .8987(4) 0.05(1) Uani d C
C6 .7203(4) .4387(1) .9995(3) 0.05(1) Uani d C
C7 .5483(4) .4117(1) .9796(3) 0.04(1) Uani d C
C8 .5100(3) .3622(1) .8517(3) 0.03(1) Uani d C
O9 .3359(3) .3303(1) .9012(2) 0.04(1) Uani d O
C10 .2394(4) .3079(1) .7525(3) 0.04(1) Uani d C
C11 .3372(3) .3266(1) .5855(3) 0.03(1) Uani d C
O12 .0946(3) .2789(1) .7630(2) 0.06(1) Uani d O
C13 .1946(4) .3379(1) .4249(3) 0.04(1) Uani d C
O14 .1595(4) .3856(1) .3627(3) 0.07(1) Uani d O
O15 .1120(3) .2882(1) .3609(2) 0.05(1) Uani d O
C16 -.0260(5) .2941(1) .2072(3) 0.06(2) Uani d C
H1 .373 .414 .655 ? ? ? H
H21 .588 .395 .415 ? ? ? H
H22 .734 .364 .572 ? ? ? H
H31 .626 .481 .650 ? ? ? H
H32 .759 .475 .478 ? ? ? H
H41 .938 .498 .756 ? ? ? H
H42 1.014 .438 .662 ? ? ? H
H51 1.006 .430 .983 ? ? ? H
H52 .877 .379 .874 ? ? ? H
H6 .730 .472 1.088 ? ? ? H
H7 .443 .425 1.057 ? ? ? H
H8 .628 .336 .860 ? ? ? H
H11 .421 .294 .543 ? ? ? H
H161 -.137 .319 .239 ? ? ? H
H162 .036 .312 .104 ? ? ? H
H163 -.078 .253 .170 ? ? ? H
loop_
_atom_type_symbol
_atom_type_scat_dispersion_real
_atom_type_scat_dispersion_imag
_atom_type_scat_source
O .047 .003 International_Tables_Vol_IV_Table_2.3.1
C .000 .001 International_Tables_Vol_IV_Table_2.3.1
H .000 .000 International_Tables_Vol_IV_Table_2.3.1
loop_
_diffrn_standard_refln_index_h
_diffrn_standard_refln_index_k
_diffrn_standard_refln_index_l
1 10 -2
-1 -6 -2
-1 7 -2
loop_
_geom_angle_atom_site_label_1
_geom_angle_atom_site_label_2
_geom_angle_atom_site_label_3
_geom_angle
_geom_angle_publ_flag
C2 C1 C8 115.5(2) yes
C8 C1 C11 101.1(2) yes
C1 C2 C3 114.5(2) yes
C2 C3 C4 117.1(2) yes
C3 C4 C5 115.2(2) yes
C4 C5 C6 114.4(2) yes
C5 C6 C7 124.3(2) yes
C6 C7 C8 121.9(2) yes
C1 C8 C7 116.0(2) yes
C1 C8 O9 103.5(2) yes
C7 C8 O9 108.5(2) yes
C8 O9 C10 110.1(2) yes
O9 C10 C11 109.8(2) yes
C11 C10 O12 129.2(2) yes
O9 C10 O12 120.9(2) yes
C1 C11 C10 102.9(2) yes
C1 C11 C13 116.1(2) yes
C10 C11 C13 112.5(2) yes
C11 C13 O14 124.1(2) yes
C11 C13 O15 112.1(2) yes
O14 C13 O15 123.7(2) yes
C13 O15 C16 116.5(2) yes
loop_
_geom_bond_atom_site_label_1
_geom_bond_atom_site_label_2
_geom_bond_distance
_geom_bond_publ_flag
C1 C2 1.505(3) yes
C1 C8 1.536(3) yes
C1 C11 1.525(3) yes
C2 C3 1.544(3) yes
C3 C4 1.535(4) yes
C4 C5 1.533(4) yes
C5 C6 1.490(3) yes
C6 C7 1.336(3) yes
C7 C8 1.473(3) yes
C8 O9 1.476(3) yes
O9 C10 1.341(3) yes
C10 C11 1.517(3) yes
C10 O12 1.205(3) yes
C11 C13 1.506(3) yes
C13 O14 1.186(3) yes
C13 O15 1.327(3) yes
O15 C16 1.433(3) yes
