#------------------------------------------------------------------------------
#$Date: 2016-02-19 15:29:56 +0100 (vie 19 de feb de 2016) $
#$Revision: 176759 $
#$URL: svn://www.crystallography.net/cod/cif/2/00/57/2005719.cif $
#------------------------------------------------------------------------------
#
# This file is available in the Crystallography Open Database (COD),
# http://www.crystallography.net/. The original data for this entry
# were provided by IUCr Journals, http://journals.iucr.org/.
#
# The file may be used within the scientific community so long as
# proper attribution is given to the journal article from which the
# data were obtained.
#
data_2005719
loop_
_publ_author_name
'Dobson, A. J.'
'Gerkin, R. E.'
_publ_section_title
;
 4-(2-Naphthyl)butanoic Acid
;
_journal_issue                   12
_journal_name_full               'Acta Crystallographica Section C'
_journal_page_first              3083
_journal_page_last               3086
_journal_paper_doi               10.1107/S0108270196009547
_journal_volume                  52
_journal_year                    1996
_chemical_formula_moiety         'C14 H14 O2'
_chemical_formula_sum            'C14 H14 O2'
_chemical_formula_weight         214.26
_chemical_name_common            '2-naphthylbutyric acid '
_chemical_name_systematic        ' 4-(2-naphthyl)butanoic acid'
_space_group_IT_number           14
_symmetry_cell_setting           monoclinic
_symmetry_space_group_name_Hall  '-P 2yab'
_symmetry_space_group_name_H-M   'P 1 21/a 1'
_cell_angle_alpha                90
_cell_angle_beta                 97.897(9)
_cell_angle_gamma                90
_cell_formula_units_Z            4
_cell_length_a                   10.058(1)
_cell_length_b                   4.971(2)
_cell_length_c                   22.924(2)
_cell_measurement_reflns_used    25
_cell_measurement_temperature    296
_cell_measurement_theta_max      17.3
_cell_measurement_theta_min      12.5
_cell_volume                     1135.3(5)
_computing_cell_refinement       'MSC/AFC Diffractometer Control Software'
_computing_data_collection
;MSC/AFC Diffractometer Control Software (Molecular Structure COrporation,
 1988)
;
_computing_data_reduction
'TEXSAN (Molecular Structure Corporation, 1989)'
_computing_molecular_graphics    'ORTEPII (Johnson, 1976)'
_computing_publication_material  TEXSAN
_computing_structure_refinement  TEXSAN
_computing_structure_solution    'SHELXS86 (Sheldrick, 1985)'
_diffrn_ambient_temperature      296
_diffrn_measurement_device       AFC5S
_diffrn_measurement_method       'ω/2θ scans '
_diffrn_radiation_monochromator  graphite
_diffrn_radiation_source         'X-ray tube'
_diffrn_radiation_type           MoK\a
_diffrn_radiation_wavelength     0.71073
_diffrn_reflns_av_R_equivalents  0.016
_diffrn_reflns_limit_h_max       12
_diffrn_reflns_limit_h_min       0
_diffrn_reflns_limit_k_max       6
_diffrn_reflns_limit_k_min       0
_diffrn_reflns_limit_l_max       29
_diffrn_reflns_limit_l_min       -29
_diffrn_reflns_number            3100
_diffrn_reflns_theta_max         27.50
_diffrn_reflns_theta_min         2.00
_diffrn_standards_decay_%        3.0
_diffrn_standards_interval_count 150
_diffrn_standards_number         6
_exptl_absorpt_coefficient_mu    0.077
_exptl_absorpt_correction_type   none
_exptl_crystal_colour            colorless
_exptl_crystal_density_diffrn    1.254
_exptl_crystal_density_meas      ?
_exptl_crystal_description       'cut plate '
_exptl_crystal_F_000             456
_exptl_crystal_size_max          0.34
_exptl_crystal_size_mid          0.31
_exptl_crystal_size_min          0.31
_refine_diff_density_max         0.16
_refine_diff_density_min         -0.14
_refine_ls_extinction_coef       '6(3) \\times 10^-7^'
_refine_ls_extinction_method     'Zachariasen (1963, 1968)'
_refine_ls_goodness_of_fit_obs   1.63
_refine_ls_hydrogen_treatment    refall
_refine_ls_matrix_type           full
_refine_ls_number_parameters     202
_refine_ls_number_reflns         1447
_refine_ls_R_factor_obs          0.040
_refine_ls_shift/esd_max         <0.01
_refine_ls_structure_factor_coef F
_refine_ls_weighting_details     w=1/σF²
_refine_ls_weighting_scheme      calc
_refine_ls_wR_factor_obs         0.048
_reflns_number_observed          1447
_reflns_number_total             2938
_reflns_observed_criterion       'I >3.00\s~I~'
_cod_data_source_file            bk1262.cif
_cod_data_source_block           1
_cod_depositor_comments
;
The following automatic conversions were performed:
'_symmetry_cell_setting' value 'Monoclinic' changed to 'monoclinic'
according to '/home/saulius/struct/CIF-dictionaries/cif_core.dic'
dictionary named 'cif_core.dic' version 2.4.1 from 2010-06-29.

Automatic conversion script
Id: cif_fix_enum 1527 2010-12-29 10:47:43Z saulius 

The following automatic conversions were performed:

'_symmetry_cell_setting' value 'Monoclinic' changed to 'monoclinic'
according to /home/saulius/struct/CIF-dictionaries/cif_core.dic
dictionary named 'cif_core.dic' version 2.4.1 from 2010-06-29.

Automatic conversion script
Id: cif_fix_values 1715 2011-07-08 13:25:40Z adriana 

The following automatic conversions were performed:

'_exptl_crystal_density_meas' value 'none' was changed to '?' - the
value is perceived as not measured.

Automatic conversion script
Id: cif_fix_values 3008 2015-01-20 13:52:24Z robertas 

The following automatic conversions were performed:

'_refine_ls_weighting_scheme' value 'w=1/\s~F~^2^' was changed to
'calc'. New tag '_refine_ls_weighting_details' was created. The value
of the new tag was set to 'w=1/\s~F~^2^'.

Automatic conversion script
Id: cif_fix_values 3143 2015-03-26 13:38:13Z robertas 
;
_cod_original_cell_volume        1135.2(4)
_cod_original_sg_symbol_H-M      'P 21/a'
_cod_database_code               2005719
loop_
_symmetry_equiv_pos_as_xyz
x,y,z
'1/2-x, 1/2+y,-z'
'-x, -y, -z'
'1/2+x, 1/2-y, z'
loop_
_atom_site_aniso_label
_atom_site_aniso_U_11
_atom_site_aniso_U_22
_atom_site_aniso_U_33
_atom_site_aniso_U_12
_atom_site_aniso_U_13
_atom_site_aniso_U_23
O1 0.0710(10) 0.0590(10) 0.0513(8) -0.0093(8) 0.0263(7) -0.0102(7)
O2 0.0630(9) 0.0579(10) 0.0497(8) -0.0138(8) 0.0193(7) -0.0067(7)
C1 0.0570(10) 0.0560(10) 0.0570(10) 0.0020(10) 0.0160(10) 0.0050(10)
C2 0.0510(10) 0.0540(10) 0.0490(10) -0.0120(10) 0.0182(10) -0.0010(10)
C3 0.0580(10) 0.0660(10) 0.0530(10) -0.0040(10) 0.0100(10) 0.0050(10)
C4 0.0610(10) 0.066(2) 0.0670(10) 0.0070(10) 0.0130(10) 0.0040(10)
C5 0.081(2) 0.071(2) 0.074(2) 0.004(2) 0.0290(10) -0.0080(10)
C6 0.109(2) 0.085(2) 0.059(2) -0.014(2) 0.036(2) -0.013(2)
C7 0.106(2) 0.089(2) 0.0490(10) -0.015(2) 0.0160(10) 0.0000(10)
C8 0.086(2) 0.076(2) 0.0550(10) 0.001(2) 0.0110(10) 0.0080(10)
C9 0.0560(10) 0.0570(10) 0.0480(10) -0.0060(10) 0.0139(10) 0.0040(10)
C10 0.0570(10) 0.0560(10) 0.0520(10) -0.0080(10) 0.0170(10) 0.0000(10)
C11 0.068(2) 0.063(2) 0.0510(10) -0.0140(10) 0.0230(10) -0.0070(10)
C12 0.0610(10) 0.0550(10) 0.0470(10) -0.0080(10) 0.0200(10) -0.0040(10)
C13 0.0590(10) 0.056(2) 0.0470(10) -0.0090(10) 0.0180(10) -0.0030(10)
C14 0.0430(10) 0.0500(10) 0.0387(10) 0.0025(10) 0.0065(8) 0.0015(10)
loop_
_atom_site_label
_atom_site_fract_x
_atom_site_fract_y
_atom_site_fract_z
_atom_site_U_iso_or_equiv
_atom_site_thermal_displace_type
O1 0.6098(2) 0.7827(3) 0.49675(6) 0.0587(5) Uij
O2 0.5621(1) 0.4316(3) 0.43746(5) 0.0558(4) Uij
C1 0.8077(2) 0.7084(5) 0.21067(9) 0.0558(7) Uij
C2 0.8586(2) 0.6361(4) 0.26637(8) 0.0501(6) Uij
C3 0.9542(2) 0.4287(5) 0.27431(10) 0.0590(7) Uij
C4 0.9974(3) 0.3033(5) 0.22764(10) 0.0643(7) Uij
C5 0.9904(3) 0.2552(6) 0.11942(12) 0.0739(9) Uij
C6 0.9386(3) 0.3325(6) 0.06419(11) 0.0819(10) Uij
C7 0.8433(3) 0.5346(7) 0.05592(11) 0.0808(10) Uij
C8 0.7989(3) 0.6572(6) 0.10219(10) 0.0721(9) Uij
C9 0.8492(2) 0.5830(4) 0.16043(8) 0.0532(6) Uij
C10 0.9464(2) 0.3779(4) 0.16947(9) 0.0543(6) Uij
C11 0.8188(3) 0.7799(5) 0.31928(10) 0.0593(7) Uij
C12 0.7361(3) 0.6152(5) 0.35706(9) 0.0529(7) Uij
C13 0.7152(3) 0.7678(5) 0.41210(9) 0.0533(7) Uij
C14 0.6223(2) 0.6420(4) 0.44954(8) 0.0437(5) Uij
H1 0.745(2) 0.842(4) 0.2055(8) 0.056(6) Uij
H3 0.994(2) 0.378(5) 0.3161(9) 0.076(7) Uij
H4 1.065(2) 0.153(5) 0.2322(9) 0.080(7) Uij
H5 1.052(2) 0.125(5) 0.1254(10) 0.075(8) Uij
H6 0.973(3) 0.245(6) 0.0315(11) 0.109(9) Uij
H7 0.807(3) 0.597(6) 0.0153(11) 0.103(9) Uij
H8 0.733(3) 0.802(5) 0.0987(10) 0.090(9) Uij
H11A 0.899(2) 0.836(4) 0.3443(8) 0.067(7) Uij
H11B 0.768(3) 0.946(6) 0.3084(10) 0.100(10) Uij
H12A 0.778(2) 0.452(5) 0.3663(9) 0.067(7) Uij
H12B 0.647(2) 0.581(5) 0.3329(9) 0.082(7) Uij
H13A 0.800(2) 0.785(4) 0.4378(8) 0.065(7) Uij
H13B 0.680(2) 0.950(5) 0.4028(10) 0.080(8) Uij
H14 0.551(3) 0.709(6) 0.5206(10) 0.102(9) Uij
loop_
_atom_type_symbol
_atom_type_scat_dispersion_real
_atom_type_scat_dispersion_imag
_atom_type_scat_source
H 0 0 'Stewart, Davidson & Simpson (1965)'
C .002 .002 'Cromer & Waber (1974)'
O .008 .006 'Cromer & Waber (1974)'
loop_
_diffrn_standard_refln_index_h
_diffrn_standard_refln_index_k
_diffrn_standard_refln_index_l
0 0 -3
-2 0 -3
1 1 -9
0 2 -10
2 2 -8
5 2 0
loop_
_geom_angle_atom_site_label_1
_geom_angle_atom_site_label_2
_geom_angle_atom_site_label_3
_geom_angle
_geom_angle_publ_flag
C2 C1 C9 122.1(2) yes
C1 C2 C3 118.6(2) yes
C1 C2 C11 121.6(2) yes
C3 C2 C11 119.7(2) yes
C2 C3 C4 121.4(2) yes
C3 C4 C10 120.6(2) yes
C6 C5 C10 120.6(3) yes
C5 C6 C7 120.2(3) yes
C6 C7 C8 121.2(3) yes
C7 C8 C9 120.7(3) yes
C1 C9 C8 123.0(2) yes
C1 C9 C10 118.3(2) yes
C8 C9 C10 118.7(2) yes
C4 C10 C5 122.5(2) yes
C4 C10 C9 119.0(2) yes
C5 C10 C9 118.6(2) yes
C2 C11 C12 115.4(2) yes
C11 C12 C13 110.8(2) yes
C12 C13 C14 116.1(2) yes
C13 C14 O1 113.0(2) yes
C13 C14 O2 124.0(2) yes
O1 C14 O2 123.0(2) yes
loop_
_geom_bond_atom_site_label_1
_geom_bond_atom_site_label_2
_geom_bond_distance
_geom_bond_publ_flag
O1 C14 1.309(2) yes
O2 C14 1.222(2) yes
C1 C2 1.357(3) yes
C1 C9 1.421(3) yes
C2 C3 1.404(3) yes
C2 C11 1.508(3) yes
C3 C4 1.360(3) yes
C4 C10 1.411(3) yes
C5 C6 1.357(4) yes
C5 C10 1.423(3) yes
C6 C7 1.383(4) yes
C7 C8 1.352(4) yes
C8 C9 1.410(3) yes
C9 C10 1.408(3) yes
C11 C12 1.520(3) yes
C12 C13 1.511(3) yes
C13 C14 1.490(3) yes
C1 H1 0.91(2) yes
C3 H3 1.02(2) yes
C4 H4 1.00(2) yes
C5 H5 0.89(2) yes
C6 H6 0.97(3) yes
C7 H7 1.00(3) yes
C8 H8 0.97(3) yes
C11 H11A 0.96(2) yes
C11 H11B 0.98(2) yes
C12 H12A 0.92(2) yes
C12 H12B 1.00(2) yes
C13 H13A 0.97(2) yes
C13 H13B 0.99(2) yes
O1 H14 0.93(3) yes
