#------------------------------------------------------------------------------
#$Date: 2016-02-19 15:29:56 +0100 (vie 19 de feb de 2016) $
#$Revision: 176759 $
#$URL: svn://www.crystallography.net/cod/cif/2/00/61/2006117.cif $
#------------------------------------------------------------------------------
#
# This file is available in the Crystallography Open Database (COD),
# http://www.crystallography.net/. The original data for this entry
# were provided by IUCr Journals, http://journals.iucr.org/.
#
# The file may be used within the scientific community so long as
# proper attribution is given to the journal article from which the
# data were obtained.
#
data_2006117
loop_
_publ_author_name
'Burd, Craig J.'
'Dobson, Allison J.'
'Gerkin, Roger E.'
_publ_section_title
;
 α and β Phases of 4-Aminoquinoline-2-carboxylic Acid Monohydrate
;
_journal_issue                   5
_journal_name_full               'Acta Crystallographica Section C'
_journal_page_first              602
_journal_page_last               605
_journal_paper_doi               10.1107/S0108270197000565
_journal_volume                  53
_journal_year                    1997
_chemical_formula_iupac          'C10 H8 N2 O2, H2 O'
_chemical_formula_moiety         'C10 H8 N2 O2. H2 O'
_chemical_formula_sum            'C10 H10 N2 O3'
_chemical_formula_weight         206.20
_chemical_name_common
'4-aminoquinoline-2-carboxylic acid monohydrate '
_chemical_name_systematic
' 4-aminoquinoline-2-carboxylic acid monohydrate'
_space_group_IT_number           14
_symmetry_cell_setting           monoclinic
_symmetry_space_group_name_Hall  '-P 2ybc'
_symmetry_space_group_name_H-M   'P 1 21/c 1'
_cell_angle_alpha                90
_cell_angle_beta                 95.544(7)
_cell_angle_gamma                90
_cell_formula_units_Z            4
_cell_length_a                   7.3780(10)
_cell_length_b                   7.3060(10)
_cell_length_c                   16.8330(10)
_cell_measurement_reflns_used    25
_cell_measurement_temperature    296
_cell_measurement_theta_max      17.5
_cell_measurement_theta_min      12.5
_cell_volume                     903.12(18)
_computing_cell_refinement       'MSC/AFC Diffractometer Control Software'
_computing_data_collection
;
MSC/AFC Diffractometer Control Software
(Molecular Structure Corporation, 1988)
;
_computing_data_reduction
'TEXSAN (Molecular Structure Corporation, 1989)'
_computing_molecular_graphics    'ORTEPII (Johnson, 1976)'
_computing_publication_material  TEXSAN
_computing_structure_refinement  TEXSAN
_computing_structure_solution    'SHELXS86 (Sheldrick, 1985)'
_diffrn_ambient_temperature      296
_diffrn_measurement_device       'Rigaku AFC5S'
_diffrn_measurement_method       ω
_diffrn_radiation_monochromator  graphite
_diffrn_radiation_source         'X-ray tube'
_diffrn_radiation_type           MoK\a
_diffrn_radiation_wavelength     0.71073
_diffrn_reflns_av_R_equivalents  0.017
_diffrn_reflns_limit_h_max       9
_diffrn_reflns_limit_h_min       0
_diffrn_reflns_limit_k_max       9
_diffrn_reflns_limit_k_min       0
_diffrn_reflns_limit_l_max       21
_diffrn_reflns_limit_l_min       -21
_diffrn_reflns_number            2430
_diffrn_reflns_theta_max         27.5
_diffrn_reflns_theta_min         2.00
_diffrn_standards_decay_%        -4.9
_diffrn_standards_interval_count 150
_diffrn_standards_number         6
_exptl_absorpt_coefficient_mu    0.107
_exptl_absorpt_correction_type   none
_exptl_crystal_colour            colorless
_exptl_crystal_density_diffrn    1.516
_exptl_crystal_density_method    'not measured'
_exptl_crystal_description       'prism '
_exptl_crystal_F_000             432
_exptl_crystal_size_max          0.35
_exptl_crystal_size_mid          0.35
_exptl_crystal_size_min          0.12
_refine_diff_density_max         0.25
_refine_diff_density_min         -0.19
_refine_ls_extinction_coef       1.7E-6(5)
_refine_ls_extinction_method     'Zachariasen (1963, 1968)'
_refine_ls_goodness_of_fit_obs   1.67
_refine_ls_hydrogen_treatment    refall
_refine_ls_matrix_type           full
_refine_ls_number_parameters     177
_refine_ls_number_reflns         1440
_refine_ls_R_factor_obs          .045
_refine_ls_shift/esd_max         '< 0.01'
_refine_ls_structure_factor_coef F
_refine_ls_weighting_details     w=σF⁻²
_refine_ls_weighting_scheme      calc
_refine_ls_wR_factor_obs         .054
_reflns_number_observed          1440
_reflns_number_total             2263
_reflns_observed_criterion       'I >\s~I~'
_cod_data_source_file            fr1021.cif
_cod_data_source_block           beta
_cod_depositor_comments
;
The following automatic conversions were performed:

'_atom_site_thermal_displace_type' tag value 'Uij' was replaced with
'Uani' value 15 times.

Automatic conversion script
Id: cif_fix_values 1646 2011-03-28 12:23:43Z adriana 

The following automatic conversions were performed:

'_refine_ls_weighting_scheme' value 'w=\s~F~^-2^' was changed to
'calc'. New tag '_refine_ls_weighting_details' was created. The value
of the new tag was set to 'w=\s~F~^-2^'.

Automatic conversion script
Id: cif_fix_values 3143 2015-03-26 13:38:13Z robertas 
;
_cod_original_cell_volume        903.0(2)
_cod_original_sg_symbol_H-M      'P 21/c '
_cod_database_code               2006117
loop_
_symmetry_equiv_pos_as_xyz
'   +x, +y,+z'
'   -x,1/2 +y,1/2 -z'
'   -x,-y,-z'
'   +x,1/2-y,1/2 +z'
loop_
_atom_site_aniso_label
_atom_site_aniso_U_11
_atom_site_aniso_U_22
_atom_site_aniso_U_33
_atom_site_aniso_U_12
_atom_site_aniso_U_13
_atom_site_aniso_U_23
O1 .0405(10) .0610(10) .0221(8) .0068(8) .0046(7) .0032(8)
O2 .0307(9) .0620(10) .0345(9) .0114(8) -.0046(7) .0003(8)
O3 .0500(10) .0590(10) .0324(10) -.0040(10) .0059(8) -.0026(9)
N .0250(9) .0320(10) .0190(8) .0014(8) .0049(7) -.0001(8)
N1 .0320(10) .0530(10) .0280(10) .0119(10) .0076(8) -.0014(9)
C2 .0260(10) .0240(10) .0250(10) -.0005(9) .0011(8) -.0007(8)
C3 .0240(10) .0310(10) .0270(10) .0030(9) .0022(8) -.0004(9)
C4 .0260(10) .0260(10) .0250(10) -.0008(9) .0034(8) -.0031(8)
C5 .0310(10) .0380(10) .0220(10) .0003(10) .0035(9) -.0020(9)
C6 .0310(10) .0390(10) .0280(10) .0030(10) -.0043(9) -.0001(10)
C7 .0250(10) .0380(10) .0380(10) .0056(10) .0002(9) -.0030(10)
C8 .0280(10) .0380(10) .0270(10) .0039(10) .0057(9) -.0031(10)
C9 .0251(10) .0220(10) .0234(10) -.0010(8) -.0003(8) -.0015(8)
C10 .0240(10) .0250(10) .0250(10) -.0007(9) .0036(8) -.0022(8)
C11 .0320(10) .0290(10) .0270(10) .0014(9) -.0024(9) -.0009(9)
loop_
_atom_site_label
_atom_site_fract_x
_atom_site_fract_y
_atom_site_fract_z
_atom_site_U_iso_or_equiv
_atom_site_thermal_displace_type
_atom_site_calc_flag
_atom_site_calc_attached_atom
O1 .1780(2) .1420(3) .70011(9) .0412(5) Uani ? ?
O2 .4441(2) .0991(3) .64898(9) .0428(5) Uani ? ?
O3 -.2536(3) .3639(3) .67320(10) .0471(6) Uani ? ?
N .0144(2) .2395(3) .55814(10) .0253(5) Uani ? ?
N1 .2609(3) .1582(3) .35200(10) .0377(6) Uani ? ?
C2 .1845(3) .1740(3) .56190(10) .0252(5) Uani ? ?
C3 .2676(3) .1462(3) .49350(10) .0274(6) Uani ? ?
C4 .1800(3) .1892(3) .41760(10) .0256(5) Uani ? ?
C5 -.1014(3) .3193(3) .34270(10) .0301(6) Uani ? ?
C6 -.2755(3) .3835(3) .34310(10) .0331(6) Uani ? ?
C7 -.3547(3) .3987(3) .41490(10) .0338(6) Uani ? ?
C8 -.2605(3) .3519(3) .48620(10) .0308(6) Uani ? ?
C9 -.0818(3) .2865(3) .48670(10) .0235(5) Uani ? ?
C10 -.0005(3) .2666(3) .41490(10) .0247(5) Uani ? ?
C11 .2778(3) .1344(3) .64480(10) .0298(6) Uani ? ?
H1 -.040(3) .251(3) .6030(10) .032(6) Uiso ? ?
H3 .385(3) .099(3) .5010(10) .038(7) Uiso ? ?
H5 -.050(3) .303(3) .2940(10) .043(7) Uiso ? ?
H6 -.346(3) .420(3) .2910(10) .037(6) Uiso ? ?
H7 -.476(3) .441(3) .4170(10) .043(7) Uiso ? ?
H8 -.309(3) .360(3) .538(2) .047(7) Uiso ? ?
H1N .369(3) .101(3) .3540(10) .044(7) Uiso ? ?
H2N .211(3) .197(4) .301(2) .052(8) Uiso ? ?
H1O -.242(4) .443(5) .711(2) .085(12) Uiso ? ?
H2O -.347(4) .298(4) .677(2) .062(10) Uiso ? ?
loop_
_atom_type_symbol
_atom_type_scat_dispersion_real
_atom_type_scat_dispersion_imag
_atom_type_scat_source
H 0 0 'Stewart, Davidson and Simpson (1965)'
C .002 .002 'Cromer and Waber (1974)'
N .004 .003 'Cromer and Waber (1974)'
O .008 .006 'Cromer and Waber (1974)'
loop_
_diffrn_standard_refln_index_h
_diffrn_standard_refln_index_k
_diffrn_standard_refln_index_l
1 0 -2
1 2 -1
1 2 1
2 0 6
2 4 0
5 0 -6
loop_
_geom_angle_atom_site_label_1
_geom_angle_atom_site_label_2
_geom_angle_atom_site_label_3
_geom_angle
_geom_angle_publ_flag
C2 N C9 122.1(2) no
N C2 C3 120.4(2) no
C2 C3 C4 121.7(2) no
N1 C4 C3 120.9(2) yes
N1 C4 C10 122.0(2) yes
C3 C4 C10 117.1(2) no
C6 C5 C10 120.4(2) no
C5 C6 C7 120.2(2) no
C6 C7 C8 121.2(2) no
C7 C8 C9 119.1(2) no
N C9 C8 119.6(2) no
N C9 C10 119.8(2) no
C8 C9 C10 120.7(2) no
C4 C10 C5 122.7(2) no
C4 C10 C9 118.9(2) no
C5 C10 C9 118.4(2) no
N C2 C11 116.7(2) yes
C3 C2 C11 122.8(2) yes
C2 C11 O1 115.5(2) yes
C2 C11 O2 116.5(2) yes
O1 C11 O2 128.1(2) yes
H1O O3 H2O 110(3) yes
C2 N H1 119.0(10) no
C9 N H1 118.0(10) no
C2 C3 H3 115.0(10) no
C4 C3 H3 123.0(10) no
C4 N1 H1N 121(2) no
C4 N1 H2N 123(2) no
H1N N1 H2N 116(2) yes
C10 C5 H5 119.0(10) no
C6 C5 H5 120.0(10) no
C5 C6 H6 119.0(10) no
C7 C6 H6 120.0(10) no
C6 C7 H7 122.0(10) no
C8 C7 H7 117.0(10) no
C7 C8 H8 125.0(10) no
C9 C8 H8 116.0(10) no
loop_
_geom_bond_atom_site_label_1
_geom_bond_atom_site_label_2
_geom_bond_site_symmetry_1
_geom_bond_site_symmetry_2
_geom_bond_distance
_geom_bond_publ_flag
N C2 ? ? 1.339(2) no
N C9 ? ? 1.380(2) no
N1 C4 ? ? 1.325(3) yes
C2 C3 ? ? 1.370(3) no
C3 C4 ? ? 1.411(3) no
C4 C10 ? ? 1.443(3) no
C5 C6 ? ? 1.368(3) no
C5 C10 ? ? 1.416(3) no
C6 C7 ? ? 1.396(3) no
C7 C8 ? ? 1.372(3) no
C8 C9 ? ? 1.402(3) no
C9 C10 ? ? 1.407(3) no
C2 C11 ? ? 1.523(3) yes
C11 O1 ? ? 1.243(3) yes
C11 O2 ? ? 1.249(2) yes
N H1 ? ? .89(2) no
C3 H3 ? ? .93(2) no
C5 H5 ? ? .94(2) no
C6 H6 ? ? 1.01(2) no
C7 H7 ? ? .95(2) no
C8 H8 ? ? .97(3) no
N1 H1N ? ? .90(3) no
N1 H2N ? ? .94(3) no
O3 H1O ? ? .86(4) no
O3 H2O ? ? .85(3) no
