#------------------------------------------------------------------------------
#$Date: 2022-10-03 16:40:12 +0200 (Mon 03 de Oct de 2022) $
#$Revision: 278324 $
#$URL: svn://www.crystallography.net/cod/cif/2/01/00/2010066.cif $
#------------------------------------------------------------------------------
#
# This file is available in the Crystallography Open Database (COD),
# http://www.crystallography.net/. The original data for this entry
# were provided by IUCr Journals, http://journals.iucr.org/.
#
# The file may be used within the scientific community so long as
# proper attribution is given to the journal article from which the
# data were obtained.
#
data_2010066
loop_
_publ_author_name
'Magueres, P.Le.'
'Ouahab, L.'
'Hocquet, A.'
'Fournier, J.'
_publ_section_title
;
 Structures of (1) N-(2-pyridyl)-, (2) N-(3-pyridyl)- and
 (3) N-(4-pyridyl)-N'-(4-chlorophenyl)urea
;
_journal_issue                   9
_journal_name_full               'Acta Crystallographica Section C'
_journal_page_first              1507
_journal_page_last               1511
_journal_paper_doi               10.1107/S0108270193013885
_journal_volume                  50
_journal_year                    1994
_chemical_formula_sum            'C12 H10 Cl N3 O'
_chemical_formula_weight         247.69
_space_group_IT_number           14
_space_group_name_Hall           '-P 2yn'
_space_group_name_H-M_alt        'P 1 21/n 1'
_symmetry_cell_setting           monoclinic
_symmetry_space_group_name_Hall  '-P 2yn'
_symmetry_space_group_name_H-M   'P 1 21/n 1'
_atom_type_scat_source           IntTabIV
_cell_angle_alpha                90
_cell_angle_beta                 94.30(5)
_cell_angle_gamma                90
_cell_formula_units_Z            4
_cell_length_a                   7.000(10)
_cell_length_b                   12.813(2)
_cell_length_c                   12.524(2)
_cell_measurement_reflns_used    25
_cell_measurement_temperature    293
_cell_measurement_theta_max      14
_cell_measurement_theta_min      7
_cell_volume                     1120.1(16)
_diffrn_measurement_device       'Enraf-Nonius CAD-4'
_diffrn_measurement_method       θ-2θ
_diffrn_radiation_type           MoK\a
_diffrn_radiation_wavelength     0.71073
_diffrn_reflns_av_R_equivalents  0.015
_diffrn_reflns_limit_h_max       8
_diffrn_reflns_limit_h_min       0
_diffrn_reflns_limit_k_max       15
_diffrn_reflns_limit_k_min       0
_diffrn_reflns_limit_l_max       15
_diffrn_reflns_limit_l_min       -15
_diffrn_reflns_number            2376
_diffrn_reflns_theta_max         25
_diffrn_standards_decay_%        <1
_diffrn_standards_interval_time  60
_diffrn_standards_number         3
_exptl_absorpt_coefficient_mu    0.323
_exptl_absorpt_correction_type   none
_exptl_crystal_colour            Colorless
_exptl_crystal_density_diffrn    1.469
_exptl_crystal_description       Prisms
_exptl_crystal_size_max          1.5
_exptl_crystal_size_mid          0.3
_exptl_crystal_size_min          0.2
_refine_diff_density_max         0.279
_refine_diff_density_min         -0.012
_refine_ls_extinction_coef       1.083E-7
_refine_ls_extinction_method     |Fcalc|/1+gIc
_refine_ls_goodness_of_fit_obs   1.546
_refine_ls_hydrogen_treatment    refU
_refine_ls_number_parameters     195
_refine_ls_number_reflns         1546
_refine_ls_R_factor_obs          0.047
_refine_ls_shift/esd_max         0.01
_refine_ls_structure_factor_coef F
_refine_ls_weighting_details     'w=4Fₒ²/[σ(I)² + (0.07Fₒ²)²]'
_refine_ls_weighting_scheme      calc
_refine_ls_wR_factor_obs         0.063
_reflns_number_observed          1546
_reflns_number_total             2006
_reflns_observed_criterion       I>=3\s
_cod_data_source_file            pa1069.cif
_cod_data_source_block           pa1069_structure_3_of_3
_cod_depositor_comments
;
The following automatic conversions were performed:

'_refine_ls_weighting_scheme' value 'w=4F~o~^2^/[\s(I)^2^ +
(0.07F~o~^2^)^2^]' was changed to 'calc'. New tag
'_refine_ls_weighting_details' was created. The value of the new tag
was set to 'w=4F~o~^2^/[\s(I)^2^ + (0.07F~o~^2^)^2^]'.

Automatic conversion script
Id: cif_fix_values 3143 2015-03-26 13:38:13Z robertas 
;
_cod_original_cell_volume        1120(2)
_cod_original_sg_symbol_H-M      'P 21/n'
_cod_original_formula_sum        'C12 H10 Cl1 N3 O1'
_cod_database_code               2010066
loop_
_space_group_symop_id
_space_group_symop_operation_xyz
1 x,y,z
2 -x+1/2,y+1/2,-z+1/2
3 -x,-y,-z
4 x+1/2,-y+1/2,z+1/2
loop_
_atom_site_label
_atom_site_fract_x
_atom_site_fract_y
_atom_site_fract_z
Cl -.27462(9) .86304(7) 1.12818(6)
O .3152(2) .51390(10) .90150(10)
N1 .3933(2) .68550(10) .9271(2)
N2 .5917(2) .57960(10) .8410(2)
N3 .8294(3) .3229(2) .6885(2)
C1 -.0764(3) .8084(2) 1.0717(2)
C2 .0762(3) .8706(2) 1.0516(2)
C3 .2303(3) .8276(2) 1.0044(2)
C4 .2322(3) .7223(2) .9769(2)
C5 .0762(3) .6606(2) .9995(2)
C6 -.0778(3) .7036(2) 1.0464(2)
C7 .4228(3) .5869(2) .8910(2)
C8 .6638(3) .4920(2) .7929(2)
C9 .5625(3) .4007(2) .7720(2)
C10 .6496(4) .3211(2) .7196(2)
C11 .9250(3) .4112(2) .7118(2)
C12 .8514(3) .4954(2) .7621(2)
H1* .078(3) .939(2) 1.074(2)
H2* .328(3) .869(2) .987(2)
H3* .070(3) .591(2) .984(2)
H4* -.179(3) .658(2) 1.065(2)
H5* .487(3) .733(2) .909(2)
H6* .660(3) .636(2) .841(2)
H7* .439(3) .389(2) .794(2)
H8* .574(3) .259(2) .699(2)
H9* 1.060(3) .412(2) .691(2)
H10* .927(4) .557(2) .774(2)
loop_
_geom_angle_atom_site_label_1
_geom_angle_atom_site_label_2
_geom_angle_atom_site_label_3
_geom_angle
_geom_angle_publ_flag
C4 N1 C7 127.1(2) yes
C4 N1 H5 119(2) yes
C7 N1 H5 113(2) yes
C7 N2 C8 127.1(2) yes
C7 N2 H6 116.0(10) yes
C8 N2 H6 117.0(10) yes
C10 N3 C11 114.5(2) yes
Cl C1 C2 119.6(2) yes
Cl C1 C6 119.4(2) yes
C2 C1 C6 121.1(6) yes
C1 C2 c3 119.3(2) yes
C1 C2 H1 119.0(10) yes
C3 C2 H1 121.0(10) yes
C2 C3 C4 120.9(2) yes
C2 C3 H2 120.0(10) yes
C4 C3 H2 119.0(10) yes
N1 C4 C3 117.1(2) yes
N1 C4 C5 124.4(2) yes
C3 C4 C5 118.5(2) yes
C4 C5 C6 120.6(2) yes
C4 C5 H3 122.0(10) yes
C6 C5 H3 117.0(10) yes
C1 C6 C5 119.6(2) yes
C1 C6 H4 122(2) yes
C5 C6 H4 119.0(10) yes
O C7 N1 124.6(2) yes
O C7 N2 123.7(2) yes
N1 C7 N2 111.6(2) yes
N2 C8 C9 124.6(2) yes
N2 C8 C12 118.4(2) yes
C9 C8 C12 117.0(2) yes
C8 C9 C10 118.5(2) yes
C8 C9 H7 124.0(10) yes
C10 C9 H7 118.0(10) yes
N3 C10 C9 125.6(2) yes
N3 C10 H8 116.0(10) yes
C9 C10 H8 118.0(10) yes
N3 C11 C12 124.6(2) yes
N3 C11 H9 115.0(10) yes
C12 C11 H9 121.0(10) yes
C8 C12 C11 119.8(2) yes
C8 C12 H10 120(2) yes
C11 C12 H10 120(2) yes
loop_
_geom_bond_atom_site_label_1
_geom_bond_atom_site_label_2
_geom_bond_distance
_geom_bond_publ_flag
Cl C1 1.751(2) yes
O C7 1.214(3) yes
N1 C4 1.410(3) yes
N1 C7 1.363(3) yes
N1 H5 0.94(2) yes
N2 C7 1.382(3) yes
N2 C8 1.386(3) yes
N2 H6 0.87(2) yes
N3 C10 1.345(3) yes
N3 C11 1.336(3) yes
C1 C2 1.372(3) yes
C1 C6 1.379(4) yes
C2 C3 1.383(3) yes
C2 H1 0.92(2) yes
C3 C4 1.392(3) yes
C3 H2 0.92(2) yes
C4 C5 1.394(3) yes
C5 C6 1.380(3) yes
C5 H3 0.92(2) yes
C6 H4 0.96(2) yes
C8 C9 1.382(3) yes
C8 C12 1.397(3) yes
C9 C10 1.380(4) yes
C9 H7 0.94(2) yes
C10 H8 0.97(2) yes
C11 C12 1.368(4) yes
C11 H9 1.00(2) yes
C12 H10 0.96(3) yes
