#------------------------------------------------------------------------------
#$Date: 2016-02-19 23:18:51 +0100 (vie 19 de feb de 2016) $
#$Revision: 176760 $
#$URL: svn://www.crystallography.net/cod/cif/2/01/19/2011937.cif $
#------------------------------------------------------------------------------
#
# This file is available in the Crystallography Open Database (COD),
# http://www.crystallography.net/. The original data for this entry
# were provided by IUCr Journals, http://journals.iucr.org/.
#
# The file may be used within the scientific community so long as
# proper attribution is given to the journal article from which the
# data were obtained.
#
data_2011937
loop_
_publ_author_name
'Kashino, Setsuo'
'Fukunaga, Takeo'
'Izutsu, Hironobu'
'Miyashita, Shiho'
_publ_section_title
;
 Hydrogen-bonded complexes of 2-pyridone with centrosymmetric and
 non-centrosymmetric dicarboxylic acids
;
_journal_issue                   5
_journal_name_full               'Acta Crystallographica Section C'
_journal_page_first              627
_journal_page_last               631
_journal_paper_doi               10.1107/S0108270101002839
_journal_volume                  57
_journal_year                    2001
_chemical_formula_moiety         '2C5 H5 N O , C6 H8 O4'
_chemical_formula_structural     '2C5 H5 N O , C6 H8 O4'
_chemical_formula_sum            'C16 H18 N2 O6'
_chemical_formula_weight         334.33
_space_group_IT_number           14
_symmetry_cell_setting           monoclinic
_symmetry_space_group_name_Hall  '-P 2yn'
_symmetry_space_group_name_H-M   'P 1 21/n 1'
_atom_type_scat_source           IntTabC
_cell_angle_alpha                90
_cell_angle_beta                 101.31(3)
_cell_angle_gamma                90
_cell_formula_units_Z            2
_cell_length_a                   9.824(3)
_cell_length_b                   5.5720(17)
_cell_length_c                   15.556(5)
_cell_measurement_reflns_used    25
_cell_measurement_temperature    298
_cell_measurement_theta_max      11
_cell_measurement_theta_min      10
_cell_volume                     835.0(5)
_computing_cell_refinement       'MSC/AFC Diffractometer Control Software'
_computing_data_collection
;MSC/AFC Diffractometer Control Software (Molecular Structure Corporation,
 1990)
;
_computing_data_reduction
'TEXSAN for Windows (Molecular Structure Corporation, 1999)'
_computing_molecular_graphics    'ORTEP3 for Windows (Farrugia, 1997)'
_computing_publication_material  'TEXSAN for Windows'
_computing_structure_refinement  'TEXSAN for Windows'
_computing_structure_solution    'SIR92 (Altomare et al., 1993)'
_diffrn_ambient_temperature      298
_diffrn_measurement_device       'Rigaku AFC-5R'
_diffrn_measurement_method       ω/2θ
_diffrn_radiation_monochromator  graphite
_diffrn_radiation_source         'Rigaku rotating anode'
_diffrn_radiation_type           'Mo K\a'
_diffrn_radiation_wavelength     .71073
_diffrn_reflns_av_R_equivalents  .009
_diffrn_reflns_av_sigmaI/netI    .030
_diffrn_reflns_limit_h_max       13
_diffrn_reflns_limit_h_min       0
_diffrn_reflns_limit_k_max       7
_diffrn_reflns_limit_k_min       0
_diffrn_reflns_limit_l_max       21
_diffrn_reflns_limit_l_min       -21
_diffrn_reflns_number            2802
_diffrn_reflns_reduction_process 'Lp corrections applied'
_diffrn_reflns_theta_max         30.0
_diffrn_reflns_theta_min         2.1
_diffrn_standards_decay_%        <0.1
_diffrn_standards_interval_count 97
_diffrn_standards_number         3
_exptl_absorpt_coefficient_mu    .103
_exptl_absorpt_correction_type   none
_exptl_crystal_colour            colourless
_exptl_crystal_density_diffrn    1.330
_exptl_crystal_density_meas      ?
_exptl_crystal_description       prismatic
_exptl_crystal_F_000             352
_exptl_crystal_size_max          .43
_exptl_crystal_size_mid          .35
_exptl_crystal_size_min          .20
_refine_diff_density_max         .26
_refine_diff_density_min         -.30
_refine_ls_extinction_coef       '1.6(4) \\times 10^-6^'
_refine_ls_extinction_method     'Zachariasen (1967)'
_refine_ls_goodness_of_fit_all   1.89
_refine_ls_goodness_of_fit_ref   1.93
_refine_ls_hydrogen_treatment    refall
_refine_ls_matrix_type           full
_refine_ls_number_constraints    0
_refine_ls_number_parameters     146
_refine_ls_number_reflns         2187
_refine_ls_number_restraints     0
_refine_ls_R_factor_all          .060
_refine_ls_R_factor_gt           .059
_refine_ls_shift/su_max          .010
_refine_ls_shift/su_mean         .001
_refine_ls_structure_factor_coef Fsqd
_refine_ls_weighting_details     'w = 1/[σ²(Fo) + 0.00022|Fo|²]'
_refine_ls_weighting_scheme      sigma
_refine_ls_wR_factor_all         .106
_refine_ls_wR_factor_ref         .102
_reflns_number_gt                2187
_reflns_number_total             2429
_reflns_threshold_expression     I>0.1σ(I)
_cod_data_source_file            bk1582.cif
_cod_data_source_block           II
_cod_depositor_comments
;
The following automatic conversions were performed:

'_exptl_crystal_density_meas' value 'not measured' was changed to '?'
- the value is perceived as not measured.

Automatic conversion script
Id: cif_fix_values 3008 2015-01-20 13:52:24Z robertas 
;
_cod_original_sg_symbol_H-M      'P 21/n'
_cod_database_code               2011937
_cod_database_fobs_code          2011937
loop_
_symmetry_equiv_pos_as_xyz
'  +x,  +y,  +z'
1/2-x,1/2+y,1/2-z
'  -x,  -y,  -z'
1/2+x,1/2-y,1/2+z
loop_
_atom_site_label
_atom_site_fract_x
_atom_site_fract_y
_atom_site_fract_z
_atom_site_U_iso_or_equiv
_atom_site_adp_type
_atom_site_calc_flag
_atom_site_calc_attached_atom
_atom_site_refinement_flags
_atom_site_occupancy
O1 .42044(7) .13718(12) .07540(4) .05736(19) Uani d ? . 1.000
O2 .26139(7) .46278(13) .12498(4) .0566(2) Uani d ? . 1.000
O3 .21963(9) .56938(15) -.01457(4) .0768(3) Uani d ? . 1.000
N1 .55942(7) -.18999(13) .10368(5) .04455(19) Uani d ? . 1.000
C2 .47795(9) -.01743(15) .13013(5) .0422(2) Uani d ? . 1.000
C3 .46415(10) -.02961(17) .21914(5) .0508(3) Uani d ? . 1.000
C4 .52890(11) -.20255(18) .27268(6) .0554(3) Uani d ? . 1.000
C5 .61049(11) -.37510(19) .24190(6) .0560(3) Uani d ? . 1.000
C6 .62347(10) -.36531(17) .15700(6) .0509(3) Uani d ? . 1.000
C7 .20316(9) .59895(16) .05882(5) .0447(2) Uani d ? . 1.000
C8 .11163(10) .79070(17) .08523(6) .0470(2) Uani d ? . 1.000
C9 .06462(9) .97199(16) .01504(5) .0427(2) Uani d ? . 1.000
H1 .5684(9) -.1862(17) .0456(6) .054(3) Uiso d ? . 1.000
H2 .4087(10) .0918(19) .2374(6) .060(3) Uiso d ? . 1.000
H3 .5158(11) -.207(2) .3317(7) .070(3) Uiso d ? . 1.000
H4 .6525(12) -.502(2) .2755(7) .077(4) Uiso d ? . 1.000
H5 .6743(10) -.4714(17) .1293(6) .054(3) Uiso d ? . 1.000
H6 .0333(11) .7090(19) .0999(6) .061(3) Uiso d ? . 1.000
H7 .1626(10) .867(2) .1389(7) .064(3) Uiso d ? . 1.000
H8 .1336(10) 1.0497(18) -.0066(6) .054(3) Uiso d ? . 1.000
H9 .3205(13) .357(2) .1031(8) .085(4) Uiso d ? . 1.000
loop_
_atom_site_aniso_label
_atom_site_aniso_U_11
_atom_site_aniso_U_22
_atom_site_aniso_U_33
_atom_site_aniso_U_12
_atom_site_aniso_U_13
_atom_site_aniso_U_23
O1 .0710(4) .0600(4) .0411(3) .0280(3) .0109(3) .0047(3)
O2 .0685(4) .0580(4) .0432(3) .0257(3) .0108(3) .0052(3)
O3 .1102(6) .0810(5) .0445(4) .0425(5) .0282(4) .0073(4)
N1 .0496(4) .0496(4) .0353(3) .0100(3) .0105(3) .0005(3)
C2 .0459(4) .0442(5) .0356(4) .0061(4) .0057(3) -.0026(3)
C3 .0629(6) .0535(5) .0371(4) .0119(5) .0127(4) -.0048(4)
C4 .0716(6) .0602(6) .0350(4) .0055(5) .0123(4) .0020(4)
C5 .0677(6) .0526(5) .0464(5) .0119(5) .0082(4) .0101(4)
C6 .0559(5) .0490(5) .0481(5) .0134(4) .0110(4) .0001(4)
C7 .0493(5) .0441(5) .0406(4) .0064(4) .0087(3) -.0001(4)
C8 .0516(5) .0503(5) .0400(4) .0123(4) .0110(4) .0034(4)
C9 .0471(4) .0409(4) .0419(4) .0048(4) .0127(4) .0024(4)
loop_
_geom_angle_atom_site_label_1
_geom_angle_atom_site_label_2
_geom_angle_atom_site_label_3
_geom_angle_site_symmetry_2
_geom_angle_site_symmetry_3
_geom_angle
_geom_angle_publ_flag
C7 O2 H9 . . 106.5(10) no
C2 N1 C6 . . 123.57(10) yes
C2 N1 H1 . . 116.9(8) no
C6 N1 H1 . . 119.5(8) no
O1 C2 N1 . . 119.22(10) yes
O1 C2 C3 . . 125.04(10) yes
N1 C2 C3 . . 115.74(10) yes
C2 C3 C4 . . 120.86(11) yes
C2 C3 H2 . . 115.4(8) no
C4 C3 H2 . . 123.7(8) no
C3 C4 C5 . . 120.90(11) yes
C3 C4 H3 . . 118.6(9) no
C5 C4 H3 . . 120.5(9) no
C4 C5 C6 . . 118.54(12) yes
C4 C5 H4 . . 123.6(10) no
C6 C5 H4 . . 117.8(10) no
N1 C6 C5 . . 120.38(12) yes
N1 C6 H5 . . 113.6(8) no
C5 C6 H5 . . 126.0(8) no
O2 C7 O3 . . 123.23(11) no
O2 C7 C8 . . 112.79(10) no
O3 C7 C8 . . 123.97(11) no
C7 C8 C9 . . 113.36(10) no
C7 C8 H6 . . 106.2(9) no
C7 C8 H7 . . 107.9(8) no
C9 C8 H6 . . 110.3(8) no
C9 C8 H7 . . 111.2(9) no
H6 C8 H7 . . 107.7(11) no
C8 C9 C9 . . 124.41(15) no
C8 C9 H8 . . 116.2(8) no
C9 C9 H8 3_575 3_575 119.4(8) no
loop_
_geom_bond_atom_site_label_1
_geom_bond_atom_site_label_2
_geom_bond_site_symmetry_1
_geom_bond_site_symmetry_2
_geom_bond_distance
_geom_bond_publ_flag
O1 C2 . . 1.2639(13) yes
N1 C2 . . 1.3652(15) yes
N1 C6 . . 1.3540(16) yes
N1 H1 . . .925(13) no
C2 C3 . . 1.4191(16) yes
C3 C4 . . 1.3488(18) yes
C3 H2 . . .947(14) no
C4 C5 . . 1.395(2) yes
C4 H3 . . .952(14) no
C5 C6 . . 1.3526(19) yes
C5 H4 . . .925(15) no
C6 H5 . . .933(14) no
O2 C7 . . 1.3158(14) no
O2 H9 . . .937(19) no
O3 C7 . . 1.1954(14) no
C7 C8 . . 1.5046(17) no
C8 C9 . . 1.4927(16) no
C8 H6 . . .959(14) no
C8 H7 . . .982(15) no
C9 C9 . 3_575 1.302(2) no
C9 H8 . . .921(14) no
loop_
_geom_contact_atom_site_label_1
_geom_contact_atom_site_label_2
_geom_contact_distance
_geom_contact_site_symmetry_2
_geom_contact_publ_flag
C6 O3 3.1492(19) 3_655 no
H5 O3 2.301(14) 3_655 no
loop_
_geom_torsion_atom_site_label_1
_geom_torsion_atom_site_label_2
_geom_torsion_atom_site_label_3
_geom_torsion_atom_site_label_4
_geom_torsion_site_symmetry_4
_geom_torsion
_geom_torsion_publ_flag
O1 C2 N1 C6 . -178.90(12) no
O1 C2 C3 C4 . 179.54(13) no
N1 C2 C3 C4 . .12(18) no
N1 C6 C5 C4 . .6(2) no
C2 N1 C6 C5 . -1.0(2) no
C2 C3 C4 C5 . -.4(2) no
C3 C2 N1 C6 . .56(17) no
C3 C4 C5 C6 . .0(2) no
O2 C7 C8 C9 . 170.00(11) no
O3 C7 C8 C9 . -11.4(2) no
C7 C8 C9 C9 3_575 125.59(17) no
