#------------------------------------------------------------------------------
#$Date: 2017-10-13 02:48:21 +0200 (vie 13 de oct de 2017) $
#$Revision: 201957 $
#$URL: svn://www.crystallography.net/cod/cif/2/01/36/2013641.cif $
#------------------------------------------------------------------------------
#
# This file is available in the Crystallography Open Database (COD),
# http://www.crystallography.net/. The original data for this entry
# were provided by IUCr Journals, http://journals.iucr.org/.
#
# The file may be used within the scientific community so long as
# proper attribution is given to the journal article from which the
# data were obtained.
#
data_2013641
loop_
_publ_author_name
'Fronczek, Frank R.'
'Kamel, Haidy Nasr'
'Slattery, Marc'
_publ_section_title
;
 Three polymorphs (α, β, and δ) of <small>D</small>-mannitol at 100K
;
_journal_issue                   10
_journal_name_full               'Acta Crystallographica Section C'
_journal_page_first              o567
_journal_page_last               o570
_journal_paper_doi               10.1107/S0108270103018961
_journal_volume                  59
_journal_year                    2003
_chemical_formula_iupac          'C6 H14 O6'
_chemical_formula_moiety         'C6 H14 O6'
_chemical_formula_sum            'C6 H14 O6'
_chemical_formula_weight         182.17
_chemical_name_systematic
;
D-mannitol
;
_space_group_IT_number           19
_symmetry_cell_setting           orthorhombic
_symmetry_space_group_name_Hall  'P 2ac 2ab'
_symmetry_space_group_name_H-M   'P 21 21 21'
_atom_sites_solution_hydrogens   geom
_atom_sites_solution_primary     direct
_atom_sites_solution_secondary   difmap
_audit_creation_method           SHELXL97
_cell_angle_alpha                90
_cell_angle_beta                 90
_cell_angle_gamma                90
_cell_formula_units_Z            4
_cell_length_a                   5.5381(10)
_cell_length_b                   8.580(2)
_cell_length_c                   16.795(5)
_cell_measurement_reflns_used    1711
_cell_measurement_temperature    100
_cell_measurement_theta_max      34.3
_cell_measurement_theta_min      2.5
_cell_volume                     798.0(3)
_computing_cell_refinement       'DENZO and SCALEPACK'
_computing_data_collection       'COLLECT (Nonius, 2000)'
_computing_data_reduction
'DENZO and SCALEPACK (Otwinowski & Minor, 1997)'
_computing_molecular_graphics    'ORTEP-3 for Windows (Farrugia, 1997)'
_computing_publication_material  SHELXL97
_computing_structure_refinement  'SHELXL97 (Sheldrick, 1997)'
_computing_structure_solution    'SIR97 (Altomare et al., 1999)'
_diffrn_ambient_temperature      100
_diffrn_measured_fraction_theta_full 0.949
_diffrn_measured_fraction_theta_max 0.949
_diffrn_measurement_device
'Nonius KappaCCD area-detector (with Oxford Cryostream)'
_diffrn_measurement_method       'ω scans with κ offsets'
_diffrn_radiation_monochromator  graphite
_diffrn_radiation_source         'fine-focus sealed tube'
_diffrn_radiation_type           MoK\a
_diffrn_radiation_wavelength     0.71073
_diffrn_reflns_av_R_equivalents  0.026
_diffrn_reflns_av_sigmaI/netI    0.035
_diffrn_reflns_limit_h_max       8
_diffrn_reflns_limit_h_min       -8
_diffrn_reflns_limit_k_max       13
_diffrn_reflns_limit_k_min       -13
_diffrn_reflns_limit_l_max       26
_diffrn_reflns_limit_l_min       -26
_diffrn_reflns_number            12106
_diffrn_reflns_theta_full        34.32
_diffrn_reflns_theta_max         34.3
_diffrn_reflns_theta_min         2.6
_diffrn_standards_decay_%        <2
_diffrn_standards_number         0
_exptl_absorpt_coefficient_mu    0.137
_exptl_absorpt_correction_type   none
_exptl_crystal_colour            colorless
_exptl_crystal_density_diffrn    1.516
_exptl_crystal_density_meas      ?
_exptl_crystal_density_method    'not measured'
_exptl_crystal_description       lath
_exptl_crystal_F_000             392
_exptl_crystal_size_max          0.37
_exptl_crystal_size_mid          0.15
_exptl_crystal_size_min          0.05
_refine_diff_density_max         0.38
_refine_diff_density_min         -0.25
_refine_ls_extinction_method     none
_refine_ls_goodness_of_fit_ref   1.080
_refine_ls_hydrogen_treatment    mixed
_refine_ls_matrix_type           full
_refine_ls_number_parameters     127
_refine_ls_number_reflns         1838
_refine_ls_number_restraints     0
_refine_ls_restrained_S_all      1.080
_refine_ls_R_factor_all          0.046
_refine_ls_R_factor_gt           0.036
_refine_ls_shift/su_max          <0.001
_refine_ls_shift/su_mean         0.000
_refine_ls_structure_factor_coef Fsqd
_refine_ls_weighting_details
'calc w = 1/[σ²(Fo²)+(0.0488P)²+0.1129P] where P=(Fo²+2Fc²)/3'
_refine_ls_weighting_scheme      calc
_refine_ls_wR_factor_gt          0.092
_refine_ls_wR_factor_ref         0.095
_reflns_number_gt                1611
_reflns_number_total             1838
_reflns_threshold_expression     I>2σ(I)
_cod_data_source_file            jz1573.cif
_cod_data_source_block           Beta
_cod_depositor_comments
;
The following automatic conversions were performed:
'_symmetry_cell_setting' value 'Orthorhombic' changed to 'orthorhombic'
according to '/home/saulius/struct/CIF-dictionaries/cif_core.dic'
dictionary named 'cif_core.dic' version 2.4.1 from 2010-06-29.

Automatic conversion script
Id: cif_fix_enum 1527 2010-12-29 10:47:43Z saulius 

The following automatic conversions were performed:

'_symmetry_cell_setting' value 'Orthorhombic' changed to
'orthorhombic' according to
/home/saulius/struct/CIF-dictionaries/cif_core.dic dictionary named
'cif_core.dic' version 2.4.1 from 2010-06-29.

Automatic conversion script
Id: cif_fix_values 1715 2011-07-08 13:25:40Z adriana 

The following automatic conversions were performed:

'_exptl_crystal_density_meas' value 'not measured' was changed to '?'
- the value is perceived as not measured.

Automatic conversion script
Id: cif_fix_values 3008 2015-01-20 13:52:24Z robertas 
;
_cod_database_code               2013641
_cod_database_fobs_code          2013641
loop_
_symmetry_equiv_pos_as_xyz
'x, y, z'
'-x+1/2, -y, z+1/2'
'x+1/2, -y+1/2, -z'
'-x, y+1/2, -z+1/2'
loop_
_atom_site_label
_atom_site_fract_x
_atom_site_fract_y
_atom_site_fract_z
_atom_site_U_iso_or_equiv
_atom_site_adp_type
_atom_site_calc_flag
_atom_site_refinement_flags
_atom_site_occupancy
_atom_site_disorder_assembly
_atom_site_disorder_group
_atom_site_type_symbol
O1 1.0760(2) 0.61279(13) 0.44986(6) 0.0144(2) Uani d . 1 . . O
H1O 1.064(4) 0.701(3) 0.4691(13) 0.022 Uiso d . 1 . . H
O2 0.55819(18) 0.61711(13) 0.46309(7) 0.0143(2) Uani d . 1 . . O
H2O 0.411(4) 0.598(3) 0.4579(12) 0.021 Uiso d . 1 . . H
O3 0.83302(19) 0.27783(13) 0.36445(6) 0.0133(2) Uani d . 1 . . O
H3O 0.987(4) 0.294(3) 0.3682(12) 0.020 Uiso d . 1 . . H
O4 0.32682(18) 0.28903(13) 0.36741(6) 0.01136(19) Uani d . 1 . . O
H4O 0.385(4) 0.204(3) 0.3547(12) 0.017 Uiso d . 1 . . H
O5 0.61370(18) 0.49857(13) 0.20060(6) 0.0127(2) Uani d . 1 . . O
H5O 0.766(4) 0.491(3) 0.2056(12) 0.019 Uiso d . 1 . . H
O6 0.09906(18) 0.49756(13) 0.21181(6) 0.0147(2) Uani d . 1 . . O
H6O 0.164(4) 0.573(3) 0.1902(13) 0.022 Uiso d . 1 . . H
C1 0.9372(3) 0.50110(17) 0.49394(8) 0.0136(3) Uani d . 1 . . C
H1A 0.9166 0.5385 0.5493 0.016 Uiso calc R 1 . . H
H1B 1.0261 0.4011 0.4959 0.016 Uiso calc R 1 . . H
C2 0.6897(2) 0.47425(16) 0.45681(8) 0.0113(2) Uani d . 1 . . C
H2 0.6032 0.3909 0.4871 0.014 Uiso calc R 1 . . H
C3 0.7118(2) 0.42557(16) 0.36894(8) 0.0103(2) Uani d . 1 . . C
H3 0.8089 0.5054 0.3397 0.012 Uiso calc R 1 . . H
C4 0.4667(2) 0.40787(17) 0.32857(8) 0.0100(2) Uani d . 1 . . C
H4 0.3783 0.5088 0.3348 0.012 Uiso calc R 1 . . H
C5 0.4879(2) 0.37379(17) 0.23879(8) 0.0109(2) Uani d . 1 . . C
H5 0.5793 0.2745 0.2308 0.013 Uiso calc R 1 . . H
C6 0.2417(2) 0.36070(18) 0.19915(8) 0.0130(3) Uani d . 1 . . C
H6A 0.2636 0.3443 0.1413 0.016 Uiso calc R 1 . . H
H6B 0.1553 0.2691 0.2209 0.016 Uiso calc R 1 . . H
loop_
_atom_site_aniso_label
_atom_site_aniso_U_11
_atom_site_aniso_U_22
_atom_site_aniso_U_33
_atom_site_aniso_U_12
_atom_site_aniso_U_13
_atom_site_aniso_U_23
O1 0.0116(4) 0.0135(5) 0.0181(5) -0.0018(4) 0.0008(4) -0.0049(4)
O2 0.0097(4) 0.0128(5) 0.0204(5) 0.0010(4) 0.0005(4) -0.0070(4)
O3 0.0089(4) 0.0116(4) 0.0194(5) 0.0017(4) -0.0014(4) -0.0038(4)
O4 0.0093(4) 0.0109(4) 0.0139(4) -0.0009(4) 0.0011(4) 0.0013(4)
O5 0.0098(4) 0.0142(5) 0.0142(4) -0.0013(4) -0.0004(3) 0.0042(4)
O6 0.0104(4) 0.0142(5) 0.0195(5) 0.0008(4) -0.0001(4) 0.0049(4)
C1 0.0132(6) 0.0145(6) 0.0131(5) -0.0006(6) -0.0025(5) -0.0010(5)
C2 0.0116(5) 0.0109(6) 0.0113(5) 0.0000(5) 0.0003(5) -0.0019(5)
C3 0.0091(5) 0.0093(6) 0.0125(5) 0.0003(5) -0.0005(4) -0.0013(5)
C4 0.0091(5) 0.0106(6) 0.0103(5) 0.0002(4) 0.0000(4) 0.0007(5)
C5 0.0105(5) 0.0112(6) 0.0111(6) -0.0008(5) -0.0004(4) 0.0005(5)
C6 0.0121(5) 0.0142(6) 0.0128(6) -0.0007(5) -0.0012(5) 0.0001(5)
loop_
_atom_type_symbol
_atom_type_description
_atom_type_scat_dispersion_real
_atom_type_scat_dispersion_imag
_atom_type_scat_source
C C 0.0033 0.0016 'International Tables Vol C Tables 4.2.6.8 and 6.1.1.4'
H H 0.0000 0.0000 'International Tables Vol C Tables 4.2.6.8 and 6.1.1.4'
O O 0.0106 0.0060 'International Tables Vol C Tables 4.2.6.8 and 6.1.1.4'
loop_
_geom_angle_atom_site_label_1
_geom_angle_atom_site_label_2
_geom_angle_atom_site_label_3
_geom_angle
C1 O1 H1O 111.5(15)
C2 O2 H2O 108.6(15)
C3 O3 H3O 108.3(16)
C4 O4 H4O 107.4(15)
C5 O5 H5O 112.5(15)
C6 O6 H6O 109.7(16)
O1 C1 C2 111.82(11)
O1 C1 H1A 109.3
C2 C1 H1A 109.3
O1 C1 H1B 109.3
C2 C1 H1B 109.3
H1A C1 H1B 107.9
O2 C2 C1 107.38(11)
O2 C2 C3 110.12(11)
C1 C2 C3 111.24(11)
O2 C2 H2 109.4
C1 C2 H2 109.4
C3 C2 H2 109.4
O3 C3 C4 107.74(10)
O3 C3 C2 109.09(11)
C4 C3 C2 112.50(11)
O3 C3 H3 109.2
C4 C3 H3 109.2
C2 C3 H3 109.1
O4 C4 C3 110.41(11)
O4 C4 C5 110.54(11)
C3 C4 C5 112.71(11)
O4 C4 H4 107.7
C3 C4 H4 107.7
C5 C4 H4 107.7
O5 C5 C6 107.20(11)
O5 C5 C4 109.53(11)
C6 C5 C4 111.94(11)
O5 C5 H5 109.4
C6 C5 H5 109.4
C4 C5 H5 109.4
O6 C6 C5 111.66(11)
O6 C6 H6A 109.3
C5 C6 H6A 109.3
O6 C6 H6B 109.3
C5 C6 H6B 109.3
H6A C6 H6B 107.9
loop_
_geom_bond_atom_site_label_1
_geom_bond_atom_site_label_2
_geom_bond_site_symmetry_2
_geom_bond_distance
_geom_bond_publ_flag
O1 C1 . 1.4342(18) ?
O1 H1O . 0.82(2) ?
O2 C2 . 1.4298(18) ?
O2 H2O . 0.83(2) ?
O3 C3 . 1.4363(17) ?
O3 H3O . 0.86(2) ?
O4 C4 . 1.4370(17) ?
O4 H4O . 0.82(2) ?
O5 C5 . 1.4292(18) ?
O5 H5O . 0.85(2) ?
O6 C6 . 1.4310(18) ?
O6 H6O . 0.82(2) ?
C1 C2 . 1.5232(19) ?
C1 H1A . 0.99 ?
C1 H1B . 0.99 ?
C2 C3 . 1.5386(18) ?
C2 H2 . 1.00 ?
C3 C4 . 1.5251(18) ?
C3 H3 . 1.00 ?
C4 C5 . 1.5406(19) ?
C4 H4 . 1.00 ?
C5 C6 . 1.5218(19) ?
C5 H5 . 1.00 ?
C6 H6A . 0.99 ?
C6 H6B . 0.99 ?
loop_
_geom_hbond_atom_site_label_D
_geom_hbond_atom_site_label_H
_geom_hbond_atom_site_label_A
_geom_hbond_site_symmetry_A
_geom_hbond_distance_DH
_geom_hbond_distance_HA
_geom_hbond_distance_DA
_geom_hbond_angle_DHA
O1 H1O O2 3_566 0.82(2) 1.94(2) 2.7419(16) 167(2)
O2 H2O O1 1_455 0.83(2) 1.87(2) 2.6801(15) 164(2)
O3 H3O O4 1_655 0.86(2) 1.88(2) 2.7368(15) 168(2)
O4 H4O O5 4_645 0.82(2) 2.00(2) 2.7612(16) 155(2)
O5 H5O O6 1_655 0.85(2) 1.85(2) 2.6946(14) 174(2)
O6 H6O O3 4_655 0.82(2) 1.98(2) 2.7504(16) 155(2)
loop_
_geom_torsion_atom_site_label_1
_geom_torsion_atom_site_label_2
_geom_torsion_atom_site_label_3
_geom_torsion_atom_site_label_4
_geom_torsion
O1 C1 C2 O2 -65.12(13)
O1 C1 C2 C3 55.43(16)
O2 C2 C3 O3 -176.92(10)
C1 C2 C3 O3 64.16(14)
O2 C2 C3 C4 -57.42(14)
C1 C2 C3 C4 -176.34(11)
O3 C3 C4 O4 59.22(13)
C2 C3 C4 O4 -61.06(14)
O3 C3 C4 C5 -64.93(14)
C2 C3 C4 C5 174.79(12)
O4 C4 C5 O5 176.16(10)
C3 C4 C5 O5 -59.76(14)
O4 C4 C5 C6 57.40(15)
C3 C4 C5 C6 -178.52(12)
O5 C5 C6 O6 -64.07(14)
C4 C5 C6 O6 56.06(16)
loop_
_cod_related_entry_id
_cod_related_entry_database
_cod_related_entry_code
1 ChemSpider 6015
