#------------------------------------------------------------------------------
#$Date: 2017-10-13 02:48:21 +0200 (vie 13 de oct de 2017) $
#$Revision: 201957 $
#$URL: svn://www.crystallography.net/cod/cif/2/01/64/2016480.cif $
#------------------------------------------------------------------------------
#
# This file is available in the Crystallography Open Database (COD),
# http://www.crystallography.net/. The original data for this entry
# were provided by IUCr Journals, http://journals.iucr.org/.
#
# The file may be used within the scientific community so long as
# proper attribution is given to the journal article from which the
# data were obtained.
#
data_2016480
loop_
_publ_author_name
'Trilleras, Jorge'
'Low, John N.'
'Cobo, Justo'
'Marchal, Antonio'
'Glidewell, Christopher'
_publ_section_title
;
 Four products from the cyanoacetylation of pyrimidines:
 hydrogen-bonded dimers, π-stacked hydrogen-bonded chains and
 hydrogen-bonded chains of edge-fused rings
;
_journal_coeditor_code           GA3078
_journal_issue                   3
_journal_name_full               'Acta Crystallographica Section C'
_journal_page_first              o149
_journal_page_last               o154
_journal_paper_doi               10.1107/S0108270108003557
_journal_volume                  64
_journal_year                    2008
_chemical_formula_iupac          'C9 H10 N4 O2 S'
_chemical_formula_moiety         'C9 H10 N4 O2 S'
_chemical_formula_sum            'C9 H10 N4 O2 S'
_chemical_formula_weight         238.27
_chemical_name_systematic
;
2-cyano-N-[6-methoxy-2-(methylsulfanyl)pyrimidin-4-yl]acetamide
;
_space_group_IT_number           15
_symmetry_cell_setting           monoclinic
_symmetry_space_group_name_Hall  '-C 2yc'
_symmetry_space_group_name_H-M   'C 1 2/c 1'
_atom_sites_solution_hydrogens   geom
_atom_sites_solution_primary     direct
_atom_sites_solution_secondary   difmap
_cell_angle_alpha                90.00
_cell_angle_beta                 127.836(8)
_cell_angle_gamma                90.00
_cell_formula_units_Z            8
_cell_length_a                   17.106(3)
_cell_length_b                   11.8218(13)
_cell_length_c                   13.7187(19)
_cell_measurement_reflns_used    2505
_cell_measurement_temperature    120(2)
_cell_measurement_theta_max      27.50
_cell_measurement_theta_min      3.93
_cell_volume                     2191.0(6)
_computing_cell_refinement       'DIRAX/LSQ (Duisenberg et al.,  2000)'
_computing_data_collection       'COLLECT (Nonius, 1999)'
_computing_data_reduction        'EVALCCD (Duisenberg et al.,  2003)'
_computing_molecular_graphics    'PLATON (Spek, 2003)'
_computing_publication_material
'SHELXL97 (Sheldrick, 2008) and PRPKAPPA (Ferguson, 1999)'
_computing_structure_refinement
'OSCAIL (McArdle, 2003) and SHELXL97 (Sheldrick, 2008)'
_computing_structure_solution    'SIR2004 (Burla et al.,  2005)'
_diffrn_ambient_temperature      120(2)
_diffrn_detector_area_resol_mean 9.091
_diffrn_measured_fraction_theta_full 0.996
_diffrn_measured_fraction_theta_max 0.996
_diffrn_measurement_device_type  'Bruker Nonius KappaCCD'
_diffrn_measurement_method       'φ and ω scans'
_diffrn_radiation_monochromator  graphite
_diffrn_radiation_source         'Bruker Nonius FR591 rotating anode'
_diffrn_radiation_type           'Mo K\a'
_diffrn_radiation_wavelength     0.71073
_diffrn_reflns_av_R_equivalents  0.0667
_diffrn_reflns_av_sigmaI/netI    0.0295
_diffrn_reflns_limit_h_max       22
_diffrn_reflns_limit_h_min       -22
_diffrn_reflns_limit_k_max       15
_diffrn_reflns_limit_k_min       -15
_diffrn_reflns_limit_l_max       17
_diffrn_reflns_limit_l_min       -17
_diffrn_reflns_number            24464
_diffrn_reflns_theta_full        27.50
_diffrn_reflns_theta_max         27.50
_diffrn_reflns_theta_min         3.93
_diffrn_standards_decay_%        0
_diffrn_standards_number         0
_exptl_absorpt_coefficient_mu    0.287
_exptl_absorpt_correction_T_max  0.911
_exptl_absorpt_correction_T_min  0.807
_exptl_absorpt_correction_type   multi-scan
_exptl_absorpt_process_details   '(SADABS; Sheldrick, 2003)'
_exptl_crystal_colour            yellow
_exptl_crystal_density_diffrn    1.445
_exptl_crystal_density_method    'not measured'
_exptl_crystal_description       block
_exptl_crystal_F_000             992
_exptl_crystal_size_max          0.78
_exptl_crystal_size_mid          0.52
_exptl_crystal_size_min          0.33
_refine_diff_density_max         0.342
_refine_diff_density_min         -0.443
_refine_ls_extinction_method     none
_refine_ls_goodness_of_fit_ref   1.088
_refine_ls_hydrogen_treatment    constr
_refine_ls_matrix_type           full
_refine_ls_number_parameters     147
_refine_ls_number_reflns         2505
_refine_ls_number_restraints     0
_refine_ls_restrained_S_all      1.088
_refine_ls_R_factor_all          0.0519
_refine_ls_R_factor_gt           0.0401
_refine_ls_shift/su_max          0.000
_refine_ls_shift/su_mean         0.000
_refine_ls_structure_factor_coef Fsqd
_refine_ls_weighting_details
'w = 1/[σ²(Fo²)+(0.0505P)²+2.9264P] where P=(Fo²+2Fc²)/3'
_refine_ls_weighting_scheme      calc
_refine_ls_wR_factor_gt          0.1006
_refine_ls_wR_factor_ref         0.1111
_reflns_number_gt                2078
_reflns_number_total             2505
_reflns_threshold_expression     I>2σ(I)
_cod_data_source_file            ga3078.cif
_cod_data_source_block           III
_cod_original_sg_symbol_H-M      'C 2/c'
_cod_database_code               2016480
_cod_database_fobs_code          2016480
loop_
_symmetry_equiv_pos_as_xyz
'x, y, z'
'-x, y, -z+1/2'
'x+1/2, y+1/2, z'
'-x+1/2, y+1/2, -z+1/2'
'-x, -y, -z'
'x, -y, z-1/2'
'-x+1/2, -y+1/2, -z'
'x+1/2, -y+1/2, z-1/2'
loop_
_atom_site_type_symbol
_atom_site_label
_atom_site_fract_x
_atom_site_fract_y
_atom_site_fract_z
_atom_site_U_iso_or_equiv
_atom_site_adp_type
_atom_site_calc_flag
_atom_site_refinement_flags
_atom_site_occupancy
S S2 0.40944(3) 0.75318(3) 0.56284(4) 0.02526(15) Uani d . 1
O O4 0.23850(8) 0.39416(10) 0.48389(11) 0.0251(3) Uani d . 1
O O61 0.54762(9) 0.19949(10) 0.66549(12) 0.0266(3) Uani d . 1
N N1 0.49741(10) 0.55180(11) 0.61921(12) 0.0206(3) Uani d . 1
N N3 0.32428(10) 0.56000(11) 0.52420(13) 0.0222(3) Uani d . 1
N N6 0.58385(10) 0.38726(11) 0.67299(12) 0.0204(3) Uani d . 1
N N64 0.74502(12) 0.04023(14) 0.73883(15) 0.0324(4) Uani d . 1
C C2 0.41309(12) 0.60493(13) 0.57118(14) 0.0200(3) Uani d . 1
C C4 0.32368(12) 0.44820(14) 0.52908(15) 0.0206(3) Uani d . 1
C C5 0.40685(12) 0.38007(13) 0.57797(14) 0.0204(3) Uani d . 1
C C6 0.49251(12) 0.43741(13) 0.62155(14) 0.0193(3) Uani d . 1
C C21 0.53493(14) 0.78768(15) 0.62714(18) 0.0307(4) Uani d . 1
C C41 0.15123(13) 0.46402(15) 0.42872(18) 0.0294(4) Uani d . 1
C C61 0.60612(13) 0.27475(14) 0.69313(15) 0.0209(3) Uani d . 1
C C62 0.71582(13) 0.25209(14) 0.75964(16) 0.0245(4) Uani d . 1
C C63 0.73146(12) 0.13320(15) 0.74687(16) 0.0256(4) Uani d . 1
H H6 0.6309 0.4342 0.6967 0.024 Uiso d R 1
H H5 0.4044 0.3000 0.5809 0.024 Uiso calc R 1
H H21A 0.5794 0.7626 0.7133 0.046 Uiso calc R 1
H H21B 0.5411 0.8697 0.6234 0.046 Uiso calc R 1
H H21C 0.5527 0.7496 0.5797 0.046 Uiso calc R 1
H H41A 0.1597 0.5137 0.4918 0.044 Uiso calc R 1
H H41B 0.0932 0.4156 0.3942 0.044 Uiso calc R 1
H H41C 0.1417 0.5101 0.3628 0.044 Uiso calc R 1
H H62A 0.7400 0.3005 0.7243 0.029 Uiso calc R 1
H H62B 0.7539 0.2712 0.8482 0.029 Uiso calc R 1
loop_
_atom_site_aniso_label
_atom_site_aniso_U_11
_atom_site_aniso_U_22
_atom_site_aniso_U_33
_atom_site_aniso_U_12
_atom_site_aniso_U_13
_atom_site_aniso_U_23
S2 0.0298(3) 0.0135(2) 0.0322(2) 0.00169(15) 0.0189(2) 0.00029(15)
O4 0.0194(6) 0.0168(6) 0.0350(7) 0.0006(4) 0.0146(5) 0.0001(5)
O61 0.0248(6) 0.0162(6) 0.0365(7) -0.0004(5) 0.0176(6) 0.0021(5)
N1 0.0239(7) 0.0156(6) 0.0218(7) 0.0011(5) 0.0138(6) 0.0002(5)
N3 0.0239(7) 0.0169(7) 0.0230(7) 0.0027(5) 0.0128(6) 0.0004(5)
N6 0.0189(7) 0.0143(6) 0.0253(7) 0.0006(5) 0.0122(6) 0.0011(5)
N64 0.0323(9) 0.0251(8) 0.0344(8) 0.0066(6) 0.0178(7) 0.0016(6)
C2 0.0240(8) 0.0161(7) 0.0198(7) 0.0011(6) 0.0134(7) 0.0002(6)
C4 0.0200(8) 0.0184(7) 0.0230(8) 0.0009(6) 0.0129(7) 0.0007(6)
C5 0.0218(8) 0.0147(7) 0.0224(8) 0.0008(6) 0.0124(7) 0.0000(6)
C6 0.0224(8) 0.0178(8) 0.0183(7) 0.0036(6) 0.0127(7) 0.0016(6)
C21 0.0346(10) 0.0208(8) 0.0359(10) -0.0046(7) 0.0212(9) -0.0021(7)
C41 0.0205(8) 0.0208(8) 0.0409(10) 0.0014(7) 0.0157(8) -0.0019(7)
C61 0.0221(8) 0.0193(7) 0.0201(7) 0.0027(6) 0.0123(7) 0.0021(6)
C62 0.0213(8) 0.0187(8) 0.0271(8) 0.0012(6) 0.0116(7) 0.0008(6)
C63 0.0201(8) 0.0255(9) 0.0257(8) 0.0029(7) 0.0113(7) 0.0022(7)
loop_
_atom_type_symbol
_atom_type_description
_atom_type_scat_dispersion_real
_atom_type_scat_dispersion_imag
_atom_type_scat_source
C C 0.0033 0.0016 'International Tables Vol C Tables 4.2.6.8 and 6.1.1.4'
H H 0.0000 0.0000 'International Tables Vol C Tables 4.2.6.8 and 6.1.1.4'
N N 0.0061 0.0033 'International Tables Vol C Tables 4.2.6.8 and 6.1.1.4'
O O 0.0106 0.0060 'International Tables Vol C Tables 4.2.6.8 and 6.1.1.4'
S S 0.1246 0.1234 'International Tables Vol C Tables 4.2.6.8 and 6.1.1.4'
loop_
_geom_angle_atom_site_label_1
_geom_angle_atom_site_label_2
_geom_angle_atom_site_label_3
_geom_angle
_geom_angle_publ_flag
C2 S2 C21 102.16(8) no
C4 O4 C41 116.63(13) no
C2 N1 C6 114.94(14) no
C4 N3 C2 114.34(14) no
C61 N6 C6 127.23(14) no
C61 N6 H6 118.2 no
C6 N6 H6 114.6 no
N1 C2 N3 128.25(15) no
N1 C2 S2 119.47(12) no
N3 C2 S2 112.28(11) no
N3 C4 O4 119.40(14) no
N3 C4 C5 124.24(15) no
O4 C4 C5 116.35(14) no
C6 C5 C4 115.12(15) no
C6 C5 H5 122.4 no
C4 C5 H5 122.4 no
N1 C6 C5 123.11(14) no
N1 C6 N6 111.72(14) no
C5 C6 N6 125.17(15) no
S2 C21 H21A 109.5 no
S2 C21 H21B 109.5 no
H21A C21 H21B 109.5 no
S2 C21 H21C 109.5 no
H21A C21 H21C 109.5 no
H21B C21 H21C 109.5 no
O4 C41 H41A 109.5 no
O4 C41 H41B 109.5 no
H41A C41 H41B 109.5 no
O4 C41 H41C 109.5 no
H41A C41 H41C 109.5 no
H41B C41 H41C 109.5 no
O61 C61 N6 125.27(16) no
O61 C61 C62 122.32(15) no
N6 C61 C62 112.38(14) no
C63 C62 C61 110.23(14) no
C63 C62 H62A 109.6 no
C61 C62 H62A 109.6 no
C63 C62 H62B 109.6 no
C61 C62 H62B 109.6 no
H62A C62 H62B 108.1 no
N64 C63 C62 178.9(2) no
loop_
_geom_bond_atom_site_label_1
_geom_bond_atom_site_label_2
_geom_bond_distance
_geom_bond_publ_flag
S2 C2 1.7548(16) no
S2 C21 1.797(2) no
O4 C4 1.344(2) no
O4 C41 1.448(2) no
O61 C61 1.213(2) no
N1 C2 1.320(2) no
N1 C6 1.356(2) no
N3 C4 1.324(2) no
N3 C2 1.343(2) no
N6 C61 1.364(2) no
N6 C6 1.392(2) no
N6 H6 0.86 no
N64 C63 1.143(2) no
C4 C5 1.397(2) no
C5 C6 1.375(2) no
C5 H5 0.95 no
C21 H21A 0.98 no
C21 H21B 0.98 no
C21 H21C 0.98 no
C41 H41A 0.98 no
C41 H41B 0.98 no
C41 H41C 0.98 no
C61 C62 1.525(2) no
C62 C63 1.461(2) no
C62 H62A 0.99 no
C62 H62B 0.99 no
loop_
_geom_hbond_atom_site_label_D
_geom_hbond_atom_site_label_H
_geom_hbond_atom_site_label_A
_geom_hbond_site_symmetry_A
_geom_hbond_distance_DH
_geom_hbond_distance_HA
_geom_hbond_distance_DA
_geom_hbond_angle_DHA
_geom_hbond_publ_flag
N6 H6 N64 4_656 0.86 2.13 2.993(2) 176 no
C5 H5 O61 . 0.95 2.30 2.872(2) 118 no
loop_
_geom_torsion_atom_site_label_1
_geom_torsion_atom_site_label_2
_geom_torsion_atom_site_label_3
_geom_torsion_atom_site_label_4
_geom_torsion
_geom_torsion_publ_flag
C6 N1 C2 N3 -0.6(2) no
C6 N1 C2 S2 179.95(11) no
C4 N3 C2 N1 0.8(2) no
C4 N3 C2 S2 -179.73(12) no
C21 S2 C2 N1 1.00(15) no
C21 S2 C2 N3 -178.54(12) no
C2 N3 C4 O4 -179.59(14) no
C2 N3 C4 C5 -0.2(2) no
C41 O4 C4 N3 1.8(2) no
C41 O4 C4 C5 -177.67(15) no
N3 C4 C5 C6 -0.5(2) no
O4 C4 C5 C6 178.92(14) no
C2 N1 C6 C5 -0.2(2) no
C2 N1 C6 N6 179.85(13) no
C4 C5 C6 N1 0.7(2) no
C4 C5 C6 N6 -179.37(15) no
C61 N6 C6 N1 177.73(15) no
C61 N6 C6 C5 -2.2(3) no
C6 N6 C61 O61 2.2(3) no
C6 N6 C61 C62 -175.91(15) no
O61 C61 C62 C63 18.6(2) no
N6 C61 C62 C63 -163.22(15) no
loop_
_cod_related_entry_id
_cod_related_entry_database
_cod_related_entry_code
1 ChemSpider 21118945
