#------------------------------------------------------------------------------
#$Date: 2017-10-13 02:48:21 +0200 (vie 13 de oct de 2017) $
#$Revision: 201957 $
#$URL: svn://www.crystallography.net/cod/cif/2/01/66/2016648.cif $
#------------------------------------------------------------------------------
#
# This file is available in the Crystallography Open Database (COD),
# http://www.crystallography.net/. The original data for this entry
# were provided by IUCr Journals, http://journals.iucr.org/.
#
# The file may be used within the scientific community so long as
# proper attribution is given to the journal article from which the
# data were obtained.
#
data_2016648
loop_
_publ_author_name
'Donnelly, Katie'
'Gallagher, John F.'
'Lough, Alan J.'
_publ_section_title
;
 Assembling an isomer grid: the isomorphous 4-, 3- and
 2-fluoro-N'-(4-pyridyl)benzamides
;
_journal_coeditor_code           SK3227
_journal_issue                   6
_journal_name_full               'Acta Crystallographica Section C'
_journal_page_first              o335
_journal_page_last               o340
_journal_paper_doi               10.1107/S0108270108012067
_journal_volume                  64
_journal_year                    2008
_chemical_formula_iupac          'C12 H9 F N2 O'
_chemical_formula_moiety         'C12 H9 F N2 O'
_chemical_formula_structural     'C12 H9 F N2 O'
_chemical_formula_sum            'C12 H9 F N2 O'
_chemical_formula_weight         216.21
_chemical_melting_point          396
_chemical_name_systematic
;
2-fluoro-N'-(4-pyridyl)benzamide
;
_space_group_IT_number           14
_symmetry_cell_setting           monoclinic
_symmetry_space_group_name_Hall  '-P 2ybc'
_symmetry_space_group_name_H-M   'P 1 21/c 1'
_atom_sites_solution_hydrogens   geom
_atom_sites_solution_primary     direct
_atom_sites_solution_secondary   difmap
_audit_creation_method           SHELXL-97
_cell_angle_alpha                90.00
_cell_angle_beta                 94.986(3)
_cell_angle_gamma                90.00
_cell_formula_units_Z            4
_cell_length_a                   5.9832(3)
_cell_length_b                   11.1508(5)
_cell_length_c                   14.8921(7)
_cell_measurement_reflns_used    2924
_cell_measurement_temperature    150(2)
_cell_measurement_theta_max      27.48
_cell_measurement_theta_min      2.75
_cell_volume                     989.80(8)
_computing_cell_refinement       'DENZO-SMN (Otwinowski & Minor, 1997)'
_computing_data_collection       'KappaCCD Server software (Nonius, 1997)'
_computing_data_reduction        'DENZO-SMN (Otwinowski & Minor, 1997)'
_computing_molecular_graphics    'PLATON (Spek, 2003)'
_computing_publication_material
'SHELXL97 (Sheldrick, 2008) and PREP8 (Ferguson, 1998)'
_computing_structure_refinement
'SHELXL97 (Sheldrick, 2008) and SORTX (McArdle, 1995)'
_computing_structure_solution    'SHELXS97 (Sheldrick, 2008)'
_diffrn_ambient_temperature      150.0(10)
_diffrn_measured_fraction_theta_full 0.993
_diffrn_measured_fraction_theta_max 0.993
_diffrn_measurement_device       'Nonius KappaCCD'
_diffrn_measurement_method       'φ, ω scans with κ offsets'
_diffrn_radiation_monochromator  graphite
_diffrn_radiation_source         'fine-focus sealed X-ray tube'
_diffrn_radiation_type           'Molybdenum K\a'
_diffrn_radiation_wavelength     0.71073
_diffrn_reflns_av_R_equivalents  0.0311
_diffrn_reflns_av_sigmaI/netI    0.0376
_diffrn_reflns_limit_h_max       7
_diffrn_reflns_limit_h_min       -7
_diffrn_reflns_limit_k_max       14
_diffrn_reflns_limit_k_min       -13
_diffrn_reflns_limit_l_max       19
_diffrn_reflns_limit_l_min       -19
_diffrn_reflns_number            6092
_diffrn_reflns_theta_full        27.48
_diffrn_reflns_theta_max         27.48
_diffrn_reflns_theta_min         2.75
_diffrn_standards_number         2924
_exptl_absorpt_coefficient_mu    0.108
_exptl_absorpt_correction_T_max  0.982
_exptl_absorpt_correction_T_min  0.911
_exptl_absorpt_correction_type   multi-scan
_exptl_absorpt_process_details   '(SORTAV; Blessing, 1995)'
_exptl_crystal_colour            colourless
_exptl_crystal_density_diffrn    1.451
_exptl_crystal_density_method    'not measured'
_exptl_crystal_description       block
_exptl_crystal_F_000             448
_exptl_crystal_size_max          0.35
_exptl_crystal_size_mid          0.30
_exptl_crystal_size_min          0.18
_refine_diff_density_max         0.183
_refine_diff_density_min         -0.236
_refine_ls_extinction_method     none
_refine_ls_goodness_of_fit_ref   1.038
_refine_ls_hydrogen_treatment    mixed
_refine_ls_matrix_type           full
_refine_ls_number_parameters     149
_refine_ls_number_reflns         2252
_refine_ls_number_restraints     0
_refine_ls_restrained_S_all      1.038
_refine_ls_R_factor_all          0.0609
_refine_ls_R_factor_gt           0.0436
_refine_ls_shift/su_max          0.001
_refine_ls_shift/su_mean         0.000
_refine_ls_structure_factor_coef Fsqd
_refine_ls_weighting_details
'w=1/[σ²(Fo²)+(0.0667P)²+0.1717P] where P=(Fo²+2Fc²)/3'
_refine_ls_weighting_scheme      calc
_refine_ls_wR_factor_gt          0.1092
_refine_ls_wR_factor_ref         0.1208
_reflns_number_gt                1744
_reflns_number_total             2252
_reflns_threshold_expression     I>2σ(I)
_cod_data_source_file            sk3227.cif
_cod_data_source_block           III
_cod_depositor_comments
;
The following automatic conversions were performed:
'_symmetry_cell_setting' value 'Monoclinic' changed to 'monoclinic'
according to '/home/saulius/struct/CIF-dictionaries/cif_core.dic'
dictionary named 'cif_core.dic' version 2.4.1 from 2010-06-29.

Automatic conversion script
Id: cif_fix_enum 1527 2010-12-29 10:47:43Z saulius 

The following automatic conversions were performed:

'_symmetry_cell_setting' value 'Monoclinic' changed to 'monoclinic'
according to /home/saulius/struct/CIF-dictionaries/cif_core.dic
dictionary named 'cif_core.dic' version 2.4.1 from 2010-06-29.

Automatic conversion script
Id: cif_fix_values 1715 2011-07-08 13:25:40Z adriana 
;
_cod_original_sg_symbol_H-M      'P 21/c'
_cod_database_code               2016648
_cod_database_fobs_code          2016648
loop_
_symmetry_equiv_pos_as_xyz
'x, y, z'
'-x, y+1/2, -z+1/2'
'-x, -y, -z'
'x, -y-1/2, z-1/2'
loop_
_atom_site_type_symbol
_atom_site_label
_atom_site_fract_x
_atom_site_fract_y
_atom_site_fract_z
_atom_site_U_iso_or_equiv
_atom_site_adp_type
_atom_site_calc_flag
_atom_site_refinement_flags
_atom_site_occupancy
F F12 0.52935(14) 0.13712(8) 0.52681(5) 0.0336(3) Uani d . 1
O O1 1.08051(17) 0.05396(9) 0.40178(7) 0.0302(3) Uani d . 1
C C1 0.8988(2) 0.09687(12) 0.41552(9) 0.0224(3) Uani d . 1
N N1 0.7012(2) 0.06364(11) 0.37018(8) 0.0262(3) Uani d . 1
C C11 0.8830(2) 0.19650(12) 0.48261(9) 0.0226(3) Uani d . 1
C C12 0.7042(2) 0.21337(13) 0.53489(9) 0.0254(3) Uani d . 1
C C13 0.6992(3) 0.30509(14) 0.59716(10) 0.0334(4) Uani d . 1
C C14 0.8783(3) 0.38375(14) 0.60715(10) 0.0355(4) Uani d . 1
C C15 1.0606(3) 0.36933(13) 0.55681(10) 0.0319(4) Uani d . 1
C C16 1.0637(3) 0.27587(13) 0.49565(9) 0.0266(3) Uani d . 1
C C21 0.6653(2) -0.02922(12) 0.30769(9) 0.0228(3) Uani d . 1
C C22 0.4561(2) -0.03615(13) 0.25859(10) 0.0277(3) Uani d . 1
C C23 0.4166(3) -0.12762(14) 0.19667(10) 0.0302(3) Uani d . 1
N N24 0.5662(2) -0.21282(11) 0.18027(8) 0.0287(3) Uani d . 1
C C25 0.7647(3) -0.20485(13) 0.22909(9) 0.0270(3) Uani d . 1
C C26 0.8236(2) -0.11715(12) 0.29229(9) 0.0239(3) Uani d . 1
H H1 0.587(3) 0.1064(16) 0.3749(11) 0.034(5) Uiso d . 1
H H13 0.5752 0.3139 0.6324 0.040 Uiso calc R 1
H H14 0.8764 0.4482 0.6488 0.043 Uiso calc R 1
H H15 1.1834 0.4235 0.5642 0.038 Uiso calc R 1
H H16 1.1904 0.2656 0.4621 0.032 Uiso calc R 1
H H22 0.3427 0.0211 0.2676 0.033 Uiso calc R 1
H H23 0.2738 -0.1304 0.1634 0.036 Uiso calc R 1
H H25 0.8737 -0.2643 0.2195 0.032 Uiso calc R 1
H H26 0.9680 -0.1167 0.3244 0.029 Uiso calc R 1
loop_
_atom_site_aniso_label
_atom_site_aniso_U_11
_atom_site_aniso_U_22
_atom_site_aniso_U_33
_atom_site_aniso_U_12
_atom_site_aniso_U_13
_atom_site_aniso_U_23
F12 0.0297(5) 0.0385(5) 0.0334(5) -0.0044(4) 0.0074(4) -0.0025(4)
O1 0.0265(6) 0.0298(6) 0.0349(6) 0.0012(4) 0.0062(4) -0.0058(4)
C1 0.0262(7) 0.0208(7) 0.0206(6) 0.0004(5) 0.0035(5) 0.0031(5)
N1 0.0256(7) 0.0257(6) 0.0269(6) 0.0054(5) 0.0002(5) -0.0055(5)
C11 0.0277(7) 0.0216(7) 0.0182(6) 0.0033(5) 0.0008(5) 0.0022(5)
C12 0.0264(7) 0.0267(7) 0.0229(7) 0.0027(6) 0.0008(5) 0.0015(6)
C13 0.0368(9) 0.0361(9) 0.0278(8) 0.0092(7) 0.0066(6) -0.0022(6)
C14 0.0493(10) 0.0278(8) 0.0289(8) 0.0058(7) 0.0001(7) -0.0079(6)
C15 0.0381(9) 0.0248(8) 0.0318(8) -0.0021(6) -0.0020(6) -0.0017(6)
C16 0.0305(8) 0.0263(7) 0.0230(7) 0.0011(6) 0.0021(6) 0.0024(6)
C21 0.0276(7) 0.0217(7) 0.0196(6) -0.0012(5) 0.0046(5) 0.0006(5)
C22 0.0253(8) 0.0277(7) 0.0301(7) 0.0021(6) 0.0033(6) -0.0016(6)
C23 0.0266(8) 0.0324(8) 0.0313(7) -0.0022(6) 0.0011(6) -0.0033(6)
N24 0.0311(7) 0.0270(7) 0.0281(6) -0.0019(5) 0.0033(5) -0.0036(5)
C25 0.0316(8) 0.0230(7) 0.0272(7) 0.0019(6) 0.0057(6) 0.0005(6)
C26 0.0266(7) 0.0235(7) 0.0213(6) 0.0015(6) 0.0011(5) 0.0009(5)
loop_
_atom_type_symbol
_atom_type_description
_atom_type_scat_dispersion_real
_atom_type_scat_dispersion_imag
_atom_type_scat_source
C C 0.0033 0.0016 'International Tables Vol C Tables 4.2.6.8 and 6.1.1.4'
H H 0.0000 0.0000 'International Tables Vol C Tables 4.2.6.8 and 6.1.1.4'
N N 0.0061 0.0033 'International Tables Vol C Tables 4.2.6.8 and 6.1.1.4'
O O 0.0106 0.0060 'International Tables Vol C Tables 4.2.6.8 and 6.1.1.4'
F F 0.0171 0.0103 'International Tables Vol C Tables 4.2.6.8 and 6.1.1.4'
loop_
_geom_angle_atom_site_label_1
_geom_angle_atom_site_label_2
_geom_angle_atom_site_label_3
_geom_angle
O1 C1 N1 123.90(13)
O1 C1 C11 120.62(13)
N1 C1 C11 115.41(12)
C1 N1 C21 127.53(12)
C12 C11 C16 117.43(13)
C12 C11 C1 124.64(13)
C16 C11 C1 117.91(12)
F12 C12 C13 117.75(12)
F12 C12 C11 119.67(12)
C13 C12 C11 122.57(14)
C12 C13 C14 118.65(14)
C13 C14 C15 120.50(14)
C16 C15 C14 119.95(15)
C15 C16 C11 120.88(14)
C22 C21 C26 117.74(13)
C22 C21 N1 117.98(12)
C26 C21 N1 124.28(13)
C23 C22 C21 118.95(13)
N24 C23 C22 124.47(14)
C25 N24 C23 115.32(12)
N24 C25 C26 125.32(13)
C25 C26 C21 118.19(13)
C1 N1 H1 118.8(12)
C21 N1 H1 113.4(12)
C12 C13 H13 120.7
C14 C13 H13 120.7
C13 C14 H14 119.8
C15 C14 H14 119.8
C16 C15 H15 120.0
C14 C15 H15 120.0
C15 C16 H16 119.6
C11 C16 H16 119.6
C23 C22 H22 120.5
C21 C22 H22 120.5
N24 C23 H23 117.8
C22 C23 H23 117.8
N24 C25 H25 117.3
C26 C25 H25 117.3
C25 C26 H26 120.9
C21 C26 H26 120.9
loop_
_geom_bond_atom_site_label_1
_geom_bond_atom_site_label_2
_geom_bond_distance
F12 C12 1.3451(16)
O1 C1 1.2212(17)
C1 N1 1.3610(18)
C1 C11 1.5026(19)
N1 C21 1.3962(18)
C11 C12 1.3900(19)
C11 C16 1.398(2)
C12 C13 1.383(2)
C13 C14 1.383(2)
C14 C15 1.386(2)
C15 C16 1.385(2)
C21 C22 1.396(2)
C21 C26 1.3960(19)
C22 C23 1.382(2)
C23 N24 1.3421(19)
N24 C25 1.3404(19)
C25 C26 1.382(2)
N1 H1 0.844(19)
C13 H13 0.9500
C14 H14 0.9500
C15 H15 0.9500
C16 H16 0.9500
C22 H22 0.9500
C23 H23 0.9500
C25 H25 0.9500
C26 H26 0.9500
loop_
_geom_hbond_atom_site_label_D
_geom_hbond_atom_site_label_H
_geom_hbond_atom_site_label_A
_geom_hbond_site_symmetry_A
_geom_hbond_distance_DH
_geom_hbond_distance_HA
_geom_hbond_distance_DA
_geom_hbond_angle_DHA
_geom_hbond_publ_flag
N1 H1 N24 2_655 0.844(19) 2.333(18) 3.0213(17) 139.1(15) yes
N1 H1 F12 . 0.844(19) 2.342(17) 2.7544(15) 110.6(14) yes
C26 H26 O1 . 0.95 2.30 2.8681(17) 118 yes
C26 H26 Cg1 3_756 0.95 2.83 3.4549(13) 124 yes
C14 H14 Cg2 4_555 0.95 2.93 3.7693(17) 149 yes
loop_
_geom_torsion_atom_site_label_1
_geom_torsion_atom_site_label_2
_geom_torsion_atom_site_label_3
_geom_torsion_atom_site_label_4
_geom_torsion
_geom_torsion_publ_flag
O1 C1 N1 C21 6.1(2) yes
O1 C1 C11 C12 -147.55(14) yes
C11 C1 N1 C21 -176.77(12) yes
C1 N1 C21 C26 11.2(2) yes
N1 C1 C11 C12 35.21(19) ?
O1 C1 C11 C16 30.35(19) ?
N1 C1 C11 C16 -146.89(13) ?
C16 C11 C12 F12 -177.97(12) ?
C1 C11 C12 F12 -0.1(2) ?
C16 C11 C12 C13 0.7(2) ?
C1 C11 C12 C13 178.64(13) ?
F12 C12 C13 C14 179.36(13) ?
C11 C12 C13 C14 0.6(2) ?
C12 C13 C14 C15 -1.1(2) ?
C13 C14 C15 C16 0.3(2) ?
C14 C15 C16 C11 1.1(2) ?
C12 C11 C16 C15 -1.6(2) ?
C1 C11 C16 C15 -179.67(12) ?
C1 N1 C21 C22 -170.14(13) ?
C26 C21 C22 C23 -1.0(2) ?
N1 C21 C22 C23 -179.73(13) ?
C21 C22 C23 N24 0.7(2) ?
C22 C23 N24 C25 0.1(2) ?
C23 N24 C25 C26 -0.6(2) ?
N24 C25 C26 C21 0.3(2) ?
C22 C21 C26 C25 0.52(19) ?
N1 C21 C26 C25 179.21(13) ?
loop_
_cod_related_entry_id
_cod_related_entry_database
_cod_related_entry_code
1 ChemSpider 503568
