#------------------------------------------------------------------------------
#$Date: 2017-10-13 07:28:26 +0200 (vie 13 de oct de 2017) $
#$Revision: 201972 $
#$URL: svn://www.crystallography.net/cod/cif/2/10/05/2100532.cif $
#------------------------------------------------------------------------------
#
# This file is available in the Crystallography Open Database (COD),
# http://www.crystallography.net/. The original data for this entry
# were provided by IUCr Journals, http://journals.iucr.org/.
#
# The file may be used within the scientific community so long as
# proper attribution is given to the journal article from which the
# data were obtained.
#
data_2100532
loop_
_publ_author_name
'Cuffini, Silvia'
'Glidewell, Christopher'
'Low, John N.'
'de Oliviera, Aline G.'
'de Souza, Marcus V. N.'
'Vasconcelos, Thatyana R. A.'
'Wardell, Solange M. S. V.'
'Wardell, James L.'
_publ_section_title
;
 Nine N-aryl-2-chloronicotinamides: supramolecular structures in
 one, two and three dimensions
;
_journal_coeditor_code           BM5033
_journal_issue                   4
_journal_name_full               'Acta Crystallographica Section B'
_journal_page_first              651
_journal_page_last               665
_journal_paper_doi               10.1107/S0108768106015497
_journal_volume                  62
_journal_year                    2006
_chemical_formula_moiety         'C12 H9 Cl N2 O'
_chemical_formula_sum            'C12 H9 Cl N2 O'
_chemical_formula_weight         232.66
_chemical_name_systematic
;
N-phenyl-2-chloronicotinamide
;
_space_group_IT_number           56
_symmetry_cell_setting           orthorhombic
_symmetry_space_group_name_Hall  '-P 2ab 2ac'
_symmetry_space_group_name_H-M   'P c c n'
_atom_sites_solution_hydrogens   geom
_atom_sites_solution_primary     direct
_atom_sites_solution_secondary   difmap
_cell_angle_alpha                90.00
_cell_angle_beta                 90.00
_cell_angle_gamma                90.00
_cell_formula_units_Z            8
_cell_length_a                   13.2296(6)
_cell_length_b                   21.0744(10)
_cell_length_c                   7.6898(16)
_cell_measurement_reflns_used    2446
_cell_measurement_temperature    120(2)
_cell_measurement_theta_max      27.50
_cell_measurement_theta_min      3.08
_cell_volume                     2144.0(5)
_computing_cell_refinement       'DENZO (Otwinowski & Minor, 1997) & COLLECT'
_computing_data_collection       'COLLECT (Hooft, 1999)'
_computing_data_reduction        'DENZO & COLLECT'
_computing_molecular_graphics    'PLATON (Spek, 2003)'
_computing_publication_material  'SHELXL-97 and PRPKAPPA (Ferguson, 1999)'
_computing_structure_refinement  'OSCAIL and SHELXL-97 (Sheldrick, 1997)'
_computing_structure_solution
'OSCAIL (McArdle, 2003) and SHELXS-97 (Sheldrick, 1997)'
_diffrn_ambient_temperature      120(2)
_diffrn_detector_area_resol_mean 9.091
_diffrn_measured_fraction_theta_full 0.996
_diffrn_measured_fraction_theta_max 0.996
_diffrn_measurement_device_type
'Bruker-Nonius 95mm CCD camera on κ goniostat'
_diffrn_measurement_method       'φ & ω scans'
_diffrn_radiation_monochromator  graphite
_diffrn_radiation_source         'Bruker-Nonius FR591 rotating anode'
_diffrn_radiation_type           'Mo K\a'
_diffrn_radiation_wavelength     0.71073
_diffrn_reflns_av_R_equivalents  0.1035
_diffrn_reflns_av_sigmaI/netI    0.0602
_diffrn_reflns_limit_h_max       17
_diffrn_reflns_limit_h_min       -16
_diffrn_reflns_limit_k_max       27
_diffrn_reflns_limit_k_min       -27
_diffrn_reflns_limit_l_max       9
_diffrn_reflns_limit_l_min       -9
_diffrn_reflns_number            17837
_diffrn_reflns_theta_full        27.50
_diffrn_reflns_theta_max         27.50
_diffrn_reflns_theta_min         3.08
_diffrn_standards_decay_%        0
_exptl_absorpt_coefficient_mu    0.333
_exptl_absorpt_correction_T_max  0.993
_exptl_absorpt_correction_T_min  0.943
_exptl_absorpt_correction_type   multi-scan
_exptl_absorpt_process_details   'SADABS 2.10 (Sheldrick, 2003)'
_exptl_crystal_colour            colourless
_exptl_crystal_density_diffrn    1.442
_exptl_crystal_density_method    'not measured'
_exptl_crystal_description       needle
_exptl_crystal_F_000             960
_exptl_crystal_size_max          0.24
_exptl_crystal_size_mid          0.09
_exptl_crystal_size_min          0.02
_refine_diff_density_max         0.278
_refine_diff_density_min         -0.280
_refine_ls_extinction_method     none
_refine_ls_goodness_of_fit_ref   1.073
_refine_ls_hydrogen_treatment    constr
_refine_ls_matrix_type           full
_refine_ls_number_parameters     145
_refine_ls_number_reflns         2446
_refine_ls_number_restraints     0
_refine_ls_restrained_S_all      1.073
_refine_ls_R_factor_all          0.0967
_refine_ls_R_factor_gt           0.0594
_refine_ls_shift/su_max          0.001
_refine_ls_shift/su_mean         0.000
_refine_ls_structure_factor_coef Fsqd
_refine_ls_weighting_details
'w=1/[σ²(Fo²)+(0.0479P)²+1.6007P] where P=(Fo²+2Fc²)/3'
_refine_ls_weighting_scheme      calc
_refine_ls_wR_factor_gt          0.1157
_refine_ls_wR_factor_ref         0.1285
_reflns_number_gt                1724
_reflns_number_total             2446
_reflns_threshold_expression     I>2σ(I)
_cod_data_source_file            bm5033.cif
_cod_data_source_block           I
_cod_depositor_comments
;
The following automatic conversions were performed:
'_exptl_absorpt_correction_type' value 'Multi-scan' changed to
'multi-scan' according to
'/home/saulius/struct/CIF-dictionaries/cif_core.dic' dictionary named
'cif_core.dic' version 2.4.1 from 2010-06-29.

Automatic conversion script
Id: cif_fix_enum 1527 2010-12-29 10:47:43Z saulius 

The following automatic conversions were performed:

'_exptl_absorpt_correction_type' value 'Multi-scan' changed to
'multi-scan' according to
/home/saulius/struct/CIF-dictionaries/cif_core.dic dictionary named
'cif_core.dic' version 2.4.1 from 2010-06-29.

Automatic conversion script
Id: cif_fix_values 1715 2011-07-08 13:25:40Z adriana 
;
_cod_database_code               2100532
loop_
_symmetry_equiv_pos_as_xyz
'x, y, z'
'-x+1/2, -y+1/2, z'
'x+1/2, -y, -z+1/2'
'-x, y+1/2, -z+1/2'
'-x, -y, -z'
'x+1/2, y+1/2, -z'
'-x+1/2, y, z+1/2'
'x, -y+1/2, z+1/2'
loop_
_atom_site_type_symbol
_atom_site_label
_atom_site_fract_x
_atom_site_fract_y
_atom_site_fract_z
_atom_site_U_iso_or_equiv
_atom_site_adp_type
_atom_site_calc_flag
_atom_site_refinement_flags
_atom_site_occupancy
N N11 0.25408(16) 0.57579(10) 0.9067(3) 0.0262(5) Uani d . 1
C C12 0.32767(18) 0.60070(12) 0.8111(4) 0.0238(6) Uani d . 1
Cl Cl1 0.31180(5) 0.68016(3) 0.75558(10) 0.0305(2) Uani d . 1
C C13 0.41523(18) 0.56871(12) 0.7615(3) 0.0220(5) Uani d . 1
C C14 0.42677(19) 0.50752(12) 0.8256(3) 0.0248(6) Uani d . 1
C C15 0.3523(2) 0.48067(13) 0.9271(3) 0.0282(6) Uani d . 1
C C16 0.2668(2) 0.51593(13) 0.9605(4) 0.0288(6) Uani d . 1
C C17 0.49778(19) 0.59498(12) 0.6469(4) 0.0246(6) Uani d . 1
O O1 0.58540(13) 0.59291(10) 0.6968(3) 0.0390(5) Uani d . 1
N N21 0.46640(16) 0.61551(10) 0.4897(3) 0.0249(5) Uani d . 1
C C21 0.52498(19) 0.64341(12) 0.3554(3) 0.0235(6) Uani d . 1
C C22 0.4731(2) 0.66828(13) 0.2137(4) 0.0296(7) Uani d . 1
C C23 0.5248(2) 0.69702(13) 0.0789(4) 0.0331(7) Uani d . 1
C C24 0.6292(2) 0.70101(13) 0.0842(4) 0.0295(6) Uani d . 1
C C25 0.6809(2) 0.67565(13) 0.2231(4) 0.0293(6) Uani d . 1
C C26 0.63023(19) 0.64704(12) 0.3598(4) 0.0252(6) Uani d . 1
H H14 0.4862 0.4841 0.7995 0.030 Uiso calc R 1
H H15 0.3597 0.4390 0.9727 0.034 Uiso calc R 1
H H16 0.2139 0.4967 1.0252 0.035 Uiso calc R 1
H H21 0.4012 0.6125 0.4688 0.030 Uiso d R 1
H H22 0.4015 0.6655 0.2096 0.035 Uiso calc R 1
H H23 0.4887 0.7140 -0.0173 0.040 Uiso calc R 1
H H24 0.6650 0.7212 -0.0076 0.035 Uiso calc R 1
H H25 0.7526 0.6778 0.2253 0.035 Uiso calc R 1
H H26 0.6667 0.6301 0.4555 0.030 Uiso calc R 1
loop_
_atom_site_aniso_label
_atom_site_aniso_U_11
_atom_site_aniso_U_22
_atom_site_aniso_U_33
_atom_site_aniso_U_12
_atom_site_aniso_U_13
_atom_site_aniso_U_23
N11 0.0225(11) 0.0302(12) 0.0261(13) 0.0000(10) 0.0039(10) -0.0002(10)
C12 0.0234(13) 0.0253(13) 0.0227(14) 0.0002(10) -0.0028(11) 0.0013(11)
Cl1 0.0259(3) 0.0258(3) 0.0400(4) 0.0033(3) 0.0028(3) 0.0040(3)
C13 0.0183(12) 0.0277(13) 0.0202(14) 0.0002(10) -0.0021(11) 0.0010(11)
C14 0.0241(13) 0.0294(14) 0.0210(14) 0.0029(12) -0.0052(12) -0.0030(11)
C15 0.0333(15) 0.0256(14) 0.0257(15) -0.0025(12) -0.0002(13) 0.0023(11)
C16 0.0299(15) 0.0317(14) 0.0247(15) -0.0057(12) 0.0040(12) 0.0001(12)
C17 0.0205(12) 0.0282(14) 0.0250(15) 0.0045(11) 0.0003(11) 0.0008(11)
O1 0.0193(10) 0.0645(14) 0.0333(12) 0.0000(10) -0.0020(9) 0.0148(10)
N21 0.0162(10) 0.0334(13) 0.0250(13) -0.0001(9) -0.0004(10) 0.0055(10)
C21 0.0225(13) 0.0269(14) 0.0213(15) -0.0016(11) 0.0008(12) -0.0021(11)
C22 0.0198(13) 0.0369(16) 0.0319(17) -0.0011(11) -0.0009(12) 0.0045(12)
C23 0.0312(16) 0.0367(16) 0.0315(17) -0.0011(13) -0.0018(13) 0.0092(13)
C24 0.0300(15) 0.0328(15) 0.0257(15) -0.0044(12) 0.0061(13) 0.0018(12)
C25 0.0237(14) 0.0344(15) 0.0297(16) -0.0042(12) 0.0036(12) -0.0046(12)
C26 0.0224(13) 0.0280(14) 0.0251(15) -0.0006(11) 0.0002(12) -0.0027(11)
loop_
_atom_type_symbol
_atom_type_description
_atom_type_scat_dispersion_real
_atom_type_scat_dispersion_imag
_atom_type_scat_source
C C 0.0033 0.0016 'International Tables Vol C Tables 4.2.6.8 and 6.1.1.4'
H H 0.0000 0.0000 'International Tables Vol C Tables 4.2.6.8 and 6.1.1.4'
Cl Cl 0.1484 0.1585 'International Tables Vol C Tables 4.2.6.8 and 6.1.1.4'
N N 0.0061 0.0033 'International Tables Vol C Tables 4.2.6.8 and 6.1.1.4'
O O 0.0106 0.0060 'International Tables Vol C Tables 4.2.6.8 and 6.1.1.4'
loop_
_geom_angle_atom_site_label_1
_geom_angle_atom_site_label_2
_geom_angle_atom_site_label_3
_geom_angle
_geom_angle_publ_flag
C12 N11 C16 116.9(2) no
N11 C12 C13 124.7(2) no
N11 C12 Cl1 115.32(19) no
C13 C12 Cl1 119.9(2) no
C14 C13 C12 116.3(2) no
C14 C13 C17 117.9(2) no
C12 C13 C17 125.8(2) no
C15 C14 C13 120.2(2) no
C15 C14 H14 119.9 no
C13 C14 H14 119.9 no
C16 C15 C14 118.1(2) no
C16 C15 H15 120.9 no
C14 C15 H15 120.9 no
N11 C16 C15 123.6(3) no
N11 C16 H16 118.2 no
C15 C16 H16 118.2 no
O1 C17 N21 125.8(2) no
O1 C17 C13 119.4(2) no
N21 C17 C13 114.7(2) no
C17 N21 C21 128.1(2) no
C17 N21 H21 116.3 no
C21 N21 H21 115.6 no
C22 C21 C26 119.4(2) no
C22 C21 N21 117.2(2) no
C26 C21 N21 123.4(2) no
C23 C22 C21 120.6(2) no
C23 C22 H22 119.7 no
C21 C22 H22 119.7 no
C22 C23 C24 119.8(3) no
C22 C23 H23 120.1 no
C24 C23 H23 120.1 no
C25 C24 C23 119.7(3) no
C25 C24 H24 120.2 no
C23 C24 H24 120.2 no
C24 C25 C26 121.2(2) no
C24 C25 H25 119.4 no
C26 C25 H25 119.4 no
C25 C26 C21 119.3(3) no
C25 C26 H26 120.4 no
C21 C26 H26 120.4 no
loop_
_geom_bond_atom_site_label_1
_geom_bond_atom_site_label_2
_geom_bond_distance
_geom_bond_publ_flag
N11 C12 1.328(3) no
N11 C16 1.338(3) no
C12 C13 1.394(3) no
C12 Cl1 1.741(3) no
C13 C14 1.389(3) no
C13 C17 1.509(4) no
C14 C15 1.378(4) no
C14 H14 0.95 no
C15 C16 1.378(4) no
C15 H15 0.95 no
C16 H16 0.95 no
C17 O1 1.222(3) no
C17 N21 1.349(3) no
N21 C21 1.419(3) no
N21 H21 0.8796 no
C21 C22 1.390(4) no
C21 C26 1.395(3) no
C22 C23 1.382(4) no
C22 H22 0.95 no
C23 C24 1.385(4) no
C23 H23 0.95 no
C24 C25 1.376(4) no
C24 H24 0.95 no
C25 C26 1.385(4) no
C25 H25 0.95 no
C26 H26 0.95 no
loop_
_geom_hbond_atom_site_label_D
_geom_hbond_atom_site_label_H
_geom_hbond_atom_site_label_A
_geom_hbond_site_symmetry_A
_geom_hbond_distance_DH
_geom_hbond_distance_HA
_geom_hbond_distance_DA
_geom_hbond_angle_DHA
_geom_hbond_publ_flag
N21 H21 N11 7_554 0.88 2.25 3.101(3) 164 no
C15 H15 Cg1 5_666 0.95 2.89 3.535(3) 126 no
C16 H16 Cg2 7_555 0.95 2.87 3.464(3) 121 no
loop_
_geom_torsion_atom_site_label_1
_geom_torsion_atom_site_label_2
_geom_torsion_atom_site_label_3
_geom_torsion_atom_site_label_4
_geom_torsion
_geom_torsion_publ_flag
C16 N11 C12 C13 1.1(4) no
C16 N11 C12 Cl1 -176.12(19) no
N11 C12 C13 C14 -3.4(4) no
Cl1 C12 C13 C14 173.71(19) no
N11 C12 C13 C17 177.3(2) no
Cl1 C12 C13 C17 -5.7(4) no
C12 C13 C14 C15 2.3(4) no
C17 C13 C14 C15 -178.3(2) no
C13 C14 C15 C16 0.7(4) no
C12 N11 C16 C15 2.4(4) no
C14 C15 C16 N11 -3.2(4) no
C14 C13 C17 O1 -51.6(4) no
C12 C13 C17 O1 127.8(3) no
C14 C13 C17 N21 124.4(3) no
C12 C13 C17 N21 -56.2(4) no
O1 C17 N21 C21 -5.5(4) no
C13 C17 N21 C21 178.8(2) no
C17 N21 C21 C22 -171.8(2) no
C17 N21 C21 C26 8.0(4) no
C26 C21 C22 C23 -0.7(4) no
N21 C21 C22 C23 179.1(2) no
C21 C22 C23 C24 0.2(4) no
C22 C23 C24 C25 0.7(4) no
C23 C24 C25 C26 -1.1(4) no
C24 C25 C26 C21 0.6(4) no
C22 C21 C26 C25 0.3(4) no
N21 C21 C26 C25 -179.5(2) no
loop_
_cod_related_entry_id
_cod_related_entry_database
_cod_related_entry_code
1 ChemSpider 149920
