#------------------------------------------------------------------------------
#$Date: 2017-10-13 07:28:26 +0200 (vie 13 de oct de 2017) $
#$Revision: 201972 $
#$URL: svn://www.crystallography.net/cod/cif/2/10/21/2102136.cif $
#------------------------------------------------------------------------------
#
# This file is available in the Crystallography Open Database (COD),
# http://www.crystallography.net/. The original data for this entry
# were provided by IUCr Journals, http://journals.iucr.org/.
#
# The file may be used within the scientific community so long as
# proper attribution is given to the journal article from which the
# data were obtained.
#
data_2102136
loop_
_publ_author_name
'Katrusiak, A.'
_publ_section_title
;
 Conformational transformation coupled with the order--disorder phase
 transition in 2-methyl-1,3-cyclohexanedione crystals
;
_journal_issue                   5
_journal_name_full               'Acta Crystallographica Section B'
_journal_page_first              872
_journal_page_last               881
_journal_paper_doi               10.1107/S0108768100005905
_journal_volume                  56
_journal_year                    2000
_chemical_formula_sum            'C7 H10 O2'
_chemical_formula_weight         126.15
_chemical_name_common            2-methyl1,3-cyclohexanedione
_chemical_name_systematic
;
 ?
;
_space_group_IT_number           56
_symmetry_cell_setting           orthorhombic
_symmetry_space_group_name_Hall  '-P 2ab 2ac'
_symmetry_space_group_name_H-M   'P c c n'
_audit_creation_method           SHELXL
_cell_angle_alpha                90.00
_cell_angle_beta                 90.00
_cell_angle_gamma                90.00
_cell_formula_units_Z            8
_cell_length_a                   13.426(4)
_cell_length_b                   13.690(4)
_cell_length_c                   6.987(2)
_cell_measurement_temperature    170.00(10)
_cell_volume                     1284.2(6)
_computing_structure_refinement  'SHELXL-93 (Sheldrick, 1993)'
_computing_structure_solution    'SHELXS-86 (Sheldrick, 1990)'
_diffrn_ambient_temperature      293(2)
_diffrn_measurement_device       KUMA-4
_diffrn_radiation_monochromator  graphite
_diffrn_radiation_source         'fine-focus sealed tube'
_diffrn_radiation_type           MoK\a
_diffrn_radiation_wavelength     .71069
_diffrn_reflns_av_R_equivalents  .0000
_diffrn_reflns_av_sigmaI/netI    .0112
_diffrn_reflns_limit_h_max       17
_diffrn_reflns_limit_h_min       0
_diffrn_reflns_limit_k_max       18
_diffrn_reflns_limit_k_min       0
_diffrn_reflns_limit_l_max       9
_diffrn_reflns_limit_l_min       0
_diffrn_reflns_number            846
_diffrn_reflns_theta_max         28.07
_diffrn_reflns_theta_min         2.12
_exptl_absorpt_coefficient_mu    .095
_exptl_crystal_colour            colourless
_exptl_crystal_density_diffrn    1.305
_exptl_crystal_description       plate
_exptl_crystal_F_000             544
_exptl_crystal_size_max          .3
_exptl_crystal_size_mid          .3
_exptl_crystal_size_min          .2
_refine_diff_density_max         .380
_refine_diff_density_min         -.136
_refine_ls_extinction_method     none
_refine_ls_goodness_of_fit_all   1.040
_refine_ls_goodness_of_fit_obs   1.087
_refine_ls_matrix_type           full
_refine_ls_number_parameters     91
_refine_ls_number_reflns         846
_refine_ls_number_restraints     0
_refine_ls_restrained_S_all      1.040
_refine_ls_restrained_S_obs      1.087
_refine_ls_R_factor_all          .0471
_refine_ls_R_factor_obs          .0400
_refine_ls_shift/esd_max         .014
_refine_ls_shift/esd_mean        .001
_refine_ls_structure_factor_coef Fsqd
_refine_ls_weighting_details
'w=1/[σ²(Fo²)+(0.0807P)²+0.3895P] where P=(Fo²+2Fc²)/3'
_refine_ls_weighting_scheme      calc
_refine_ls_wR_factor_all         .1181
_refine_ls_wR_factor_obs         .1148
_reflns_number_observed          742
_reflns_number_total             846
_reflns_observed_criterion       >2sigma(I)
_cod_data_source_file            hr0044.cif
_cod_data_source_block           170
_cod_depositor_comments
;
The following automatic conversions were performed:

'_refine_ls_weighting_scheme' value 'calc
w=1/[\s^2^(Fo^2^)+(0.0807P)^2^+0.3895P] where P=(Fo^2^+2Fc^2^)/3' was
changed to 'calc'. New tag '_refine_ls_weighting_details' was
created. The value of the new tag was set to
'w=1/[\s^2^(Fo^2^)+(0.0807P)^2^+0.3895P] where P=(Fo^2^+2Fc^2^)/3'.

Automatic conversion script
Id: cif_fix_values 3143 2015-03-26 13:38:13Z robertas 
;
_cod_original_sg_symbol_H-M      'P ccn'
_cod_database_code               2102136
_cod_database_fobs_code          2102136
loop_
_symmetry_equiv_pos_as_xyz
'x, y, z'
'-x+1/2, -y+1/2, z'
'-x, y+1/2, -z+1/2'
'x+1/2, -y, -z+1/2'
'-x, -y, -z'
'x-1/2, y-1/2, -z'
'x, -y-1/2, z-1/2'
'-x-1/2, y, z-1/2'
loop_
_atom_site_aniso_label
_atom_site_aniso_U_11
_atom_site_aniso_U_22
_atom_site_aniso_U_33
_atom_site_aniso_U_12
_atom_site_aniso_U_13
_atom_site_aniso_U_23
O1 .0201(5) .0117(5) .052(14) .0022(3) .000(2) -.001(2)
O2 .0315(7) .0109(5) .049(4) .0000(4) -.0042(8) -.0007(7)
C1 .0183(6) .0134(6) .0134(6) .0021(4) -.0013(13) -.0036(12)
C2 .0169(6) .0140(6) .012(6) .0004(5) -.0007(10) -.0005(9)
C7 .0174(7) .0213(8) .046(5) -.0038(5) .0000(11) -.0007(11)
C3 .0222(7) .0128(7) .024(3) .0013(5) -.0029(7) -.0001(7)
C4 .0209(9) .0183(8) .0341(9) .0054(6) .0026(7) -.0015(7)
C5 .0164(7) .0212(8) .038(3) .0021(5) -.0012(7) .0001(7)
C6 .0175(6) .0156(6) .029(3) -.0018(5) -.0012(15) .000(2)
loop_
_atom_site_label
_atom_site_fract_x
_atom_site_fract_y
_atom_site_fract_z
_atom_site_U_iso_or_equiv
_atom_site_thermal_displace_type
_atom_site_calc_flag
_atom_site_refinement_flags
_atom_site_occupancy
_atom_site_type_symbol
O1 .56773(9) .45101(8) .238(11) .028(5) Uani d . 1 O
H1 .528(2) .3913(18) .212(6) .049(9) Uiso d . 1 H
O2 .52638(10) .78717(9) .2790(8) .0303(12) Uani d . 1 O
C1 .50905(12) .52962(11) .2370(6) .0150(4) Uani d . 1 C
C2 .55142(12) .61959(11) .233(3) .014(2) Uani d . 1 C
C7 .66109(14) .63493(13) .2239(12) .0282(15) Uani d . 1 C
H7A .6857(2) .6505(14) .3492(13) .055(6) Uiso calc R 1 H
H7B .6756(2) .6878(10) .138(3) .055(6) Uiso calc R 1 H
H7C .6927(2) .5764(5) .179(3) .055(6) Uiso calc R 1 H
C3 .48967(13) .70385(11) .2793(6) .0195(10) Uani d . 1 C
C4 .38005(13) .68972(14) .3192(3) .0245(4) Uani d . 1 C
H4A .34392(13) .74761(14) .2793(3) .036(4) Uiso calc R 1 H
H4B .37017(13) .68158(14) .4558(3) .036(4) Uiso calc R 1 H
C5 .33843(13) .60127(13) .2150(4) .0254(8) Uani d . 1 C
H5A .26956(13) .59127(13) .2520(4) .039(4) Uiso calc R 1 H
H5B .34029(13) .61268(13) .0780(4) .039(4) Uiso calc R 1 H
C6 .39884(12) .51075(12) .263(3) .0205(12) Uani d . 1 C
H6A .38597(12) .49167(12) .394(3) .032(5) Uiso calc R 1 H
H6B .37849(12) .45738(12) .180(3) .032(5) Uiso calc R 1 H
loop_
_atom_type_symbol
_atom_type_description
_atom_type_scat_dispersion_real
_atom_type_scat_dispersion_imag
_atom_type_scat_source
C C .0033 .0016 'International Tables Vol C Tables 4.2.6.8 and 6.1.1.4'
H H .0000 .0000 'International Tables Vol C Tables 4.2.6.8 and 6.1.1.4'
O O .0106 .0060 'International Tables Vol C Tables 4.2.6.8 and 6.1.1.4'
loop_
_geom_angle_atom_site_label_1
_geom_angle_atom_site_label_2
_geom_angle_atom_site_label_3
_geom_angle
C1 O1 H1 110.4(18)
O1 C1 C2 119.0(2)
O1 C1 C6 116.1(4)
C2 C1 C6 124.6(2)
C1 C2 C3 118.4(4)
C1 C2 C7 122.92(15)
C3 C2 C7 117.4(3)
C2 C7 H7A 109.5(8)
C2 C7 H7B 109.5(6)
H7A C7 H7B 109.5
C2 C7 H7C 109.5(3)
H7A C7 H7C 109.5
H7B C7 H7C 109.5
O2 C3 C2 120.0(2)
O2 C3 C4 120.3(2)
C2 C3 C4 119.6(2)
C3 C4 C5 111.8(2)
C3 C4 H4A 109.25(10)
C5 C4 H4A 109.25(10)
C3 C4 H4B 109.2(2)
C5 C4 H4B 109.25(12)
H4A C4 H4B 107.9
C6 C5 C4 110.4(4)
C6 C5 H5A 109.6(2)
C4 C5 H5A 109.58(10)
C6 C5 H5B 109.6(6)
C4 C5 H5B 109.58(12)
H5A C5 H5B 108.1
C1 C6 C5 110.9(4)
C1 C6 H6A 109.5(6)
C5 C6 H6A 109.5(6)
C1 C6 H6B 109.5(5)
C5 C6 H6B 109.5(5)
H6A C6 H6B 108.0
loop_
_geom_bond_atom_site_label_1
_geom_bond_atom_site_label_2
_geom_bond_distance
O1 C1 1.334(2)
O1 H1 .99(3)
O2 C3 1.243(2)
C1 C2 1.357(2)
C1 C6 1.513(3)
C2 C3 1.457(5)
C2 C7 1.489(2)
C7 H7A .96
C7 H7B .96
C7 H7C .96
C3 C4 1.510(3)
C4 C5 1.519(3)
C4 H4A .97
C4 H4B .97
C5 C6 1.518(4)
C5 H5A .97
C5 H5B .97
C6 H6A .97
C6 H6B .97
loop_
_geom_torsion_atom_site_label_1
_geom_torsion_atom_site_label_2
_geom_torsion_atom_site_label_3
_geom_torsion_atom_site_label_4
_geom_torsion
O1 C1 C2 C3 -165(4)
C6 C1 C2 C3 8(2)
O1 C1 C2 C7 2(4)
C6 C1 C2 C7 174.6(13)
C1 C2 C3 O2 179.1(11)
C7 C2 C3 O2 11.7(18)
C1 C2 C3 C4 -3.5(19)
C7 C2 C3 C4 -170.9(9)
O2 C3 C4 C5 149.3(4)
C2 C3 C4 C5 -28.1(10)
C3 C4 C5 C6 54.5(6)
O1 C1 C6 C5 -167(4)
C2 C1 C6 C5 19.7(17)
C4 C5 C6 C1 -50.0(11)
loop_
_cod_related_entry_id
_cod_related_entry_database
_cod_related_entry_code
1 ChemSpider 5414347
