#------------------------------------------------------------------------------
#$Date: 2017-10-13 07:28:26 +0200 (vie 13 de oct de 2017) $
#$Revision: 201972 $
#$URL: svn://www.crystallography.net/cod/cif/2/10/28/2102857.cif $
#------------------------------------------------------------------------------
#
# This file is available in the Crystallography Open Database (COD),
# http://www.crystallography.net/. The original data for this entry
# were provided by IUCr Journals, http://journals.iucr.org/.
#
# The file may be used within the scientific community so long as
# proper attribution is given to the journal article from which the
# data were obtained.
#
data_2102857
loop_
_publ_author_name
'Lloyd, Michael A.'
'Patterson, Garth E.'
'Simpson, Greg H.'
'Duncan, Laura L.'
'King, Daniel P.'
'Fu, Yigang'
'Patrick, Brian O.'
'Parkin, Sean'
'Brock, Carolyn Pratt'
_publ_section_title
;
 Solid-state compounds of stereoisomers: cis and trans
 isomers of 1,2-cyclohexanediol and 2,3-tetralindiol
;
_journal_coeditor_code           WS5054
_journal_issue                   3
_journal_name_full               'Acta Crystallographica Section B'
_journal_page_first              433
_journal_page_last               447
_journal_paper_doi               10.1107/S0108768107010579
_journal_volume                  63
_journal_year                    2007
_chemical_formula_moiety         'C6 H12 O2'
_chemical_formula_sum            'C6 H12 O2'
_chemical_formula_weight         116.16
_chemical_melting_point          .376E-305
_chemical_name_systematic
;
rac-trans-1,2-cyclohexanediol
;
_space_group_IT_number           61
_symmetry_cell_setting           orthorhombic
_symmetry_space_group_name_Hall  '-P 2ac 2ab'
_symmetry_space_group_name_H-M   'P b c a'
_atom_sites_solution_hydrogens   geom
_atom_sites_solution_primary     direct
_atom_sites_solution_secondary   difmap
_cell_angle_alpha                90.00
_cell_angle_beta                 90.00
_cell_angle_gamma                90.00
_cell_formula_units_Z            8
_cell_length_a                   8.4150(10)
_cell_length_b                   7.7990(10)
_cell_length_c                   19.295(2)
_cell_measurement_temperature    173(2)
_cell_volume                     1266.3(3)
_computing_cell_refinement       'SCALEPACK (Otwinowski & Minor, 1997)'
_computing_data_collection       'COLLECT (Nonius, 1999)'
_computing_data_reduction        'DENZO-SMN (Otwinowski & Minor, 1997)'
_computing_molecular_graphics
;
Mercury (Macrae et al., 2006)
;
_computing_publication_material
;
SHELXL-97 (Sheldrick, 1997) and local procedures
;
_computing_structure_refinement  'SHELXL-97 (Sheldrick, 1997b)'
_computing_structure_solution    'SHELXS-97 (Sheldrick, 1997a)'
_diffrn_ambient_temperature      173(2)
_diffrn_detector_area_resol_mean 18
_diffrn_measured_fraction_theta_full 0.998
_diffrn_measured_fraction_theta_max 0.998
_diffrn_measurement_device_type  'Nonius KappaCCD diffractometer'
_diffrn_measurement_method       'φ and ω scans with 2.0° steps'
_diffrn_radiation_monochromator  graphite
_diffrn_radiation_source         'fine-focus sealed tube'
_diffrn_radiation_type           MoK\a
_diffrn_radiation_wavelength     0.71073
_diffrn_reflns_av_R_equivalents  0.0142
_diffrn_reflns_av_sigmaI/netI    0.0266
_diffrn_reflns_limit_h_max       9
_diffrn_reflns_limit_h_min       -9
_diffrn_reflns_limit_k_max       9
_diffrn_reflns_limit_k_min       -9
_diffrn_reflns_limit_l_max       22
_diffrn_reflns_limit_l_min       -22
_diffrn_reflns_number            2001
_diffrn_reflns_theta_full        24.94
_diffrn_reflns_theta_max         24.94
_diffrn_reflns_theta_min         3.21
_diffrn_standards_decay_%        <2.
_diffrn_standards_number         0
_exptl_absorpt_coefficient_mu    0.089
_exptl_absorpt_correction_T_max  0.99
_exptl_absorpt_correction_T_min  0.97
_exptl_absorpt_correction_type   multi-scan
_exptl_absorpt_process_details   'DENZO-SMN (Otwinowski & Minor, 1997)'
_exptl_crystal_colour            colorless
_exptl_crystal_density_diffrn    1.219
_exptl_crystal_density_method    'not measured'
_exptl_crystal_description
;
Plate.  Largest face is {001}.
;
_exptl_crystal_F_000             512
_exptl_crystal_size_max          0.30
_exptl_crystal_size_mid          0.25
_exptl_crystal_size_min          0.08
_refine_diff_density_max         0.124
_refine_diff_density_min         -0.202
_refine_ls_extinction_method     none
_refine_ls_goodness_of_fit_ref   1.077
_refine_ls_hydrogen_treatment    constr
_refine_ls_matrix_type           full
_refine_ls_number_parameters     75
_refine_ls_number_reflns         1099
_refine_ls_number_restraints     0
_refine_ls_restrained_S_all      1.077
_refine_ls_R_factor_all          0.0384
_refine_ls_R_factor_gt           0.0341
_refine_ls_shift/su_max          0.000
_refine_ls_shift/su_mean         0.000
_refine_ls_structure_factor_coef Fsqd
_refine_ls_weighting_details
'calc w=1/[σ²(Fo²)+(0.038P)²+0.34P] where P=(Fo²+2Fc²)/3'
_refine_ls_weighting_scheme      calc
_refine_ls_wR_factor_gt          0.0830
_refine_ls_wR_factor_ref         0.0859
_reflns_number_gt                976
_reflns_number_total             1099
_reflns_threshold_expression     >2sigma(I)
_cod_data_source_file            ws5054.cif
_cod_data_source_block           trans-1,2-CHD_1
_cod_database_code               2102857
loop_
_symmetry_equiv_pos_as_xyz
'x, y, z'
'-x+1/2, -y, z+1/2'
'x+1/2, -y+1/2, -z'
'-x, y+1/2, -z+1/2'
'-x, -y, -z'
'x-1/2, y, -z-1/2'
'-x-1/2, y-1/2, z'
'x, -y-1/2, z-1/2'
loop_
_atom_site_type_symbol
_atom_site_label
_atom_site_fract_x
_atom_site_fract_y
_atom_site_fract_z
_atom_site_U_iso_or_equiv
_atom_site_adp_type
_atom_site_calc_flag
_atom_site_refinement_flags
_atom_site_occupancy
O O1 0.31931(9) 0.41673(10) 0.43574(4) 0.0242(2) Uani d . 1
H H01 0.3588 0.4952 0.4601 0.036 Uiso calc R 1
O O2 0.59910(11) 0.28810(10) 0.49844(4) 0.0303(3) Uani d . 1
H H02 0.6655 0.2231 0.5176 0.045 Uiso calc R 1
C C1 0.44268(13) 0.33382(14) 0.39711(6) 0.0214(3) Uani d . 1
H H1A 0.5212 0.4218 0.3813 0.026 Uiso calc R 1
C C2 0.52748(14) 0.20101(14) 0.44099(6) 0.0215(3) Uani d . 1
H H2A 0.4473 0.1176 0.4591 0.026 Uiso calc R 1
C C3 0.65007(14) 0.10399(16) 0.39847(6) 0.0280(3) Uani d . 1
H H3E 0.7009 0.0153 0.4277 0.034 Uiso calc R 1
H H3A 0.7337 0.1843 0.3827 0.034 Uiso calc R 1
C C4 0.57303(17) 0.01905(17) 0.33560(6) 0.0329(3) Uani d . 1
H H4E 0.6557 -0.0389 0.3076 0.039 Uiso calc R 1
H H4A 0.4963 -0.0689 0.3514 0.039 Uiso calc R 1
C C5 0.48747(16) 0.15112(18) 0.29108(6) 0.0343(3) Uani d . 1
H H5E 0.4326 0.0925 0.2524 0.041 Uiso calc R 1
H H5A 0.5660 0.2317 0.2711 0.041 Uiso calc R 1
C C6 0.36633(15) 0.25074(16) 0.33411(6) 0.0262(3) Uani d . 1
H H6E 0.3171 0.3406 0.3049 0.031 Uiso calc R 1
H H6A 0.2812 0.1719 0.3495 0.031 Uiso calc R 1
loop_
_atom_site_aniso_label
_atom_site_aniso_U_11
_atom_site_aniso_U_22
_atom_site_aniso_U_33
_atom_site_aniso_U_12
_atom_site_aniso_U_13
_atom_site_aniso_U_23
O1 0.0227(4) 0.0217(5) 0.0283(5) 0.0021(3) 0.0006(3) -0.0045(3)
O2 0.0361(6) 0.0254(5) 0.0295(5) 0.0070(4) -0.0132(4) -0.0092(4)
C1 0.0208(6) 0.0205(6) 0.0228(6) 0.0000(5) 0.0030(5) 0.0004(5)
C2 0.0237(6) 0.0207(6) 0.0201(6) 0.0000(5) -0.0030(5) -0.0030(5)
C3 0.0268(7) 0.0272(7) 0.0301(7) 0.0058(5) -0.0011(5) -0.0047(5)
C4 0.0380(8) 0.0334(7) 0.0272(7) 0.0074(6) 0.0013(6) -0.0101(6)
C5 0.0414(8) 0.0407(8) 0.0210(6) 0.0036(6) 0.0012(6) -0.0039(6)
C6 0.0291(7) 0.0291(6) 0.0204(6) 0.0016(6) -0.0023(5) 0.0017(5)
loop_
_atom_type_symbol
_atom_type_description
_atom_type_scat_dispersion_real
_atom_type_scat_dispersion_imag
_atom_type_scat_source
C C 0.0033 0.0016 'International Tables Vol C Tables 4.2.6.8 and 6.1.1.4'
H H 0.0000 0.0000 'International Tables Vol C Tables 4.2.6.8 and 6.1.1.4'
O O 0.0106 0.0060 'International Tables Vol C Tables 4.2.6.8 and 6.1.1.4'
loop_
_geom_angle_atom_site_label_1
_geom_angle_atom_site_label_2
_geom_angle_atom_site_label_3
_geom_angle
_geom_angle_publ_flag
C1 O1 H01 109.5 no
C2 O2 H02 109.5 no
O1 C1 C2 111.03(9) no
O1 C1 C6 107.60(9) no
C2 C1 C6 110.75(9) no
O1 C1 H1A 109.1 no
C2 C1 H1A 109.1 no
C6 C1 H1A 109.1 no
O2 C2 C1 107.83(8) no
O2 C2 C3 111.60(9) no
C1 C2 C3 110.98(9) no
O2 C2 H2A 108.8 no
C1 C2 H2A 108.8 no
C3 C2 H2A 108.8 no
C2 C3 C4 110.90(10) no
C2 C3 H3E 109.5 no
C4 C3 H3E 109.5 no
C2 C3 H3A 109.5 no
C4 C3 H3A 109.5 no
H3E C3 H3A 108.0 no
C5 C4 C3 110.83(10) no
C5 C4 H4E 109.5 no
C3 C4 H4E 109.5 no
C5 C4 H4A 109.5 no
C3 C4 H4A 109.5 no
H4E C4 H4A 108.1 no
C4 C5 C6 110.69(10) no
C4 C5 H5E 109.5 no
C6 C5 H5E 109.5 no
C4 C5 H5A 109.5 no
C6 C5 H5A 109.5 no
H5E C5 H5A 108.1 no
C1 C6 C5 111.69(10) no
C1 C6 H6E 109.3 no
C5 C6 H6E 109.3 no
C1 C6 H6A 109.3 no
C5 C6 H6A 109.3 no
H6E C6 H6A 107.9 no
loop_
_geom_bond_atom_site_label_1
_geom_bond_atom_site_label_2
_geom_bond_distance
_geom_bond_publ_flag
O1 C1 1.4323(13) no
O1 H01 0.8400 no
O2 C2 1.4330(13) no
O2 H02 0.8400 no
C1 C2 1.5163(16) no
C1 C6 1.5200(16) no
C1 H1A 1.0000 no
C2 C3 1.5199(16) no
C2 H2A 1.0000 no
C3 C4 1.5266(17) no
C3 H3E 0.9900 no
C3 H3A 0.9900 no
C4 C5 1.5222(18) no
C4 H4E 0.9900 no
C4 H4A 0.9900 no
C5 C6 1.5270(17) no
C5 H5E 0.9900 no
C5 H5A 0.9900 no
C6 H6E 0.9900 no
C6 H6A 0.9900 no
loop_
_geom_hbond_atom_site_label_D
_geom_hbond_atom_site_label_H
_geom_hbond_atom_site_label_A
_geom_hbond_site_symmetry_A
_geom_hbond_distance_DH
_geom_hbond_distance_HA
_geom_hbond_distance_DA
_geom_hbond_angle_DHA
O1 H01 O2 5_666 0.84 1.90 2.7173(11) 162.9
O2 H02 O1 3_556 0.84 1.92 2.7565(11) 177.3
loop_
_cod_related_entry_id
_cod_related_entry_database
_cod_related_entry_code
1 ChemSpider 13012
