#------------------------------------------------------------------------------
#$Date: 2017-10-13 07:28:26 +0200 (vie 13 de oct de 2017) $
#$Revision: 201972 $
#$URL: svn://www.crystallography.net/cod/cif/2/10/29/2102977.cif $
#------------------------------------------------------------------------------
#
# This file is available in the Crystallography Open Database (COD),
# http://www.crystallography.net/. The original data for this entry
# were provided by IUCr Journals, http://journals.iucr.org/.
#
# The file may be used within the scientific community so long as
# proper attribution is given to the journal article from which the
# data were obtained.
#
data_2102977
loop_
_publ_author_name
'Wardell, Solange M. S. V.'
'de Souza, Marcus V. N.'
'Wardell, James L.'
'Low, John N.'
'Glidewell, Christopher'
_publ_section_title
;
 Supramolecular structures in N-isonicotinoyl
 arylaldehydehydrazones: multiple hydrogen-bonding modes in series of
 geometric isomers
;
_journal_coeditor_code           BM5048
_journal_issue                   6
_journal_name_full               'Acta Crystallographica Section B'
_journal_page_first              879
_journal_page_last               895
_journal_paper_doi               10.1107/S0108768107036270
_journal_volume                  63
_journal_year                    2007
_chemical_formula_moiety         'C13 H10 Cl N3 O'
_chemical_formula_sum            'C13 H10 Cl N3 O'
_chemical_formula_weight         259.69
_chemical_name_systematic
;
N-isonicotinoyl 2-chlorobenzaldehydehydrazone
;
_space_group_IT_number           14
_symmetry_cell_setting           monoclinic
_symmetry_space_group_name_Hall  '-P 2ybc'
_symmetry_space_group_name_H-M   'P 1 21/c 1'
_atom_sites_solution_hydrogens   geom
_atom_sites_solution_primary     direct
_atom_sites_solution_secondary   difmap
_cell_angle_alpha                90.00
_cell_angle_beta                 98.609(3)
_cell_angle_gamma                90.00
_cell_formula_units_Z            4
_cell_length_a                   7.9977(2)
_cell_length_b                   6.7184(2)
_cell_length_c                   22.5514(6)
_cell_measurement_reflns_used    2757
_cell_measurement_temperature    120(2)
_cell_measurement_theta_max      27.50
_cell_measurement_theta_min      3.54
_cell_volume                     1198.07(6)
_computing_cell_refinement       'DENZO (Otwinowski & Minor, 1997) & COLLECT'
_computing_data_collection       'COLLECT (Hooft, 1999)'
_computing_data_reduction        'DENZO & COLLECT'
_computing_molecular_graphics    'PLATON (Spek, 2003)'
_computing_publication_material  'SHELXL-97 & PRPKAPPA (Ferguson, 1999)'
_computing_structure_refinement  'OSCAIL and SHELXL-97 (Sheldrick, 1997)'
_computing_structure_solution
'OSCAIL (McArdle, 2003) & SHELXS-97 (Sheldrick, 1997)'
_diffrn_ambient_temperature      120(2)
_diffrn_detector_area_resol_mean 9.091
_diffrn_measured_fraction_theta_full 0.997
_diffrn_measured_fraction_theta_max 0.997
_diffrn_measurement_device_type  'Bruker-Nonius KappaCCD'
_diffrn_measurement_method       'φ & ω scans'
_diffrn_radiation_monochromator  graphite
_diffrn_radiation_source         'Bruker-Nonius FR591 rotating anode'
_diffrn_radiation_type           'Mo K\a'
_diffrn_radiation_wavelength     0.71073
_diffrn_reflns_av_R_equivalents  0.0416
_diffrn_reflns_av_sigmaI/netI    0.0326
_diffrn_reflns_limit_h_max       10
_diffrn_reflns_limit_h_min       -10
_diffrn_reflns_limit_k_max       8
_diffrn_reflns_limit_k_min       -7
_diffrn_reflns_limit_l_max       29
_diffrn_reflns_limit_l_min       -29
_diffrn_reflns_number            18325
_diffrn_reflns_theta_full        27.50
_diffrn_reflns_theta_max         27.50
_diffrn_reflns_theta_min         3.54
_diffrn_standards_decay_%        0
_diffrn_standards_number         0
_exptl_absorpt_coefficient_mu    0.309
_exptl_absorpt_correction_T_max  0.994
_exptl_absorpt_correction_T_min  0.893
_exptl_absorpt_correction_type   multi-scan
_exptl_absorpt_process_details   'SADABS 2.10 (Sheldrick, 2003)'
_exptl_crystal_colour            colourless
_exptl_crystal_density_diffrn    1.440
_exptl_crystal_density_method    'not measured'
_exptl_crystal_description       plate
_exptl_crystal_F_000             536
_exptl_crystal_size_max          0.40
_exptl_crystal_size_mid          0.14
_exptl_crystal_size_min          0.02
_refine_diff_density_max         0.309
_refine_diff_density_min         -0.294
_refine_ls_extinction_method     none
_refine_ls_goodness_of_fit_ref   1.034
_refine_ls_hydrogen_treatment    constr
_refine_ls_matrix_type           full
_refine_ls_number_parameters     163
_refine_ls_number_reflns         2757
_refine_ls_number_restraints     0
_refine_ls_restrained_S_all      1.034
_refine_ls_R_factor_all          0.0557
_refine_ls_R_factor_gt           0.0368
_refine_ls_shift/su_max          0.000
_refine_ls_shift/su_mean         0.000
_refine_ls_structure_factor_coef Fsqd
_refine_ls_weighting_details
'w=1/[σ²(Fo²)+(0.0486P)²+0.4843P] where P=(Fo²+2Fc²)/3'
_refine_ls_weighting_scheme      calc
_refine_ls_wR_factor_gt          0.0886
_refine_ls_wR_factor_ref         0.0976
_reflns_number_gt                2159
_reflns_number_total             2757
_reflns_threshold_expression     I>2σ(I)
_cod_data_source_file            bm5048.cif
_cod_data_source_block           V
_cod_depositor_comments
;
The following automatic conversions were performed:
'_exptl_absorpt_correction_type' value 'Multi-scan' changed to
'multi-scan' according to
'/home/saulius/struct/CIF-dictionaries/cif_core.dic' dictionary named
'cif_core.dic' version 2.4.1 from 2010-06-29.

Automatic conversion script
Id: cif_fix_enum 1527 2010-12-29 10:47:43Z saulius 

The following automatic conversions were performed:

'_exptl_absorpt_correction_type' value 'Multi-scan' changed to
'multi-scan' according to
/home/saulius/struct/CIF-dictionaries/cif_core.dic dictionary named
'cif_core.dic' version 2.4.1 from 2010-06-29.

Automatic conversion script
Id: cif_fix_values 1715 2011-07-08 13:25:40Z adriana 
;
_cod_original_sg_symbol_H-M      'P 21/c'
_cod_database_code               2102977
loop_
_symmetry_equiv_pos_as_xyz
'x, y, z'
'-x, y+1/2, -z+1/2'
'-x, -y, -z'
'x, -y-1/2, z-1/2'
loop_
_atom_site_type_symbol
_atom_site_label
_atom_site_fract_x
_atom_site_fract_y
_atom_site_fract_z
_atom_site_U_iso_or_equiv
_atom_site_adp_type
_atom_site_calc_flag
_atom_site_refinement_flags
_atom_site_occupancy
N N11 -0.07515(16) 0.1695(2) 0.67399(6) 0.0214(3) Uani d . 1
C C12 0.01389(19) 0.3068(2) 0.64910(7) 0.0208(3) Uani d . 1
C C13 0.18814(19) 0.3082(2) 0.65489(7) 0.0192(3) Uani d . 1
C C14 0.27868(18) 0.1597(2) 0.68869(6) 0.0161(3) Uani d . 1
C C15 0.18877(19) 0.0168(2) 0.71512(7) 0.0201(3) Uani d . 1
C C16 0.01336(19) 0.0271(3) 0.70645(7) 0.0227(4) Uani d . 1
C C17 0.46874(18) 0.1534(2) 0.70072(7) 0.0157(3) Uani d . 1
O O1 0.54326(13) 0.10882(17) 0.75062(5) 0.0211(3) Uani d . 1
N N17 0.55609(15) 0.19946(19) 0.65557(5) 0.0161(3) Uani d . 1
N N27 0.47650(16) 0.21267(19) 0.59726(5) 0.0165(3) Uani d . 1
C C27 0.57369(18) 0.2355(2) 0.55758(7) 0.0170(3) Uani d . 1
C C21 0.5007(2) 0.2480(2) 0.49427(7) 0.0165(3) Uani d . 1
C C22 0.60118(19) 0.2658(2) 0.44858(7) 0.0181(3) Uani d . 1
Cl Cl22 0.82143(5) 0.27586(7) 0.466582(18) 0.02905(14) Uani d . 1
C C23 0.5319(2) 0.2757(2) 0.38862(7) 0.0212(3) Uani d . 1
C C24 0.3585(2) 0.2667(2) 0.37239(7) 0.0225(3) Uani d . 1
C C25 0.2548(2) 0.2456(2) 0.41642(7) 0.0223(3) Uani d . 1
C C26 0.32502(19) 0.2373(2) 0.47628(7) 0.0192(3) Uani d . 1
H H12 -0.0465 0.4094 0.6261 0.025 Uiso calc R 1
H H13 0.2453 0.4087 0.6361 0.023 Uiso calc R 1
H H15 0.2462 -0.0864 0.7388 0.024 Uiso calc R 1
H H16 -0.0471 -0.0721 0.7245 0.027 Uiso calc R 1
H H17 0.6666 0.1849 0.6631 0.019 Uiso d R 1
H H27 0.6926 0.2442 0.5692 0.020 Uiso calc R 1
H H23 0.6033 0.2887 0.3587 0.025 Uiso calc R 1
H H24 0.3101 0.2749 0.3313 0.027 Uiso calc R 1
H H25 0.1357 0.2369 0.4053 0.027 Uiso calc R 1
H H26 0.2528 0.2241 0.5059 0.023 Uiso calc R 1
loop_
_atom_site_aniso_label
_atom_site_aniso_U_11
_atom_site_aniso_U_22
_atom_site_aniso_U_33
_atom_site_aniso_U_12
_atom_site_aniso_U_13
_atom_site_aniso_U_23
N11 0.0143(6) 0.0298(8) 0.0202(7) -0.0003(5) 0.0023(5) -0.0005(6)
C12 0.0175(8) 0.0230(8) 0.0218(8) 0.0032(6) 0.0024(6) 0.0018(6)
C13 0.0161(7) 0.0206(8) 0.0214(8) -0.0010(6) 0.0047(6) 0.0007(6)
C14 0.0146(7) 0.0210(8) 0.0130(7) -0.0005(6) 0.0023(6) -0.0027(6)
C15 0.0167(8) 0.0253(8) 0.0177(8) 0.0000(6) 0.0004(6) 0.0039(6)
C16 0.0170(8) 0.0309(9) 0.0203(8) -0.0052(6) 0.0032(6) 0.0033(7)
C17 0.0146(7) 0.0154(7) 0.0173(8) -0.0001(6) 0.0030(6) -0.0014(6)
O1 0.0176(6) 0.0291(6) 0.0157(5) -0.0001(5) -0.0007(4) 0.0026(5)
N17 0.0095(6) 0.0237(7) 0.0145(6) 0.0000(5) 0.0002(5) -0.0007(5)
N27 0.0169(6) 0.0196(6) 0.0128(6) 0.0008(5) 0.0011(5) 0.0000(5)
C27 0.0153(7) 0.0180(8) 0.0180(8) -0.0004(6) 0.0033(6) -0.0007(6)
C21 0.0198(7) 0.0138(7) 0.0164(8) 0.0000(6) 0.0039(6) -0.0003(6)
C22 0.0194(7) 0.0164(8) 0.0192(8) -0.0015(6) 0.0052(6) 0.0000(6)
Cl22 0.0196(2) 0.0445(3) 0.0246(2) -0.00346(17) 0.00826(16) 0.00145(18)
C23 0.0302(9) 0.0169(8) 0.0181(8) -0.0021(6) 0.0088(7) -0.0003(6)
C24 0.0313(9) 0.0199(8) 0.0155(8) -0.0003(7) 0.0002(7) 0.0004(6)
C25 0.0212(8) 0.0242(8) 0.0203(8) 0.0027(7) -0.0013(6) -0.0003(6)
C26 0.0196(7) 0.0203(8) 0.0181(8) 0.0020(6) 0.0040(6) 0.0004(6)
loop_
_atom_type_symbol
_atom_type_description
_atom_type_scat_dispersion_real
_atom_type_scat_dispersion_imag
_atom_type_scat_source
C C 0.0033 0.0016 'International Tables Vol C Tables 4.2.6.8 and 6.1.1.4'
H H 0.0000 0.0000 'International Tables Vol C Tables 4.2.6.8 and 6.1.1.4'
Cl Cl 0.1484 0.1585 'International Tables Vol C Tables 4.2.6.8 and 6.1.1.4'
N N 0.0061 0.0033 'International Tables Vol C Tables 4.2.6.8 and 6.1.1.4'
O O 0.0106 0.0060 'International Tables Vol C Tables 4.2.6.8 and 6.1.1.4'
loop_
_geom_angle_atom_site_label_1
_geom_angle_atom_site_label_2
_geom_angle_atom_site_label_3
_geom_angle
_geom_angle_publ_flag
C12 N11 C16 116.74(13) no
N11 C12 C13 123.91(15) no
N11 C12 H12 118.0 no
C13 C12 H12 118.0 no
C12 C13 C14 118.85(14) no
C12 C13 H13 120.6 no
C14 C13 H13 120.6 no
C15 C14 C13 118.10(14) no
C15 C14 C17 118.57(13) no
C13 C14 C17 123.24(13) no
C14 C15 C16 118.89(15) no
C14 C15 H15 120.6 no
C16 C15 H15 120.6 no
N11 C16 C15 123.51(15) no
N11 C16 H16 118.2 no
C15 C16 H16 118.2 no
O1 C17 N17 120.67(13) no
O1 C17 C14 120.69(13) no
N17 C17 C14 118.64(13) no
C17 N17 N27 121.11(12) no
C17 N17 H17 116.5 no
N27 N17 H17 120.0 no
C27 N27 N17 115.71(12) no
N27 C27 C21 119.64(13) no
N27 C27 H27 120.2 no
C21 C27 H27 120.2 no
C22 C21 C26 116.75(14) no
C22 C21 C27 122.24(14) no
C26 C21 C27 121.00(13) no
C23 C22 C21 122.15(14) no
C23 C22 Cl22 117.83(12) no
C21 C22 Cl22 120.02(12) no
C24 C23 C22 119.71(14) no
C24 C23 H23 120.1 no
C22 C23 H23 120.1 no
C23 C24 C25 119.77(15) no
C23 C24 H24 120.1 no
C25 C24 H24 120.1 no
C26 C25 C24 120.13(15) no
C26 C25 H25 119.9 no
C24 C25 H25 119.9 no
C25 C26 C21 121.47(14) no
C25 C26 H26 119.3 no
C21 C26 H26 119.3 no
loop_
_geom_bond_atom_site_label_1
_geom_bond_atom_site_label_2
_geom_bond_distance
_geom_bond_publ_flag
N11 C12 1.339(2) no
N11 C16 1.341(2) no
C12 C13 1.380(2) no
C12 H12 0.95 no
C13 C14 1.391(2) no
C13 H13 0.95 no
C14 C15 1.386(2) no
C14 C17 1.504(2) no
C15 C16 1.389(2) no
C15 H15 0.95 no
C16 H16 0.95 no
C17 O1 1.2291(18) no
C17 N17 1.3538(19) no
N17 N27 1.3755(17) no
N17 H17 0.88 no
N27 C27 1.2793(19) no
C27 C21 1.462(2) no
C27 H27 0.95 no
C21 C22 1.403(2) no
C21 C26 1.405(2) no
C22 C23 1.384(2) no
C22 Cl22 1.7488(16) no
C23 C24 1.382(2) no
C23 H23 0.95 no
C24 C25 1.393(2) no
C24 H24 0.95 no
C25 C26 1.383(2) no
C25 H25 0.95 no
C26 H26 0.95 no
loop_
_geom_hbond_atom_site_label_D
_geom_hbond_atom_site_label_H
_geom_hbond_atom_site_label_A
_geom_hbond_site_symmetry_A
_geom_hbond_distance_DH
_geom_hbond_distance_HA
_geom_hbond_distance_DA
_geom_hbond_angle_DHA
_geom_hbond_publ_flag
N17 H17 N11 1_655 0.88 2.05 2.923(2) 175 no
C23 H23 O1 4_565 0.95 2.51 3.222(2) 132 no
C16 H16 Cg3 2_566 0.95 2.95 3.723(2) 154 no
loop_
_geom_torsion_atom_site_label_1
_geom_torsion_atom_site_label_2
_geom_torsion_atom_site_label_3
_geom_torsion_atom_site_label_4
_geom_torsion
_geom_torsion_publ_flag
C16 N11 C12 C13 0.3(2) no
N11 C12 C13 C14 -0.3(2) no
C12 C13 C14 C15 0.0(2) no
C12 C13 C14 C17 -176.53(14) no
C13 C14 C15 C16 0.4(2) no
C17 C14 C15 C16 177.09(14) no
C12 N11 C16 C15 0.1(2) no
C14 C15 C16 N11 -0.5(2) no
C15 C14 C17 O1 -38.0(2) no
C13 C14 C17 O1 138.45(16) no
C15 C14 C17 N17 142.48(15) no
C13 C14 C17 N17 -41.0(2) no
O1 C17 N17 N27 167.57(13) no
C14 C17 N17 N27 -12.9(2) no
C17 N17 N27 C27 -172.66(14) no
N17 N27 C27 C21 179.08(12) no
N27 C27 C21 C22 -177.67(14) no
N27 C27 C21 C26 0.6(2) no
C26 C21 C22 C23 1.0(2) no
C27 C21 C22 C23 179.38(14) no
C26 C21 C22 Cl22 -178.92(11) no
C27 C21 C22 Cl22 -0.6(2) no
C21 C22 C23 C24 -0.4(2) no
Cl22 C22 C23 C24 179.49(12) no
C22 C23 C24 C25 -0.7(2) no
C23 C24 C25 C26 1.2(2) no
C24 C25 C26 C21 -0.6(2) no
C22 C21 C26 C25 -0.5(2) no
C27 C21 C26 C25 -178.89(14) no
loop_
_cod_related_entry_id
_cod_related_entry_database
_cod_related_entry_code
1 ChemSpider 5259062
