#------------------------------------------------------------------------------
#$Date: 2017-10-13 07:28:26 +0200 (vie 13 de oct de 2017) $
#$Revision: 201972 $
#$URL: svn://www.crystallography.net/cod/cif/2/10/29/2102978.cif $
#------------------------------------------------------------------------------
#
# This file is available in the Crystallography Open Database (COD),
# http://www.crystallography.net/. The original data for this entry
# were provided by IUCr Journals, http://journals.iucr.org/.
#
# The file may be used within the scientific community so long as
# proper attribution is given to the journal article from which the
# data were obtained.
#
data_2102978
loop_
_publ_author_name
'Wardell, Solange M. S. V.'
'de Souza, Marcus V. N.'
'Wardell, James L.'
'Low, John N.'
'Glidewell, Christopher'
_publ_section_title
;
 Supramolecular structures in N-isonicotinoyl
 arylaldehydehydrazones: multiple hydrogen-bonding modes in series of
 geometric isomers
;
_journal_coeditor_code           BM5048
_journal_issue                   6
_journal_name_full               'Acta Crystallographica Section B'
_journal_page_first              879
_journal_page_last               895
_journal_paper_doi               10.1107/S0108768107036270
_journal_volume                  63
_journal_year                    2007
_chemical_formula_moiety         'C13 H10 Cl N3 O'
_chemical_formula_sum            'C13 H10 Cl N3 O'
_chemical_formula_weight         259.69
_chemical_name_systematic
;
N-isonicotinoyl 3-chlorobenzaldehydehydrazone
;
_space_group_IT_number           14
_symmetry_cell_setting           monoclinic
_symmetry_space_group_name_Hall  '-P 2yn'
_symmetry_space_group_name_H-M   'P 1 21/n 1'
_atom_sites_solution_hydrogens   geom
_atom_sites_solution_primary     direct
_atom_sites_solution_secondary   difmap
_cell_angle_alpha                90.00
_cell_angle_beta                 102.701(2)
_cell_angle_gamma                90.00
_cell_formula_units_Z            4
_cell_length_a                   7.4524(3)
_cell_length_b                   11.2367(4)
_cell_length_c                   14.3949(3)
_cell_measurement_reflns_used    2691
_cell_measurement_temperature    120(2)
_cell_measurement_theta_max      27.45
_cell_measurement_theta_min      2.32
_cell_volume                     1175.94(7)
_computing_cell_refinement       'DENZO (Otwinowski & Minor, 1997) & COLLECT'
_computing_data_collection       'COLLECT (Hooft, 1999)'
_computing_data_reduction        'DENZO & COLLECT'
_computing_molecular_graphics    'PLATON (Spek, 2003)'
_computing_publication_material  'SHELXL-97 & PRPKAPPA (Ferguson, 1999)'
_computing_structure_refinement  'OSCAIL and SHELXL-97 (Sheldrick, 1997)'
_computing_structure_solution
'OSCAIL (McArdle, 2003) & SHELXS-97 (Sheldrick, 1997)'
_diffrn_ambient_temperature      120(2)
_diffrn_detector_area_resol_mean 9.091
_diffrn_measured_fraction_theta_full 0.999
_diffrn_measured_fraction_theta_max 0.999
_diffrn_measurement_device_type  'Bruker-Nonius KappaCCD'
_diffrn_measurement_method       'φ & ω scans'
_diffrn_radiation_monochromator  graphite
_diffrn_radiation_source         'Bruker-Nonius FR591 rotating anode'
_diffrn_radiation_type           'Mo K\a'
_diffrn_radiation_wavelength     0.71073
_diffrn_reflns_av_R_equivalents  0.0339
_diffrn_reflns_av_sigmaI/netI    0.0308
_diffrn_reflns_limit_h_max       9
_diffrn_reflns_limit_h_min       -8
_diffrn_reflns_limit_k_max       14
_diffrn_reflns_limit_k_min       -14
_diffrn_reflns_limit_l_max       18
_diffrn_reflns_limit_l_min       -15
_diffrn_reflns_number            15675
_diffrn_reflns_theta_full        27.45
_diffrn_reflns_theta_max         27.45
_diffrn_reflns_theta_min         2.32
_diffrn_standards_decay_%        0
_diffrn_standards_number         0
_exptl_absorpt_coefficient_mu    0.315
_exptl_absorpt_correction_T_max  0.946
_exptl_absorpt_correction_T_min  0.886
_exptl_absorpt_correction_type   multi-scan
_exptl_absorpt_process_details   'SADABS 2.10 (Sheldrick, 2003)'
_exptl_crystal_colour            colourless
_exptl_crystal_density_diffrn    1.467
_exptl_crystal_density_method    'not measured'
_exptl_crystal_description       block
_exptl_crystal_F_000             536
_exptl_crystal_size_max          0.34
_exptl_crystal_size_mid          0.28
_exptl_crystal_size_min          0.18
_refine_diff_density_max         0.382
_refine_diff_density_min         -0.326
_refine_ls_extinction_method     none
_refine_ls_goodness_of_fit_ref   1.084
_refine_ls_hydrogen_treatment    constr
_refine_ls_matrix_type           full
_refine_ls_number_parameters     163
_refine_ls_number_reflns         2691
_refine_ls_number_restraints     0
_refine_ls_restrained_S_all      1.084
_refine_ls_R_factor_all          0.0568
_refine_ls_R_factor_gt           0.0381
_refine_ls_shift/su_max          0.001
_refine_ls_shift/su_mean         0.000
_refine_ls_structure_factor_coef Fsqd
_refine_ls_weighting_details
'w=1/[σ²(Fo²)+(0.0972P)²+0.0157P] where P=(Fo²+2Fc²)/3'
_refine_ls_weighting_scheme      calc
_refine_ls_wR_factor_gt          0.1161
_refine_ls_wR_factor_ref         0.1425
_reflns_number_gt                2076
_reflns_number_total             2691
_reflns_threshold_expression     I>2σ(I)
_cod_data_source_file            bm5048.cif
_cod_data_source_block           VI
_cod_depositor_comments
;
The following automatic conversions were performed:
'_exptl_absorpt_correction_type' value 'Multi-scan' changed to
'multi-scan' according to
'/home/saulius/struct/CIF-dictionaries/cif_core.dic' dictionary named
'cif_core.dic' version 2.4.1 from 2010-06-29.

Automatic conversion script
Id: cif_fix_enum 1527 2010-12-29 10:47:43Z saulius 

The following automatic conversions were performed:

'_exptl_absorpt_correction_type' value 'Multi-scan' changed to
'multi-scan' according to
/home/saulius/struct/CIF-dictionaries/cif_core.dic dictionary named
'cif_core.dic' version 2.4.1 from 2010-06-29.

Automatic conversion script
Id: cif_fix_values 1715 2011-07-08 13:25:40Z adriana 
;
_cod_original_sg_symbol_H-M      'P 21/n'
_cod_database_code               2102978
loop_
_symmetry_equiv_pos_as_xyz
'x, y, z'
'x+1/2, -y+1/2, z+1/2'
'-x, -y, -z'
'-x-1/2, y-1/2, -z-1/2'
loop_
_atom_site_type_symbol
_atom_site_label
_atom_site_fract_x
_atom_site_fract_y
_atom_site_fract_z
_atom_site_U_iso_or_equiv
_atom_site_adp_type
_atom_site_calc_flag
_atom_site_refinement_flags
_atom_site_occupancy
N N11 0.33989(19) 0.02209(12) 0.21775(9) 0.0201(3) Uani d . 1
C C12 0.2546(2) 0.12766(15) 0.21030(11) 0.0205(4) Uani d . 1
C C13 0.2716(2) 0.20830(14) 0.28515(10) 0.0189(3) Uani d . 1
C C14 0.3828(2) 0.17859(13) 0.37300(10) 0.0173(3) Uani d . 1
C C15 0.4760(2) 0.07098(15) 0.38044(10) 0.0193(4) Uani d . 1
C C16 0.4504(2) -0.00387(15) 0.30272(11) 0.0212(4) Uani d . 1
C C17 0.4036(2) 0.25233(14) 0.46237(10) 0.0192(4) Uani d . 1
O O1 0.49112(18) 0.21469(11) 0.53817(7) 0.0310(3) Uani d . 1
N N17 0.31632(18) 0.36002(12) 0.45326(8) 0.0185(3) Uani d . 1
N N27 0.32877(19) 0.42603(12) 0.53490(9) 0.0187(3) Uani d . 1
C C27 0.2404(2) 0.52468(14) 0.52636(10) 0.0183(3) Uani d . 1
C C21 0.2506(2) 0.60117(14) 0.61006(10) 0.0181(3) Uani d . 1
C C22 0.3610(2) 0.57045(14) 0.69811(10) 0.0194(4) Uani d . 1
C C23 0.3677(2) 0.64497(16) 0.77489(11) 0.0226(4) Uani d . 1
Cl Cl23 0.50652(7) 0.60557(4) 0.88451(3) 0.0389(2) Uani d . 1
C C24 0.2685(2) 0.75100(15) 0.76697(12) 0.0251(4) Uani d . 1
C C25 0.1614(2) 0.78112(15) 0.67912(12) 0.0257(4) Uani d . 1
C C26 0.1511(2) 0.70700(15) 0.60082(11) 0.0226(4) Uani d . 1
H H12 0.1783 0.1487 0.1506 0.025 Uiso calc R 1
H H13 0.2084 0.2823 0.2764 0.023 Uiso calc R 1
H H15 0.5569 0.0490 0.4386 0.023 Uiso calc R 1
H H16 0.5140 -0.0777 0.3094 0.025 Uiso calc R 1
H H17 0.2549 0.3860 0.3976 0.022 Uiso calc R 1
H H27 0.1686 0.5482 0.4662 0.022 Uiso calc R 1
H H22 0.4308 0.4990 0.7051 0.023 Uiso calc R 1
H H24 0.2745 0.8013 0.8206 0.030 Uiso calc R 1
H H25 0.0938 0.8535 0.6721 0.031 Uiso calc R 1
H H26 0.0761 0.7286 0.5409 0.027 Uiso calc R 1
loop_
_atom_site_aniso_label
_atom_site_aniso_U_11
_atom_site_aniso_U_22
_atom_site_aniso_U_33
_atom_site_aniso_U_12
_atom_site_aniso_U_13
_atom_site_aniso_U_23
N11 0.0232(7) 0.0182(7) 0.0181(6) -0.0010(6) 0.0028(5) -0.0022(5)
C12 0.0263(9) 0.0192(8) 0.0146(7) -0.0017(7) 0.0012(6) 0.0001(6)
C13 0.0228(8) 0.0148(8) 0.0179(7) 0.0016(6) 0.0023(6) 0.0011(6)
C14 0.0201(8) 0.0157(8) 0.0160(7) -0.0037(6) 0.0037(6) -0.0006(6)
C15 0.0215(8) 0.0193(8) 0.0160(7) 0.0002(6) 0.0014(6) 0.0006(6)
C16 0.0221(8) 0.0186(8) 0.0220(8) 0.0025(6) 0.0032(6) 0.0005(6)
C17 0.0239(9) 0.0169(8) 0.0156(7) -0.0016(6) 0.0021(6) -0.0003(6)
O1 0.0481(8) 0.0226(7) 0.0172(6) 0.0079(6) -0.0038(5) -0.0019(5)
N17 0.0259(7) 0.0164(7) 0.0121(6) 0.0002(6) 0.0019(5) -0.0021(5)
N27 0.0252(7) 0.0178(7) 0.0131(6) -0.0024(6) 0.0043(5) -0.0022(5)
C27 0.0214(8) 0.0180(8) 0.0160(7) -0.0008(6) 0.0053(6) 0.0003(6)
C21 0.0210(8) 0.0170(8) 0.0175(8) -0.0031(6) 0.0068(6) 0.0007(6)
C22 0.0231(8) 0.0156(8) 0.0198(8) -0.0016(6) 0.0057(6) -0.0018(6)
C23 0.0279(9) 0.0217(9) 0.0185(8) -0.0061(7) 0.0056(6) -0.0029(6)
Cl23 0.0563(4) 0.0348(3) 0.0196(3) 0.0020(2) -0.0046(2) -0.00640(17)
C24 0.0332(10) 0.0193(9) 0.0259(8) -0.0046(7) 0.0130(7) -0.0076(6)
C25 0.0316(10) 0.0165(8) 0.0321(9) 0.0015(7) 0.0141(7) -0.0015(7)
C26 0.0252(9) 0.0202(9) 0.0232(8) -0.0005(7) 0.0067(6) 0.0014(6)
loop_
_atom_type_symbol
_atom_type_description
_atom_type_scat_dispersion_real
_atom_type_scat_dispersion_imag
_atom_type_scat_source
C C 0.0033 0.0016 'International Tables Vol C Tables 4.2.6.8 and 6.1.1.4'
H H 0.0000 0.0000 'International Tables Vol C Tables 4.2.6.8 and 6.1.1.4'
Cl Cl 0.1484 0.1585 'International Tables Vol C Tables 4.2.6.8 and 6.1.1.4'
N N 0.0061 0.0033 'International Tables Vol C Tables 4.2.6.8 and 6.1.1.4'
O O 0.0106 0.0060 'International Tables Vol C Tables 4.2.6.8 and 6.1.1.4'
loop_
_geom_angle_atom_site_label_1
_geom_angle_atom_site_label_2
_geom_angle_atom_site_label_3
_geom_angle
_geom_angle_publ_flag
C12 N11 C16 116.68(13) no
N11 C12 C13 123.64(14) no
N11 C12 H12 118.2 no
C13 C12 H12 118.2 no
C14 C13 C12 118.81(15) no
C14 C13 H13 120.6 no
C12 C13 H13 120.6 no
C15 C14 C13 117.86(14) no
C15 C14 C17 117.19(13) no
C13 C14 C17 124.90(14) no
C16 C15 C14 119.43(14) no
C16 C15 H15 120.3 no
C14 C15 H15 120.3 no
N11 C16 C15 123.54(15) no
N11 C16 H16 118.2 no
C15 C16 H16 118.2 no
O1 C17 N17 122.93(14) no
O1 C17 C14 120.52(14) no
N17 C17 C14 116.53(12) no
C17 N17 N27 117.02(12) no
C17 N17 H17 121.5 no
N27 N17 H17 121.5 no
C27 N27 N17 116.61(13) no
N27 C27 C21 119.67(14) no
N27 C27 H27 120.2 no
C21 C27 H27 120.2 no
C26 C21 C22 119.59(14) no
C26 C21 C27 119.42(14) no
C22 C21 C27 120.98(14) no
C23 C22 C21 119.25(15) no
C23 C22 H22 120.4 no
C21 C22 H22 120.4 no
C22 C23 C24 121.90(15) no
C22 C23 Cl23 118.77(14) no
C24 C23 Cl23 119.33(12) no
C25 C24 C23 118.30(15) no
C25 C24 H24 120.9 no
C23 C24 H24 120.9 no
C24 C25 C26 120.89(16) no
C24 C25 H25 119.6 no
C26 C25 H25 119.6 no
C25 C26 C21 120.07(15) no
C25 C26 H26 120.0 no
C21 C26 H26 120.0 no
loop_
_geom_bond_atom_site_label_1
_geom_bond_atom_site_label_2
_geom_bond_distance
_geom_bond_publ_flag
N11 C12 1.339(2) no
N11 C16 1.348(2) no
C12 C13 1.392(2) no
C12 H12 0.95 no
C13 C14 1.392(2) no
C13 H13 0.95 no
C14 C15 1.387(2) no
C14 C17 1.509(2) no
C15 C16 1.379(2) no
C15 H15 0.95 no
C16 H16 0.95 no
C17 O1 1.2172(18) no
C17 N17 1.366(2) no
N17 N27 1.3755(17) no
N17 H17 0.88 no
N27 C27 1.281(2) no
C27 C21 1.468(2) no
C27 H27 0.95 no
C21 C26 1.392(2) no
C21 C22 1.394(2) no
C22 C23 1.379(2) no
C22 H22 0.95 no
C23 C24 1.394(3) no
C23 Cl23 1.7429(17) no
C24 C25 1.381(2) no
C24 H24 0.95 no
C25 C26 1.390(2) no
C25 H25 0.95 no
C26 H26 0.95 no
loop_
_geom_hbond_atom_site_label_D
_geom_hbond_atom_site_label_H
_geom_hbond_atom_site_label_A
_geom_hbond_site_symmetry_A
_geom_hbond_distance_DH
_geom_hbond_distance_HA
_geom_hbond_distance_DA
_geom_hbond_angle_DHA
_geom_hbond_publ_flag
N17 H17 N11 4_666 0.88 2.25 3.0776(18) 156 no
C12 H12 O1 2_454 0.95 2.43 3.316(2) 154 no
loop_
_geom_torsion_atom_site_label_1
_geom_torsion_atom_site_label_2
_geom_torsion_atom_site_label_3
_geom_torsion_atom_site_label_4
_geom_torsion
_geom_torsion_publ_flag
C16 N11 C12 C13 -1.4(2) no
N11 C12 C13 C14 -0.1(2) no
C12 C13 C14 C15 2.0(2) no
C12 C13 C14 C17 -175.23(14) no
C13 C14 C15 C16 -2.4(2) no
C17 C14 C15 C16 175.05(14) no
C12 N11 C16 C15 1.0(2) no
C14 C15 C16 N11 0.9(2) no
C15 C14 C17 O1 -3.8(2) no
C13 C14 C17 O1 173.48(15) no
C15 C14 C17 N17 177.74(14) no
C13 C14 C17 N17 -5.0(2) no
O1 C17 N17 N27 -0.8(2) no
C14 C17 N17 N27 177.67(13) no
C17 N17 N27 C27 -177.27(14) no
N17 N27 C27 C21 -178.64(13) no
N27 C27 C21 C26 -178.61(15) no
N27 C27 C21 C22 2.6(2) no
C26 C21 C22 C23 0.8(2) no
C27 C21 C22 C23 179.62(14) no
C21 C22 C23 C24 -0.6(2) no
C21 C22 C23 Cl23 -179.93(12) no
C22 C23 C24 C25 -0.2(3) no
Cl23 C23 C24 C25 179.17(13) no
C23 C24 C25 C26 0.7(3) no
C24 C25 C26 C21 -0.5(3) no
C22 C21 C26 C25 -0.3(2) no
C27 C21 C26 C25 -179.11(15) no
loop_
_cod_related_entry_id
_cod_related_entry_database
_cod_related_entry_code
1 ChemSpider 4497021
